Felt | Verdi |
AlreadyApplied | True |
Aperture | 2.8 |
ApertureValue | 2.8 |
Artist | John Arne Imenes |
BitsPerSample | 8 |
BlueHue | 0 |
BlueSaturation | 0 |
Brightness | 0 |
By-line | John Arne Imenes |
CameraProfile | Embedded |
ChromaticAberrationB | 0 |
ChromaticAberrationR | 0 |
Clarity | 0 |
ColorComponents | 3 |
ColorMode | RGB |
ColorNoiseReduction | 0 |
ColorSpace | Uncalibrated |
Contrast (2) | 0 |
Contrast | Normal |
ConvertToGrayscale | False |
Copyright | John Arne Imenes |
CopyrightFlag | True |
CopyrightNotice | John Arne Imenes |
CreateDate (1) | 2011:02:07 15:17:29+01:00 |
CreateDate | 2011:02:07 15:17:29 |
Creator | John Arne Imenes |
CreatorAddress | Skarphagaveien 87 |
CreatorCity | Nøtterøy |
CreatorCountry | Norway |
CreatorPostalCode | 3140 |
CreatorRegion | Vestfold |
CreatorTool | Adobe Photoshop Lightroom 3.3 |
CreatorWorkEmail | jaibris@gmail.com |
CreatorWorkTelephone | +4747463694 |
CropAngle | 0 |
CropBottom | 0.959204 |
CropConstrainToWarp | 0 |
CropHeight | 2667 |
CropLeft | 0 |
CropRight | 1 |
CropTop | 0.070316 |
CropUnit | pixels |
CropWidth | 4000 |
CustomRendered | Normal |
DateTimeDigitized | 2011:02:07 15:17:29+01:00 |
DateTimeOriginal (1) | 2011:02:07 15:17:29+01:00 |
DateTimeOriginal | 2011:02:07 15:17:29 |
Defringe | 0 |
ExifImageHeight | 3494 |
ExifImageWidth | 4827 |
Exposure | 0.00 |
ExposureCompensation | 0 |
ExposureMode | Auto |
ExposureProgram | Program AE |
ExposureTime | 1/20 |
FillLight | 0 |
Flash | Off, Did not fire |
FlashFired | False |
FlashFunction | False |
FlashMode | Off |
FlashRedEyeMode | False |
FlashReturn | No return detection |
FNumber | 2.8 |
FocalLength | 5.8 mm |
FocalLength35efl | 5.8 mm |
Format | image/jpeg |
GPSAltitudeRef | Above Sea Level |
GPSLatitude (1) | 53 deg 24' 6.08" N |
GPSLatitude (2) | 53 deg 24' 6.09" |
GPSLatitude | 53 deg 24' 6.09" N |
GPSLatitudeRef | North |
GPSLongitude (2) | 2 deg 59' 18.82" |
GPSLongitude | 2 deg 59' 18.82" W |
GPSLongitudeRef | West |
GPSPosition | 53 deg 24' 6.09" N, 2 deg 59' 18.82" W |
GPSVersionID | 2.2.0.0 |
GrainAmount | 0 |
GreenHue | 0 |
GreenSaturation | 0 |
HasCrop | True |
HasSettings | True |
HighlightRecovery | 0 |
HueAdjustmentAqua | 0 |
HueAdjustmentBlue | 0 |
HueAdjustmentGreen | 0 |
HueAdjustmentMagenta | 0 |
HueAdjustmentOrange | 0 |
HueAdjustmentPurple | 0 |
HueAdjustmentRed | 0 |
HueAdjustmentYellow | 0 |
ICCProfileName | Adobe RGB (1998) |
ImageHeight (1) | 2667 |
ImageHeight | 3494 |
ImageSize | 4827x3494 |
ImageWidth (1) | 4000 |
ImageWidth | 4827 |
IncrementalTemperature | 0 |
IncrementalTint | 0 |
ISO | 400 |
LensManualDistortionAmount | 0 |
LensProfileEnable | 0 |
LensProfileSetup | LensDefaults |
LightSource | Unknown |
LightValue | 5.3 |
LuminanceAdjustmentAqua | 0 |
LuminanceAdjustmentBlue | 0 |
LuminanceAdjustmentGreen | 0 |
LuminanceAdjustmentMagenta | 0 |
LuminanceAdjustmentOrange | 0 |
LuminanceAdjustmentPurple | 0 |
LuminanceAdjustmentRed | 0 |
LuminanceAdjustmentYellow | 0 |
LuminanceSmoothing | 0 |
Make | SONY |
Marked | True |
MaxApertureValue | 2.4 |
Megapixels | 16.9 |
MeteringMode | Multi-segment |
Model | DSC-WX5 |
ModifyDate (1) | 2011:02:13 19:41:13+01:00 |
ModifyDate | 2011:02:13 19:41:13 |
Orientation | Horizontal (normal) |
ParametricDarks | 0 |
ParametricHighlights | 0 |
ParametricHighlightSplit | 75 |
ParametricLights | +15 |
ParametricMidtoneSplit | 50 |
ParametricShadows | 0 |
ParametricShadowSplit | 25 |
PerspectiveHorizontal | 0 |
PerspectiveRotate | 0.0 |
PerspectiveScale | 100 |
PerspectiveVertical | 0 |
PostCropVignetteAmount | 0 |
ProcessVersion | 5.7 |
ProfileDescription | Adobe RGB (1998) |
RedHue | 0 |
RedSaturation | 0 |
Rights | John Arne Imenes |
Saturation (2) | 0 |
Saturation | Normal |
SaturationAdjustmentAqua | 0 |
SaturationAdjustmentBlue | 0 |
SaturationAdjustmentGreen | 0 |
SaturationAdjustmentMagenta | 0 |
SaturationAdjustmentOrange | 0 |
SaturationAdjustmentPurple | 0 |
SaturationAdjustmentRed | 0 |
SaturationAdjustmentYellow | 0 |
SceneCaptureType | Standard |
SceneType | Directly photographed |
SensitivityType | Unknown |
Shadows | 0 |
ShadowTint | 0 |
SharpenDetail | 25 |
SharpenEdgeMasking | 0 |
SharpenRadius | +1.0 |
Sharpness (2) | 29 |
Sharpness | Normal |
ShutterSpeed | 1/20 |
ShutterSpeedValue | 1/20 |
Software | Adobe Photoshop Elements 9.0 Macintosh |
SplitToningBalance | 0 |
SplitToningHighlightHue | 0 |
SplitToningHighlightSaturation | 0 |
SplitToningShadowHue | 0 |
SplitToningShadowSaturation | 0 |
ToneCurve | 0, 0, 255, 255 |
ToneCurveName | Linear |
URL_List | |
Version | 6.3 |
Vibrance | +18 |
VignetteAmount | 0 |
WhiteBalance (2) | As Shot |
WhiteBalance | Auto |