Felt | Verdi |
AlreadyApplied | True |
Aperture | 9.0 |
ApertureValue | 9.0 |
ApproximateFocusDistance | 0.45 |
BitsPerSample | 8 |
BlueHue | 0 |
BlueSaturation | 0 |
Brightness | +64 |
CameraProfile | Adobe Standard |
CFAPattern | [Red,Green][Green,Blue] |
ChromaticAberrationB | 0 |
ChromaticAberrationR | 0 |
CircleOfConfusion | 0.020 mm |
Clarity | +86 |
ColorComponents | 3 |
ColorMode | RGB |
ColorNoiseReduction | 25 |
ColorNoiseReductionDetail | 50 |
ColorSpace | sRGB |
ColorTemperature | 4600 |
Contrast (2) | +81 |
Contrast | Normal |
ConvertToGrayscale | False |
CreateDate (1) | 2011:02:21 14:04:52.60+01:00 |
CreateDate | 2011:02:21 14:04:52 |
CreatorTool | Ver.1.03 |
CustomRendered | Normal |
DateAcquired | 2011:02:21 17:17:16Z |
DateTimeDigitized | 2011:02:21 14:04:52+01:00 |
DateTimeOriginal (1) | 2011:02:21 14:04:52.60+01:00 |
DateTimeOriginal | 2011:02:21 14:04:52 |
Defringe | 0 |
DigitalZoomRatio | 1 |
DOF | 0.02 m (0.44 - 0.46 m) |
ExifImageHeight | 787 |
ExifImageWidth | 1181 |
Exposure | -1.00 |
ExposureCompensation | +2/3 |
ExposureMode | Auto |
ExposureProgram | Program AE |
ExposureTime | 1/200 |
FillLight | 0 |
Flash | No Flash |
FlashFired | False |
FlashFunction | False |
FlashMode | Unknown |
FlashRedEyeMode | False |
FlashReturn | No return detection |
FNumber | 9.0 |
FocalLength | 56.0 mm |
FocalLength35efl | 56.0 mm (35 mm equivalent: 84.0 mm) |
FocalLengthIn35mmFormat | 84 mm |
Format | image/jpeg |
FOV | 24.2 deg |
GainControl | None |
GrainAmount | 0 |
GreenHue | 0 |
GreenSaturation | 0 |
HasCrop | False |
HasSettings | True |
HighlightRecovery | 0 |
HueAdjustmentAqua | 0 |
HueAdjustmentBlue | 0 |
HueAdjustmentGreen | 0 |
HueAdjustmentMagenta | 0 |
HueAdjustmentOrange | 0 |
HueAdjustmentPurple | 0 |
HueAdjustmentRed | 0 |
HueAdjustmentYellow | 0 |
HyperfocalDistance | 17.40 m |
ICCProfileName | sRGB IEC61966-2.1 |
ImageHeight | 787 |
ImageNumber | 11232 |
ImageSize | 1181x787 |
ImageWidth | 1181 |
ISO | 200 |
Lens | 16.0-85.0 mm f/3.5-5.6 |
LensID (1) | 153 |
LensID | AF-S DX VR Zoom-Nikkor 16-85mm f/3.5-5.6G ED |
LensInfo | 16-85mm f/3.5-5.6 |
LensManualDistortionAmount | 0 |
LensModel | 16.0-85.0 mm f/3.5-5.6 |
LensProfileEnable | 0 |
LensProfileSetup | LensDefaults |
LightSource | Unknown |
LightValue | 13.0 |
LuminanceAdjustmentAqua | 0 |
LuminanceAdjustmentBlue | 0 |
LuminanceAdjustmentGreen | 0 |
LuminanceAdjustmentMagenta | 0 |
LuminanceAdjustmentOrange | 0 |
LuminanceAdjustmentPurple | 0 |
LuminanceAdjustmentRed | 0 |
LuminanceAdjustmentYellow | 0 |
LuminanceSmoothing | 0 |
Make | NIKON CORPORATION |
MaxApertureValue | 5.3 |
Megapixels | 0.929 |
MeteringMode | Center-weighted average |
Model | NIKON D300 |
ModifyDate (1) | 2011:02:23 09:40:28+01:00 |
ModifyDate | 2011:02:23 09:40:28 |
Orientation | Horizontal (normal) |
ParametricDarks | 0 |
ParametricHighlights | 0 |
ParametricHighlightSplit | 75 |
ParametricLights | 0 |
ParametricMidtoneSplit | 50 |
ParametricShadows | 0 |
ParametricShadowSplit | 25 |
PerspectiveHorizontal | 0 |
PerspectiveRotate | 0.0 |
PerspectiveScale | 100 |
PerspectiveVertical | 0 |
PostCropVignetteAmount | 0 |
ProcessVersion | 5.7 |
ProfileDescription | sRGB IEC61966-2.1 |
Rating | 0 |
RawFileName | 068.NEF |
RedHue | 0 |
RedSaturation | 0 |
Saturation (2) | 0 |
Saturation | Normal |
SaturationAdjustmentAqua | 0 |
SaturationAdjustmentBlue | 0 |
SaturationAdjustmentGreen | 0 |
SaturationAdjustmentMagenta | 0 |
SaturationAdjustmentOrange | 0 |
SaturationAdjustmentPurple | 0 |
SaturationAdjustmentRed | 0 |
SaturationAdjustmentYellow | 0 |
ScaleFactor35efl | 1.5 |
SceneCaptureType | Standard |
SceneType | Directly photographed |
SensingMethod | One-chip color area |
SensitivityType | Unknown |
SerialNumber | 4133996 |
Shadows | 14 |
ShadowTint | 0 |
SharpenDetail | 25 |
SharpenEdgeMasking | 0 |
SharpenRadius | +1.0 |
Sharpness (2) | 25 |
Sharpness | Normal |
ShutterSpeed | 1/200 |
ShutterSpeedValue | 1/200 |
SidecarForExtension | NEF |
Software | Adobe Photoshop Elements 9.0 Windows |
SplitToningBalance | 0 |
SplitToningHighlightHue | 0 |
SplitToningHighlightSaturation | 0 |
SplitToningShadowHue | 0 |
SplitToningShadowSaturation | 0 |
SubjectDistance | 0.45 m |
SubjectDistanceRange | Unknown |
Tint | +8 |
ToneCurve | 0, 0, 32, 22, 64, 56, 128, 128, 192, 196, 255, 255 |
ToneCurveName | Medium Contrast |
URL_List | |
Version | 6.3 |
Vibrance | +64 |
VignetteAmount | 0 |
WhiteBalance (2) | As Shot |
WhiteBalance | Auto |