Felt | Verdi |
AlreadyApplied | True |
BitsPerSample | 8 |
BlueHue | 0 |
BlueSaturation | 0 |
Brightness | 0 |
CameraProfile | Embedded |
CFAPattern | [Blue,Green][Green,Red] |
ChromaticAberrationB | 0 |
ChromaticAberrationR | 0 |
Clarity | 0 |
ColorComponents | 3 |
ColorNoiseReduction | 0 |
Contrast (2) | 0 |
Contrast | Normal |
ConvertToGrayscale | False |
CreateDate (1) | 2011:01:29 15:42:11.80+01:00 |
CreateDate | 2011:01:29 15:42:11 |
CreatorTool | Adobe Photoshop Lightroom |
CustomRendered | Normal |
DateTimeDigitized | 2011:01:29 15:42:11.80+01:00 |
DateTimeOriginal (1) | 2011:01:29 15:42:11.80+01:00 |
DateTimeOriginal | 2011:01:29 15:42:11 |
Defringe | 0 |
DigitalZoomRatio | 1 |
ExifImageHeight | 2000 |
ExifImageWidth | 3008 |
Exposure | -1.39 |
ExposureCompensation | 0 |
ExposureMode | Manual |
ExposureProgram | Manual |
ExposureTime | 1/160 |
FillLight | 0 |
Flash | No Flash |
FlashFired | False |
FlashFunction | False |
FlashMode | Unknown |
FlashRedEyeMode | False |
FlashReturn | No return detection |
GainControl | None |
GrainAmount | 0 |
GreenHue | 0 |
GreenSaturation | 0 |
HasCrop | False |
HasSettings | True |
HighlightRecovery | 100 |
HueAdjustmentAqua | 0 |
HueAdjustmentBlue | 0 |
HueAdjustmentGreen | 0 |
HueAdjustmentMagenta | 0 |
HueAdjustmentOrange | 0 |
HueAdjustmentPurple | 0 |
HueAdjustmentRed | 0 |
HueAdjustmentYellow | 0 |
ImageHeight | 2000 |
ImageNumber | 5457 |
ImageSize | 3008x2000 |
ImageWidth | 3008 |
IncrementalTemperature | 0 |
IncrementalTint | 0 |
ISO | 400 |
Lens | 0.0 mm f/0.0 |
LensInfo | 0mm f/0 |
LensManualDistortionAmount | 0 |
LensProfileEnable | 0 |
LensProfileSetup | LensDefaults |
LightSource | Unknown |
LuminanceAdjustmentAqua | 0 |
LuminanceAdjustmentBlue | 0 |
LuminanceAdjustmentGreen | 0 |
LuminanceAdjustmentMagenta | 0 |
LuminanceAdjustmentOrange | 0 |
LuminanceAdjustmentPurple | 0 |
LuminanceAdjustmentRed | 0 |
LuminanceAdjustmentYellow | 0 |
LuminanceNoiseReductionContrast | 11 |
LuminanceNoiseReductionDetail | 44 |
LuminanceSmoothing | 39 |
Make | NIKON CORPORATION |
MaxApertureValue | 1.0 |
Megapixels | 6.0 |
MeteringMode | Center-weighted average |
Model | NIKON D70 |
ModifyDate (1) | 2011:03:04 12:34:59+01:00 |
ModifyDate | 2011:03:04 12:34:59 |
PaintCorrectionActive | true |
PaintCorrectionAmount | 1.000000 |
PaintCorrectionBrightness | 0.290000 |
PaintCorrectionClarity | -0.204000 |
PaintCorrectionContrast | 0.290000 |
PaintCorrectionExposure | 0.183000 |
PaintCorrectionHue | 0.000000 |
PaintCorrectionMaskCenterWeight | 0.000000 |
PaintCorrectionMaskFlow | 1.000000 |
PaintCorrectionMaskRadius | 0.272775 |
PaintCorrectionMaskValue | 1.000000 |
PaintCorrectionMaskWhat | Mask/Paint |
PaintCorrectionSaturation (1) | -0.140000 |
PaintCorrectionSaturation | 0.000000 |
PaintCorrectionSharpness | 0.441000 |
PaintCorrectionWhat | Correction |
ParametricDarks | 0 |
ParametricHighlights | 0 |
ParametricHighlightSplit | 75 |
ParametricLights | 0 |
ParametricMidtoneSplit | 50 |
ParametricShadows | 0 |
ParametricShadowSplit | 25 |
PerspectiveHorizontal | 0 |
PerspectiveRotate | 0.0 |
PerspectiveScale | 100 |
PerspectiveVertical | 0 |
PostCropVignetteAmount | 0 |
ProcessVersion | 5.7 |
ProfileDescription | sRGB IEC61966-2.1 |
RedHue | 0 |
RedSaturation | 0 |
Saturation (2) | 0 |
Saturation | Normal |
SaturationAdjustmentAqua | 0 |
SaturationAdjustmentBlue | 0 |
SaturationAdjustmentGreen | 0 |
SaturationAdjustmentMagenta | 0 |
SaturationAdjustmentOrange | 0 |
SaturationAdjustmentPurple | 0 |
SaturationAdjustmentRed | 0 |
SaturationAdjustmentYellow | 0 |
SceneCaptureType | Standard |
SceneType | Directly photographed |
SensingMethod | One-chip color area |
SerialNumber | 3001b414 |
Shadows | 0 |
ShadowTint | 0 |
SharpenDetail | 31 |
SharpenEdgeMasking | 36 |
SharpenRadius | +1.5 |
Sharpness (2) | 72 |
Sharpness | Normal |
ShutterSpeed | 1/160 |
ShutterSpeedValue | 1/160 |
Software | Ver.1.02 |
SplitToningBalance | 0 |
SplitToningHighlightHue | 0 |
SplitToningHighlightSaturation | 0 |
SplitToningShadowHue | 0 |
SplitToningShadowSaturation | 0 |
SubjectDistanceRange | Unknown |
ToneCurve | 0, 0, 255, 255 |
ToneCurveName | Linear |
Version | 6.1 |
Vibrance | 0 |
VignetteAmount | 0 |
WhiteBalance (2) | As Shot |
WhiteBalance | Auto |