Felt | Verdi |
AlreadyApplied | True |
Aperture | 8.0 |
ApertureValue | 8.0 |
ApproximateFocusDistance | 1 |
BitsPerSample (1) | 8 8 8 |
BitsPerSample | 8 |
BlueHue | 0 |
BlueSaturation | 0 |
Brightness | +50 |
CameraProfile | Adobe Standard |
CFAPattern | [Red,Green][Green,Blue] |
ChromaticAberrationB | 0 |
ChromaticAberrationR | 0 |
CircleOfConfusion | 0.020 mm |
Clarity | 0 |
ColorComponents | 3 |
ColorMode | RGB |
ColorNoiseReduction | 25 |
ColorNoiseReductionDetail | 50 |
ColorSpace | sRGB |
ColorTemperature | 6206 |
Contrast (1) | +40 |
Contrast | Normal |
ConvertToGrayscale | False |
CreateDate (1) | 2011:03:11 18:36:31.24+01:00 |
CreateDate | 2011:03:11 18:36:31 |
CreatorTool | Adobe Photoshop CS5 Windows |
CropAngle | 0 |
CropBottom | 0.990312 |
CropConstrainToWarp | 1 |
CropHeight | 2633 |
CropLeft | 0.067332 |
CropRight | 0.988483 |
CropTop | 0.06571 |
CropUnit | pixels |
CropWidth | 3950 |
CustomRendered | Normal |
DateCreated (1) | 2011:03:11 |
DateCreated | 2011:03:11 18:36:31.024 |
DateTimeOriginal | 2011:03:11 18:36:31 |
Defringe | 0 |
DigitalZoomRatio | 1 |
DOF | inf (0.48 m - inf) |
ExifImageHeight | 800 |
ExifImageWidth | 1200 |
Exposure | 0.00 |
ExposureCompensation | +5/3 |
ExposureMode | Auto |
ExposureProgram | Aperture-priority AE |
ExposureTime | 1/200 |
FillLight | 49 |
Flash | No Flash |
FNumber | 8.0 |
FocalLength | 12.0 mm |
FocalLength35efl | 12.0 mm (35 mm equivalent: 18.0 mm) |
FocalLengthIn35mmFormat | 18 mm |
Format | image/jpeg |
FOV | 90.0 deg |
GainControl | None |
GPSAltitude (1) | 0 m |
GPSAltitude | 0 m Above Sea Level |
GPSAltitudeRef | Below Sea Level |
GPSDateStamp | 2011:03:11 |
GPSDateTime | 2011:03:11 16:32:47Z |
GPSLatitude (1) | 62 deg 15' 8.44" |
GPSLatitude | 62 deg 15' 8.44" N |
GPSLatitudeRef | North |
GPSLongitude (1) | 5 deg 31' 47.59" |
GPSLongitude | 5 deg 31' 47.59" E |
GPSLongitudeRef | East |
GPSPosition | 62 deg 15' 8.44" N, 5 deg 31' 47.59" E |
GPSSatellites | 10 |
GPSTimeStamp | 16:32:47 |
GPSVersionID | 2.2.0.0 |
GradientBasedCorrActive | true |
GradientBasedCorrAmount | 1.000000 |
GradientBasedCorrBrightness (1) | -0.239000 |
GradientBasedCorrBrightness | 0.044000 |
GradientBasedCorrClarity (1) | 0.540000 |
GradientBasedCorrClarity | 0.257000 |
GradientBasedCorrContrast (1) | 0.699000 |
GradientBasedCorrContrast | 0.628000 |
GradientBasedCorrExposure (1) | -0.398000 |
GradientBasedCorrExposure | -0.080000 |
GradientBasedCorrHue | 0.000000 |
GradientBasedCorrMaskFullX (1) | 0.555077 |
GradientBasedCorrMaskFullX | 0.533569 |
GradientBasedCorrMaskFullY (1) | 0.392722 |
GradientBasedCorrMaskFullY | 0.061186 |
GradientBasedCorrMaskValue | 1.000000 |
GradientBasedCorrMaskWhat | Mask/Gradient |
GradientBasedCorrMaskZeroX (1) | 0.558410 |
GradientBasedCorrMaskZeroX | 0.434461 |
GradientBasedCorrMaskZeroY (1) | 0.677306 |
GradientBasedCorrMaskZeroY | 0.520484 |
GradientBasedCorrSaturation (1) | 0.292000 |
GradientBasedCorrSaturation (3) | 0.150000 |
GradientBasedCorrSaturation | 0.000000 |
GradientBasedCorrSharpness | 0.000000 |
GradientBasedCorrWhat | Correction |
GrainAmount | 0 |
GreenHue | 0 |
GreenSaturation | 0 |
HasCrop | True |
HasSettings | True |
HighlightRecovery | 0 |
HueAdjustmentAqua | 0 |
HueAdjustmentBlue | 0 |
HueAdjustmentGreen | 0 |
HueAdjustmentMagenta | 0 |
HueAdjustmentOrange | 0 |
HueAdjustmentPurple | 0 |
HueAdjustmentRed | 0 |
HueAdjustmentYellow | 0 |
HyperfocalDistance | 0.90 m |
ICCProfileName | sRGB IEC61966-2.1 |
ImageHeight (1) | 2633 |
ImageHeight | 800 |
ImageNumber | 28819 |
ImageSize | 1200x800 |
ImageWidth (1) | 3950 |
ImageWidth | 1200 |
ISO | 320 |
Lens | 12.0-24.0 mm f/4.0 |
LensID (1) | 122 |
LensID | AF-S DX Zoom-Nikkor 12-24mm f/4G IF-ED or Tokina AT-X 124 AF PRO DX II (AF 12-24mm f/4) |
LensInfo | 12-24mm f/4 |
LensManualDistortionAmount | +7 |
LensModel | 12.0-24.0 mm f/4.0 |
LensProfileEnable | 0 |
LensProfileSetup | LensDefaults |
LightSource | Unknown |
LightValue | 12.0 |
LuminanceAdjustmentAqua | 0 |
LuminanceAdjustmentBlue | 0 |
LuminanceAdjustmentGreen | 0 |
LuminanceAdjustmentMagenta | 0 |
LuminanceAdjustmentOrange | 0 |
LuminanceAdjustmentPurple | 0 |
LuminanceAdjustmentRed | 0 |
LuminanceAdjustmentYellow | 0 |
LuminanceNoiseReductionContrast | 0 |
LuminanceNoiseReductionDetail | 50 |
LuminanceSmoothing | 8 |
Make | NIKON CORPORATION |
MaxApertureValue | 4.0 |
Megapixels | 0.960 |
MeteringMode | Center-weighted average |
Model | NIKON D300 |
ModifyDate (1) | 2011:03:12 20:04:52+01:00 |
ModifyDate | 2011:03:12 20:04:52 |
Orientation | Horizontal (normal) |
PaintCorrectionActive | true |
PaintCorrectionAmount | 1.000000 |
PaintCorrectionBrightness | -0.044000 |
PaintCorrectionClarity | 0.000000 |
PaintCorrectionContrast | 0.310000 |
PaintCorrectionExposure | -0.062000 |
PaintCorrectionHue | 0.000000 |
PaintCorrectionMaskCenterWeight | 0.000000 |
PaintCorrectionMaskFlow | 1.000000 |
PaintCorrectionMaskRadius (1) | 0.052876 |
PaintCorrectionMaskRadius (10) | 0.053565 |
PaintCorrectionMaskRadius (11) | 0.053518 |
PaintCorrectionMaskRadius (12) | 0.053547 |
PaintCorrectionMaskRadius (13) | 0.053469 |
PaintCorrectionMaskRadius (2) | 0.052951 |
PaintCorrectionMaskRadius (3) | 0.052657 |
PaintCorrectionMaskRadius (4) | 0.053503 |
PaintCorrectionMaskRadius (5) | 0.053155 |
PaintCorrectionMaskRadius (6) | 0.052005 |
PaintCorrectionMaskRadius (7) | 0.053397 |
PaintCorrectionMaskRadius (8) | 0.053560 |
PaintCorrectionMaskRadius (9) | 0.053463 |
PaintCorrectionMaskRadius | 0.053390 |
PaintCorrectionMaskValue | 1.000000 |
PaintCorrectionMaskWhat | Mask/Paint |
PaintCorrectionSaturation (1) | 0.044000 |
PaintCorrectionSaturation | 0.000000 |
PaintCorrectionSharpness | 0.000000 |
PaintCorrectionWhat | Correction |
ParametricDarks | 0 |
ParametricHighlights | 0 |
ParametricHighlightSplit | 75 |
ParametricLights | 0 |
ParametricMidtoneSplit | 50 |
ParametricShadows | 0 |
ParametricShadowSplit | 25 |
PerspectiveHorizontal | 0 |
PerspectiveRotate | 0.0 |
PerspectiveScale | 100 |
PerspectiveVertical | 0 |
PhotometricInterpretation | RGB |
PostCropVignetteAmount | 0 |
ProcessVersion | 5.7 |
ProfileDescription | sRGB IEC61966-2.1 |
RedHue | 0 |
RedSaturation | 0 |
Saturation (1) | +27 |
Saturation | Normal |
SaturationAdjustmentAqua | 0 |
SaturationAdjustmentBlue | 0 |
SaturationAdjustmentGreen | 0 |
SaturationAdjustmentMagenta | 0 |
SaturationAdjustmentOrange | +59 |
SaturationAdjustmentPurple | 0 |
SaturationAdjustmentRed | 0 |
SaturationAdjustmentYellow | +48 |
ScaleFactor35efl | 1.5 |
SceneCaptureType | Standard |
SceneType | Directly photographed |
SensingMethod | One-chip color area |
SensitivityType | Unknown |
SerialNumber | 7021557 |
Shadows | 3 |
ShadowTint | 0 |
SharpenDetail | 25 |
SharpenEdgeMasking | 7 |
SharpenRadius | +1.2 |
Sharpness (1) | 64 |
Sharpness | Normal |
ShutterSpeed | 1/200 |
ShutterSpeedValue | 1/200 |
Software | Adobe Photoshop CS5 Windows |
SplitToningBalance | 0 |
SplitToningHighlightHue | 0 |
SplitToningHighlightSaturation | 0 |
SplitToningShadowHue | 0 |
SplitToningShadowSaturation | 0 |
SubjectDistance | 1 m |
SubjectDistanceRange | Unknown |
Tint | +4 |
ToneCurve | 0, 0, 32, 22, 64, 56, 128, 128, 192, 196, 255, 255 |
ToneCurveName | Medium Contrast |
URL_List | |
Version | 6.3 |
Vibrance | +23 |
VignetteAmount | 0 |
WhiteBalance (1) | Custom |
WhiteBalance | Auto |