Felt | Verdi |
AlreadyApplied | True |
Aperture | 22.0 |
ApertureValue | 22.0 |
BitsPerSample | 8 |
BlueHue | +11 |
BlueSaturation | -21 |
Brightness | +99 |
CameraProfile | ACR 4.5 |
CFAPattern | [Red,Green][Green,Blue] |
ChromaticAberrationB | 0 |
ChromaticAberrationR | 0 |
Clarity | -100 |
ColorComponents | 3 |
ColorNoiseReduction | 25 |
ColorTemperature | 5200 |
Contrast (2) | +47 |
Contrast | High |
ConvertToGrayscale | True |
CreateDate (1) | 2011:01:29 17:25:37+01:00 |
CreateDate | 2011:01:29 17:25:37 |
CreatorTool | Adobe Photoshop Lightroom |
CropAngle | 0 |
CropBottom | 1 |
CropHeight | 2464 |
CropLeft | 0 |
CropRight | 0.955224 |
CropTop | 0.099338 |
CropUnit | pixels |
CropWidth | 3485 |
CustomRendered | Normal |
DateTimeOriginal (1) | 2011:01:29 17:25:37+01:00 |
DateTimeOriginal | 2011:01:29 17:25:37 |
Defringe | 0 |
Description | OLYMPUS DIGITAL CAMERA |
DigitalZoomRatio | 1 |
ExifImageHeight | 3485 |
ExifImageWidth | 2464 |
Exposure | +1.10 |
ExposureCompensation | -1 |
ExposureMode | Manual |
ExposureProgram | Aperture-priority AE |
ExposureTime | 8 |
FillLight | 0 |
Flash | Auto, Did not fire |
FlashCompensation | 0 |
FlashFired | False |
FlashFunction | False |
FlashMode | Auto |
FlashRedEyeMode | False |
FlashReturn | No return detection |
FNumber | 22.0 |
FocalLength | 10.0 mm |
FocalLength35efl | 10.0 mm |
GainControl | None |
GrayMixerAqua | -10 |
GrayMixerBlue | +19 |
GrayMixerGreen | -9 |
GrayMixerMagenta | +30 |
GrayMixerOrange | +20 |
GrayMixerPurple | +25 |
GrayMixerRed | +34 |
GrayMixerYellow | +9 |
GreenHue | +16 |
GreenSaturation | +51 |
HasCrop | True |
HasSettings | True |
HighlightRecovery | 0 |
ImageDescription | OLYMPUS DIGITAL CAMERA |
ImageHeight | 3485 |
ImageSize | 2464x3485 |
ImageWidth | 2464 |
ISO | 100 |
Lens | 10.0-20.0 mm f/4.0-5.6 |
LensInfo | 10-20mm f/4-5.6 |
LensSerialNumber | 000000000 |
LightSource | Unknown |
LightValue | 5.9 |
LuminanceSmoothing | 0 |
Make | OLYMPUS IMAGING CORP. |
MaxApertureValue | 4.0 |
Megapixels | 8.6 |
MeteringMode | Multi-segment |
Model | E-520 |
ModifyDate (1) | 2011:03:12 23:24:39+01:00 |
ModifyDate | 2011:03:12 23:24:39 |
ParametricDarks | 0 |
ParametricHighlights | 0 |
ParametricHighlightSplit | 75 |
ParametricLights | -2 |
ParametricMidtoneSplit | 50 |
ParametricShadows | 0 |
ParametricShadowSplit | 25 |
PostCropVignetteAmount | 0 |
RedHue | +23 |
RedSaturation | +10 |
RelatedImageHeight | 3485 |
RelatedImageWidth | 2464 |
Saturation | High |
SceneCaptureType | Standard |
SerialNumber | G28512150 |
Shadows | 1 |
ShadowTint | +4 |
SharpenDetail | 25 |
SharpenEdgeMasking | 0 |
SharpenRadius | +1.0 |
Sharpness (2) | 25 |
Sharpness | Hard |
ShutterSpeed | 8 |
ShutterSpeedValue | 8 |
Software | Version 1.0 |
SplitToningBalance | 0 |
SplitToningHighlightHue | 215 |
SplitToningHighlightSaturation | 49 |
SplitToningShadowHue | 216 |
SplitToningShadowSaturation | 12 |
Subject | korten, neighbours, slakteriet |
Tint | +6 |
ToneCurve | 0, 0, 255, 255 |
ToneCurveName | Linear |
Version | 4.6 |
VignetteAmount | -100 |
VignetteMidpoint | 40 |
WhiteBalance (2) | As Shot |
WhiteBalance | Auto |