Felt | Verdi |
AlreadyApplied | True |
Aperture | 4.0 |
ApertureValue | 4.0 |
Artist | Duy Anh Pham dapham69@gmail.com |
BitsPerSample | 8 |
BlueHue | 0 |
BlueSaturation | 0 |
Brightness | +26 |
By-line | Duy Anh Pham dapham69@gmail |
CameraProfile | Adobe Standard |
CFAPattern | [Red,Green][Green,Blue] |
ChromaticAberrationB | 0 |
ChromaticAberrationR | 0 |
CircleOfConfusion | 0.030 mm |
Clarity | +10 |
ColorComponents | 3 |
ColorMode | RGB |
ColorNoiseReduction | 25 |
ColorSpace | Uncalibrated |
ColorTemperature | 6300 |
Contrast (2) | +50 |
Contrast | Normal |
ConvertToGrayscale | False |
Copyright | Duy Anh Pham |
CopyrightNotice | Duy Anh Pham |
CreateDate (1) | 2011:03:12 17:56:40.47+01:00 |
CreateDate | 2011:03:12 17:56:40 |
Creator | Duy Anh Pham dapham69@gmail.com |
CreatorTool | Ver.1.00 |
CropAngle | 0 |
CropBottom | 0.70887 |
CropLeft | 0 |
CropRight | 0.525645 |
CropTop | 0.135847 |
CustomRendered | Normal |
DateTimeDigitized | 2011:03:12 17:56:40.47+01:00 |
DateTimeOriginal (1) | 2011:03:12 17:56:40.47+01:00 |
DateTimeOriginal | 2011:03:12 17:56:40 |
Defringe | 0 |
DigitalZoomRatio | 1 |
DOF | 0.04 m (6.66 - 6.70 m) |
ExifImageHeight | 737 |
ExifImageWidth | 1012 |
Exposure | +0.50 |
ExposureCompensation | +1/3 |
ExposureMode | Manual |
ExposureProgram | Manual |
ExposureTime | 1/800 |
FillLight | 0 |
Flash | No Flash |
FlashFired | False |
FlashFunction | False |
FlashMode | Unknown |
FlashRedEyeMode | False |
FlashReturn | No return detection |
FNumber | 4.0 |
FocalLength | 500.0 mm |
FocalLength35efl | 500.0 mm (35 mm equivalent: 500.0 mm) |
FocalLengthIn35mmFormat | 500 mm |
Format | image/jpeg |
FOV | 4.1 deg |
GainControl | High gain up |
GreenHue | 0 |
GreenSaturation | 0 |
HasCrop | True |
HasSettings | True |
HighlightRecovery | 0 |
HueAdjustmentAqua | 0 |
HueAdjustmentBlue | 0 |
HueAdjustmentGreen | 0 |
HueAdjustmentMagenta | 0 |
HueAdjustmentOrange | 0 |
HueAdjustmentPurple | 0 |
HueAdjustmentRed | 0 |
HueAdjustmentYellow | 0 |
HyperfocalDistance | 2080.13 m |
ICCProfileName | Adobe RGB (1998) |
ImageHeight (1) | 1171 |
ImageHeight | 737 |
ImageNumber | 52599 |
ImageSize | 1012x737 |
ImageWidth (1) | 1615 |
ImageWidth | 1012 |
ISO | 1600 |
Lens | 500.0 mm f/4.0 |
LensID (1) | 151 |
LensID | AF-S VR Nikkor 500mm f/4G ED |
LensInfo | 500mm f/4 |
LightSource | Unknown |
LightValue | 9.6 |
LuminanceAdjustmentAqua | 0 |
LuminanceAdjustmentBlue | 0 |
LuminanceAdjustmentGreen | 0 |
LuminanceAdjustmentMagenta | 0 |
LuminanceAdjustmentOrange | 0 |
LuminanceAdjustmentPurple | 0 |
LuminanceAdjustmentRed | 0 |
LuminanceAdjustmentYellow | 0 |
LuminanceSmoothing | 23 |
Make | NIKON CORPORATION |
MaxApertureValue | 4.0 |
Megapixels | 0.746 |
MeteringMode | Multi-segment |
Model | NIKON D3S |
ModifyDate (1) | 2011:03:13 17:58:10+01:00 |
ModifyDate | 2011:03:13 17:58:10 |
Orientation | Horizontal (normal) |
ParametricDarks | 0 |
ParametricHighlights | -26 |
ParametricHighlightSplit | 75 |
ParametricLights | -43 |
ParametricMidtoneSplit | 50 |
ParametricShadows | 0 |
ParametricShadowSplit | 25 |
PostCropVignetteAmount | 0 |
ProfileDescription | Adobe RGB (1998) |
Rating | 0 |
RawFileName | GFW_2004.NEF |
RedHue | 0 |
RedSaturation | 0 |
Rights | Duy Anh Pham |
Saturation (2) | 0 |
Saturation | Normal |
SaturationAdjustmentAqua | 0 |
SaturationAdjustmentBlue | 0 |
SaturationAdjustmentGreen | 0 |
SaturationAdjustmentMagenta | 0 |
SaturationAdjustmentOrange | 0 |
SaturationAdjustmentPurple | 0 |
SaturationAdjustmentRed | 0 |
SaturationAdjustmentYellow | 0 |
ScaleFactor35efl | 1.0 |
SceneCaptureType | Standard |
SceneType | Directly photographed |
SensingMethod | One-chip color area |
SerialNumber | 2000731 |
Shadows | 10 |
ShadowTint | 0 |
SharpenDetail | 25 |
SharpenEdgeMasking | 0 |
SharpenRadius | +1.0 |
Sharpness (2) | 109 |
Sharpness | Normal |
ShutterSpeed | 1/800 |
ShutterSpeedValue | 1/800 |
Software | Adobe Photoshop CS4 Macintosh |
SplitToningBalance | 0 |
SplitToningHighlightHue | 0 |
SplitToningHighlightSaturation | 0 |
SplitToningShadowHue | 0 |
SplitToningShadowSaturation | 0 |
SubjectDistance | 6.68 m |
SubjectDistanceRange | Unknown |
Tint | +11 |
ToneCurve | 0, 0, 32, 22, 64, 56, 128, 128, 192, 196, 255, 255 |
ToneCurveName | Medium Contrast |
URL_List | |
Version | 5.6 |
Vibrance | +8 |
VignetteAmount | 0 |
WhiteBalance (2) | As Shot |
WhiteBalance | Auto |