Felt | Verdi |
AlreadyApplied | True |
Aperture | 4.0 |
ApertureValue | 4.0 |
ApproximateFocusDistance | 25.2 |
BitsPerSample | 8 |
BlueHue | 0 |
BlueSaturation | 0 |
Brightness | +53 |
CameraProfile | Adobe Standard |
ChromaticAberrationB | 0 |
ChromaticAberrationR | 0 |
CircleOfConfusion | 0.031 mm |
Clarity | +26 |
ColorComponents | 3 |
ColorNoiseReduction | 48 |
ColorNoiseReductionDetail | 50 |
ColorTemperature | 4874 |
Contrast | +45 |
ConvertToGrayscale | False |
Copyright | Torbjorn Pehrsen |
CopyrightFlag | True |
CopyrightNotice | Torbjørn Pehrsen |
CreateDate (1) | 2011:03:15 18:58:13.57+01:00 |
CreateDate | 2011:03:15 18:58:13 |
CreatorTool | Adobe Photoshop Lightroom 3.3 |
CropAngle | 3.47203 |
CropBottom | 0.87641 |
CropConstrainToWarp | 0 |
CropHeight | 800 |
CropLeft | 0.389059 |
CropRight | 0.729361 |
CropTop | 0 |
CropUnit | pixels |
CropWidth | 533 |
CustomRendered | Normal |
DateTimeDigitized | 2011:03:15 18:58:13.57+01:00 |
DateTimeOriginal (1) | 2011:03:15 18:58:13.57+01:00 |
DateTimeOriginal | 2011:03:15 18:58:13 |
Defringe | 0 |
DOF | 0.61 m (24.90 - 25.51 m) |
ExifImageHeight | 800 |
ExifImageWidth | 533 |
Exposure | 0.00 |
ExposureCompensation | 0 |
ExposureMode | Auto |
ExposureProgram | Aperture-priority AE |
ExposureTime | 1/8000 |
FillLight | 10 |
Firmware | 2.0.4 |
Flash | Off, Did not fire |
FlashCompensation | 0 |
FlashFired | False |
FlashFunction | False |
FlashMode | Off |
FlashRedEyeMode | False |
FlashReturn | No return detection |
FNumber | 4.0 |
FocalLength | 500.0 mm |
FocalLength35efl | 500.0 mm (35 mm equivalent: 488.0 mm) |
FOV | 4.2 deg |
GrainAmount | 0 |
GreenHue | 0 |
GreenSaturation | 0 |
HasCrop | True |
HasSettings | True |
HighlightRecovery | 36 |
HueAdjustmentAqua | 0 |
HueAdjustmentBlue | 0 |
HueAdjustmentGreen | 0 |
HueAdjustmentMagenta | 0 |
HueAdjustmentOrange | 0 |
HueAdjustmentPurple | 0 |
HueAdjustmentRed | 0 |
HueAdjustmentYellow | 0 |
HyperfocalDistance | 2030.08 m |
ImageHeight | 800 |
ImageNumber | 0 |
ImageSize | 533x800 |
ImageWidth | 533 |
ISO | 1600 |
Lens | EF500mm f/4L IS USM |
LensID (1) | 143 |
LensID | Canon EF 500mm f/4L IS USM |
LensInfo | 500mm f/? |
LensManualDistortionAmount | 0 |
LensModel | EF500mm f/4L IS USM |
LensProfileEnable | 0 |
LensProfileSetup | LensDefaults |
LightValue | 13.0 |
LuminanceAdjustmentAqua | 0 |
LuminanceAdjustmentBlue | +100 |
LuminanceAdjustmentGreen | 0 |
LuminanceAdjustmentMagenta | 0 |
LuminanceAdjustmentOrange | -30 |
LuminanceAdjustmentPurple | 0 |
LuminanceAdjustmentRed | 0 |
LuminanceAdjustmentYellow | -45 |
LuminanceNoiseReductionContrast | 0 |
LuminanceNoiseReductionDetail | 50 |
LuminanceSmoothing | 36 |
Make | Canon |
Marked | True |
MaxApertureValue | 4.0 |
Megapixels | 0.426 |
MeteringMode | Spot |
Model | Canon EOS 5D Mark II |
ModifyDate (1) | 2011:03:16 20:54:14+01:00 |
ModifyDate | 2011:03:16 20:54:14 |
ParametricDarks | -9 |
ParametricHighlights | +3 |
ParametricHighlightSplit | 75 |
ParametricLights | +18 |
ParametricMidtoneSplit | 50 |
ParametricShadows | -7 |
ParametricShadowSplit | 25 |
PerspectiveHorizontal | 0 |
PerspectiveRotate | 0.0 |
PerspectiveScale | 100 |
PerspectiveVertical | 0 |
PostCropVignetteAmount | 0 |
ProcessVersion | 5.7 |
ProfileDescription | sRGB IEC61966-2.1 |
RedHue | 0 |
RedSaturation | 0 |
Rights | Torbjørn Pehrsen |
Saturation | 0 |
SaturationAdjustmentAqua | 0 |
SaturationAdjustmentBlue | -32 |
SaturationAdjustmentGreen | 0 |
SaturationAdjustmentMagenta | 0 |
SaturationAdjustmentOrange | 0 |
SaturationAdjustmentPurple | 0 |
SaturationAdjustmentRed | 0 |
SaturationAdjustmentYellow | 0 |
ScaleFactor35efl | 1.0 |
SceneCaptureType | Standard |
SensitivityType | Unknown |
SerialNumber | 1531021652 |
Shadows | 1 |
ShadowTint | 0 |
SharpenDetail | 25 |
SharpenEdgeMasking | 0 |
SharpenRadius | +0.5 |
Sharpness | 36 |
ShutterSpeed | 1/8000 |
ShutterSpeedValue | 1/8000 |
SplitToningBalance | 0 |
SplitToningHighlightHue | 0 |
SplitToningHighlightSaturation | 0 |
SplitToningShadowHue | 0 |
SplitToningShadowSaturation | 0 |
SubjectDistance | 25.2 m |
Tint | -7 |
ToneCurve | 0, 0, 32, 22, 64, 56, 128, 128, 192, 196, 255, 255 |
ToneCurveName | Medium Contrast |
UsageTerms | Kan ikke benyttes uten samtykke fra Torbjørn Pehrsen |
Version | 6.3 |
Vibrance | 0 |
VignetteAmount | 0 |
WhiteBalance (2) | Custom |
WhiteBalance | Auto |