Felt | Verdi |
AlreadyApplied | True |
Aperture | 5.6 |
ApertureValue | 5.6 |
ApproximateFocusDistance | 8.41 |
BitsPerSample | 8 |
BlueHue | 0 |
BlueSaturation | 0 |
Brightness | +44 |
By-line | Ulf Rugumayo Amundsen |
CameraProfile | Adobe Standard |
CFAPattern | [Red,Green][Green,Blue] |
ChromaticAberrationB | 0 |
ChromaticAberrationR | 0 |
CircleOfConfusion | 0.030 mm |
Clarity | +27 |
ColorComponents | 3 |
ColorNoiseReduction | 25 |
ColorNoiseReductionDetail | 50 |
ColorTemperature | 5100 |
Contrast (2) | +42 |
Contrast | Normal |
ConvertToGrayscale | False |
Copyright | Rugumayo Amundsen Photos |
CopyrightFlag | True |
CopyrightNotice | Rugumayo Amundsen Photos |
CreateDate (1) | 2011:03:11 09:36:20.58+01:00 |
CreateDate | 2011:03:11 09:36:20 |
Creator | Ulf Rugumayo Amundsen |
CreatorAddress | Husejordet 39 |
CreatorCity | Asker |
CreatorCountry | Norway |
CreatorPostalCode | 1386 |
CreatorTool | Adobe Photoshop Lightroom |
CreatorWorkEmail | ulam@online.no |
CreatorWorkTelephone | +47 92085247 |
CreatorWorkURL | www.uganda-wild-venture.com |
CropAngle | 1.3 |
CropBottom | 1 |
CropConstrainToWarp | 0 |
CropHeight | 681 |
CropLeft | 0.121553 |
CropRight | 0.986735 |
CropTop | 0.091596 |
CropUnit | pixels |
CropWidth | 1024 |
CustomRendered | Normal |
DateTimeDigitized | 2011:03:11 09:36:20.58+01:00 |
DateTimeOriginal (1) | 2011:03:11 09:36:20.58+01:00 |
DateTimeOriginal | 2011:03:11 09:36:20 |
Defringe | 0 |
DigitalZoomRatio | 1 |
DOF | 0.58 m (8.13 - 8.71 m) |
ExifImageHeight | 681 |
ExifImageWidth | 1024 |
Exposure | -0.10 |
ExposureCompensation | 0 |
ExposureMode | Auto |
ExposureProgram | Aperture-priority AE |
ExposureTime | 1/320 |
FillLight | 19 |
Flash | No Flash |
FlashFired | False |
FlashFunction | False |
FlashMode | Unknown |
FlashRedEyeMode | False |
FlashReturn | No return detection |
FNumber | 5.6 |
FocalLength | 200.0 mm |
FocalLength35efl | 200.0 mm (35 mm equivalent: 200.0 mm) |
FocalLengthIn35mmFormat | 200 mm |
FOV | 10.3 deg |
GainControl | None |
GradientBasedCorrActive | true |
GradientBasedCorrAmount | 1.000000 |
GradientBasedCorrBrightness | -0.247059 |
GradientBasedCorrClarity | 0.364706 |
GradientBasedCorrContrast | 0.435294 |
GradientBasedCorrExposure | -0.152941 |
GradientBasedCorrHue | 230.000000 |
GradientBasedCorrMaskFullX | 0.108868 |
GradientBasedCorrMaskFullY | 0.968395 |
GradientBasedCorrMaskValue | 1.000000 |
GradientBasedCorrMaskWhat | Mask/Gradient |
GradientBasedCorrMaskZeroX | 0.169354 |
GradientBasedCorrMaskZeroY | 0.524761 |
GradientBasedCorrSaturation (1) | 0.000000 |
GradientBasedCorrSaturation | 0.500000 |
GradientBasedCorrSharpness | 0.000000 |
GradientBasedCorrWhat | Correction |
GrainAmount | 0 |
GreenHue | 0 |
GreenSaturation | 0 |
HasCrop | True |
HasSettings | True |
HighlightRecovery | 27 |
HueAdjustmentAqua | 0 |
HueAdjustmentBlue | 0 |
HueAdjustmentGreen | 0 |
HueAdjustmentMagenta | 0 |
HueAdjustmentOrange | 0 |
HueAdjustmentPurple | 0 |
HueAdjustmentRed | 0 |
HueAdjustmentYellow | 0 |
HyperfocalDistance | 237.73 m |
ImageHeight | 681 |
ImageNumber | 15076 |
ImageSize | 1024x681 |
ImageWidth | 1024 |
ISO | 100 |
Lens | 70.0-200.0 mm f/2.8 |
LensID (1) | 238 |
LensID | Sigma 70-200mm F2.8 EX APO DG Macro HSM II |
LensInfo | 70-200mm f/2.8 |
LensManualDistortionAmount | 0 |
LensModel | 70.0-200.0 mm f/2.8 |
LensProfileEnable | 0 |
LensProfileSetup | LensDefaults |
LightSource | Unknown |
LightValue | 13.3 |
LuminanceAdjustmentAqua | 0 |
LuminanceAdjustmentBlue | 0 |
LuminanceAdjustmentGreen | 0 |
LuminanceAdjustmentMagenta | 0 |
LuminanceAdjustmentOrange | 0 |
LuminanceAdjustmentPurple | 0 |
LuminanceAdjustmentRed | 0 |
LuminanceAdjustmentYellow | 0 |
LuminanceSmoothing | 0 |
Make | NIKON CORPORATION |
Marked | True |
MaxApertureValue | 2.8 |
Megapixels | 0.697 |
MeteringMode | Multi-segment |
Model | NIKON D700 |
ModifyDate (1) | 2011:03:18 07:58:21+01:00 |
ModifyDate | 2011:03:18 07:58:21 |
PaintCorrectionActive | true |
PaintCorrectionAmount | 1.000000 |
PaintCorrectionBrightness (1) | 0.223529 |
PaintCorrectionBrightness (3) | 0.000000 |
PaintCorrectionBrightness | 0.411765 |
PaintCorrectionClarity (1) | 0.223529 |
PaintCorrectionClarity (2) | 0.200000 |
PaintCorrectionClarity (3) | 0.623529 |
PaintCorrectionClarity | 0.976471 |
PaintCorrectionContrast | 0.000000 |
PaintCorrectionExposure (1) | 0.176471 |
PaintCorrectionExposure | 0.000000 |
PaintCorrectionHue (2) | 230.000000 |
PaintCorrectionHue | 4.000000 |
PaintCorrectionMaskCenterWeight | 0.046777 |
PaintCorrectionMaskFlow | 0.578966 |
PaintCorrectionMaskRadius (1) | 0.048160 |
PaintCorrectionMaskRadius (2) | 0.031683 |
PaintCorrectionMaskRadius (3) | 0.013427 |
PaintCorrectionMaskRadius (5) | 0.025268 |
PaintCorrectionMaskRadius (6) | 0.011180 |
PaintCorrectionMaskRadius | 0.006808 |
PaintCorrectionMaskValue | 0.241379 |
PaintCorrectionMaskWhat | Mask/Paint |
PaintCorrectionSaturation (1) | 0.000000 |
PaintCorrectionSaturation (2) | 0.500000 |
PaintCorrectionSaturation (3) | 0.341176 |
PaintCorrectionSaturation (7) | 0.882353 |
PaintCorrectionSaturation | 0.900000 |
PaintCorrectionSharpness (3) | 0.647059 |
PaintCorrectionSharpness | 0.000000 |
PaintCorrectionWhat | Correction |
ParametricDarks | 0 |
ParametricHighlights | 0 |
ParametricHighlightSplit | 75 |
ParametricLights | +11 |
ParametricMidtoneSplit | 50 |
ParametricShadows | 0 |
ParametricShadowSplit | 25 |
PerspectiveHorizontal | 0 |
PerspectiveRotate | 0.0 |
PerspectiveScale | 100 |
PerspectiveVertical | 0 |
PostCropVignetteAmount | 0 |
ProcessVersion | 5.7 |
ProfileDescription | sRGB IEC61966-2.1 |
RedHue | 0 |
RedSaturation | 0 |
Rights | Rugumayo Amundsen Photos |
Saturation (2) | 0 |
Saturation | Normal |
SaturationAdjustmentAqua | 0 |
SaturationAdjustmentBlue | +23 |
SaturationAdjustmentGreen | 0 |
SaturationAdjustmentMagenta | +46 |
SaturationAdjustmentOrange | 0 |
SaturationAdjustmentPurple | +56 |
SaturationAdjustmentRed | 0 |
SaturationAdjustmentYellow | +19 |
ScaleFactor35efl | 1.0 |
SceneCaptureType | Standard |
SceneType | Directly photographed |
SensingMethod | One-chip color area |
SensitivityType | Unknown |
SerialNumber | 2000453 |
Shadows | 26 |
ShadowTint | 0 |
SharpenDetail | 15 |
SharpenEdgeMasking | 60 |
SharpenRadius | +1.4 |
Sharpness (2) | 35 |
Sharpness | Hard |
ShutterSpeed | 1/320 |
ShutterSpeedValue | 1/320 |
Software | Ver.1.01 |
SplitToningBalance | 0 |
SplitToningHighlightHue | 0 |
SplitToningHighlightSaturation | 0 |
SplitToningShadowHue | 0 |
SplitToningShadowSaturation | 0 |
SubjectDistance | 8.41 m |
SubjectDistanceRange | Unknown |
Tint | +2 |
ToneCurve | 0, 0, 32, 22, 64, 56, 128, 128, 192, 196, 255, 255 |
ToneCurveName | Medium Contrast |
Version | 6.2 |
Vibrance | +2 |
VignetteAmount | 0 |
WhiteBalance (2) | As Shot |
WhiteBalance | Auto |