Felt | Verdi |
AlreadyApplied | True |
Aperture | 9.0 |
ApertureValue | 9.0 |
BitsPerSample | 8 |
BlueHue | 0 |
BlueSaturation | 0 |
Brightness | +3 |
CameraProfile | Embedded |
ChromaticAberrationB | 0 |
ChromaticAberrationR | 0 |
CircleOfConfusion | 0.006 mm |
Clarity | +30 |
ColorComponents | 3 |
ColorNoiseReduction | 0 |
Contrast | +35 |
ConvertToGrayscale | False |
CreateDate (1) | 2007:09:22 05:45:32+02:00 |
CreateDate | 2007:09:22 05:45:32 |
CreatorTool | Adobe Photoshop Lightroom |
CropAngle | 0.325541 |
CropBottom | 0.998355 |
CropConstrainToWarp | 0 |
CropHeight | 2033 |
CropLeft | 0.007519 |
CropRight | 0.992481 |
CropTop | 0.001645 |
CropUnit | pixels |
CropWidth | 1524 |
CustomRendered | Normal |
DateTimeDigitized | 2007:09:22 05:45:32+02:00 |
DateTimeOriginal (1) | 2007:09:22 05:45:32+02:00 |
DateTimeOriginal | 2007:09:22 05:45:32 |
Defringe | 0 |
DigitalZoomRatio | 1 |
DOF | 5.27 m (1.15 - 6.42 m) |
ExifImageHeight | 2033 |
ExifImageWidth | 1524 |
Exposure | -0.20 |
ExposureCompensation | 0 |
ExposureMode | Auto |
ExposureTime | 1/640 |
FillLight | 0 |
Firmware | 1.00 |
Flash | Auto, Did not fire |
FlashCompensation | 0 |
FlashFired | False |
FlashFunction | False |
FlashMode | Auto |
FlashRedEyeMode | False |
FlashReturn | No return detection |
FNumber | 9.0 |
FocalLength | 12.5 mm |
FocalLength35efl | 12.5 mm (35 mm equivalent: 60.1 mm) |
FOV | 33.4 deg |
GradientBasedCorrActive | true |
GradientBasedCorrAmount | 1.000000 |
GradientBasedCorrBrightness (1) | 0.105882 |
GradientBasedCorrBrightness | 0.000000 |
GradientBasedCorrClarity (1) | 1.000000 |
GradientBasedCorrClarity | 0.000000 |
GradientBasedCorrContrast (1) | 0.764706 |
GradientBasedCorrContrast | 0.000000 |
GradientBasedCorrExposure (1) | -0.529412 |
GradientBasedCorrExposure | 0.035294 |
GradientBasedCorrHue | 0.000000 |
GradientBasedCorrMaskFullX (1) | 0.574235 |
GradientBasedCorrMaskFullX | 0.456555 |
GradientBasedCorrMaskFullY (1) | 0.006056 |
GradientBasedCorrMaskFullY | 0.843948 |
GradientBasedCorrMaskValue | 1.000000 |
GradientBasedCorrMaskWhat | Mask/Gradient |
GradientBasedCorrMaskZeroX (1) | 0.551649 |
GradientBasedCorrMaskZeroX | 0.455333 |
GradientBasedCorrMaskZeroY (1) | 0.847960 |
GradientBasedCorrMaskZeroY | 1.005340 |
GradientBasedCorrSaturation (1) | -0.011765 |
GradientBasedCorrSaturation | 0.000000 |
GradientBasedCorrSharpness | 0.000000 |
GradientBasedCorrWhat | Correction |
GrainAmount | 0 |
GreenHue | 0 |
GreenSaturation | 0 |
HasCrop | True |
HasSettings | True |
HighlightRecovery | 0 |
HueAdjustmentAqua | 0 |
HueAdjustmentBlue | 0 |
HueAdjustmentGreen | 0 |
HueAdjustmentMagenta | 0 |
HueAdjustmentOrange | 0 |
HueAdjustmentPurple | 0 |
HueAdjustmentRed | 0 |
HueAdjustmentYellow | 0 |
HyperfocalDistance | 2.78 m |
ImageHeight | 2033 |
ImageSize | 1524x2033 |
ImageWidth | 1524 |
IncrementalTemperature | -11 |
IncrementalTint | 0 |
Lens | 7.7-23.1 mm |
LensInfo | 7.7-23.1mm f/? |
LensManualDistortionAmount | 0 |
LensProfileEnable | 0 |
LensProfileSetup | LensDefaults |
LuminanceAdjustmentAqua | 0 |
LuminanceAdjustmentBlue | 0 |
LuminanceAdjustmentGreen | 0 |
LuminanceAdjustmentMagenta | 0 |
LuminanceAdjustmentOrange | 0 |
LuminanceAdjustmentPurple | 0 |
LuminanceAdjustmentRed | 0 |
LuminanceAdjustmentYellow | 0 |
LuminanceSmoothing | 0 |
Make | Canon |
MaxApertureValue | 3.5 |
Megapixels | 3.1 |
MeteringMode | Multi-segment |
Model | Canon DIGITAL IXUS 700 |
ModifyDate (1) | 2011:03:20 09:47:59+01:00 |
ModifyDate | 2011:03:20 09:47:59 |
ParametricDarks | 0 |
ParametricHighlights | 0 |
ParametricHighlightSplit | 75 |
ParametricLights | 0 |
ParametricMidtoneSplit | 50 |
ParametricShadows | 0 |
ParametricShadowSplit | 25 |
PerspectiveHorizontal | 0 |
PerspectiveRotate | 0.0 |
PerspectiveScale | 100 |
PerspectiveVertical | 0 |
PostCropVignetteAmount | 0 |
ProcessVersion | 5.7 |
ProfileDescription | sRGB IEC61966-2.1 |
RedHue | 0 |
RedSaturation | 0 |
Saturation | +23 |
SaturationAdjustmentAqua | 0 |
SaturationAdjustmentBlue | 0 |
SaturationAdjustmentGreen | 0 |
SaturationAdjustmentMagenta | 0 |
SaturationAdjustmentOrange | 0 |
SaturationAdjustmentPurple | 0 |
SaturationAdjustmentRed | 0 |
SaturationAdjustmentYellow | 0 |
ScaleFactor35efl | 4.8 |
SceneCaptureType | Standard |
SensingMethod | One-chip color area |
Shadows | 0 |
ShadowTint | 0 |
SharpenDetail | 25 |
SharpenEdgeMasking | 0 |
SharpenRadius | +1.0 |
Sharpness | 0 |
ShutterSpeed | 1/640 |
ShutterSpeedValue | 1/640 |
SplitToningBalance | 0 |
SplitToningHighlightHue | 0 |
SplitToningHighlightSaturation | 0 |
SplitToningShadowHue | 0 |
SplitToningShadowSaturation | 0 |
SubjectDistance | 1.95 m |
ToneCurve | 0, 0, 255, 255 |
ToneCurveName | Linear |
Version | 6.1 |
Vibrance | +30 |
VignetteAmount | 0 |
WhiteBalance (2) | Custom |
WhiteBalance | Auto |