Felt | Verdi |
AlreadyApplied | True |
Aperture | 13.0 |
ApertureValue | 13.0 |
ApproximateFocusDistance | 291 |
Artist | Mathias Hoddevik |
BitsPerSample | 8 |
BlueHue | 0 |
BlueSaturation | 0 |
Brightness | +20 |
By-line | Mathias Hoddevik |
CameraProfile | Adobe Standard |
ChromaticAberrationB | 0 |
ChromaticAberrationR | 0 |
CircleOfConfusion | 0.019 mm |
Clarity | +100 |
ColorComponents | 3 |
ColorMode | RGB |
ColorNoiseReduction | 25 |
ColorNoiseReductionDetail | 50 |
ColorSpace | sRGB |
ColorTemperature | 4350 |
Contrast | +40 |
ConvertToGrayscale | False |
CreateDate (1) | 2011:03:15 20:37:17.57+01:00 |
CreateDate | 2011:03:15 20:37:17 |
Creator | Mathias Hoddevik |
CreatorTool | Adobe Photoshop CS5 Windows |
CustomRendered | Normal |
DateCreated (1) | 2011:03:15 |
DateCreated | 2011:03:15 20:37:17.057 |
DateTimeOriginal | 2011:03:15 20:37:17 |
Defringe | 0 |
DOF | 1165.45 m (163.39 - 1328.84 m) |
ExifImageHeight | 680 |
ExifImageWidth | 1020 |
Exposure | +2.50 |
ExposureCompensation | 0 |
ExposureMode | Manual |
ExposureProgram | Manual |
ExposureTime | 1/200 |
FillLight | 0 |
Firmware | 1.1.0 |
Flash | Off, Did not fire |
FlashCompensation | 0 |
FNumber | 13.0 |
FocalLength | 300.0 mm |
FocalLength35efl | 300.0 mm (35 mm equivalent: 484.6 mm) |
Format | image/jpeg |
FOV | 4.3 deg |
GrainAmount | 0 |
GreenHue | -100 |
GreenSaturation | +5 |
HasCrop | False |
HasSettings | True |
HighlightRecovery | 0 |
HueAdjustmentAqua | 0 |
HueAdjustmentBlue | 0 |
HueAdjustmentGreen | 0 |
HueAdjustmentMagenta | +20 |
HueAdjustmentOrange | -15 |
HueAdjustmentPurple | -7 |
HueAdjustmentRed | -16 |
HueAdjustmentYellow | 0 |
HyperfocalDistance | 372.21 m |
ICCProfileName | sRGB IEC61966-2.1 |
ImageHeight | 680 |
ImageNumber | 0 |
ImageSize | 1020x680 |
ImageWidth | 1020 |
ISO | 100 |
Lens | EF70-300mm f/4-5.6 IS USM |
LensID (1) | 238 |
LensID | Canon EF 70-300mm f/4-5.6 IS USM |
LensInfo | 70-300mm f/? |
LensManualDistortionAmount | 0 |
LensModel | EF70-300mm f/4-5.6 IS USM |
LensProfileChromaticAberrationScale | 101 |
LensProfileDistortionScale | 100 |
LensProfileEnable | 1 |
LensProfileFilename | Canon EOS-1Ds Mark III (Canon EF 70-300mm f4-5.6 IS USM) - RAW.lcp |
LensProfileName | Adobe (Canon EF 70-300mm f/4-5.6 IS USM) |
LensProfileSetup | Custom |
LensProfileVignettingScale | 100 |
LightValue | 15.0 |
LuminanceAdjustmentAqua | +10 |
LuminanceAdjustmentBlue | +10 |
LuminanceAdjustmentGreen | +10 |
LuminanceAdjustmentMagenta | +19 |
LuminanceAdjustmentOrange | +8 |
LuminanceAdjustmentPurple | +14 |
LuminanceAdjustmentRed | +18 |
LuminanceAdjustmentYellow | +10 |
LuminanceNoiseReductionContrast | 100 |
LuminanceNoiseReductionDetail | 100 |
LuminanceSmoothing | 50 |
Make | Canon |
MaxApertureValue | 5.7 |
Megapixels | 0.694 |
MeteringMode | Spot |
Model | Canon EOS 450D |
ModifyDate (1) | 2011:03:16 07:40:25+01:00 |
ModifyDate | 2011:03:16 07:40:25 |
Orientation | Horizontal (normal) |
OwnerName | Mathias Hoddevik |
ParametricDarks | 0 |
ParametricHighlights | -30 |
ParametricHighlightSplit | 75 |
ParametricLights | -27 |
ParametricMidtoneSplit | 50 |
ParametricShadows | 0 |
ParametricShadowSplit | 25 |
PerspectiveHorizontal | 0 |
PerspectiveRotate | 0.0 |
PerspectiveScale | 100 |
PerspectiveVertical | 0 |
PostCropVignetteAmount | 0 |
ProcessVersion | 5.7 |
ProfileDescription | sRGB IEC61966-2.1 |
Rating | 0 |
RawFileName | IMG_8466.CR2 |
RedHue | 0 |
RedSaturation | 0 |
Saturation | 0 |
SaturationAdjustmentAqua | +13 |
SaturationAdjustmentBlue | +14 |
SaturationAdjustmentGreen | +9 |
SaturationAdjustmentMagenta | +19 |
SaturationAdjustmentOrange | +19 |
SaturationAdjustmentPurple | +15 |
SaturationAdjustmentRed | +20 |
SaturationAdjustmentYellow | +16 |
ScaleFactor35efl | 1.6 |
SceneCaptureType | Standard |
SensitivityType | Unknown |
SerialNumber | 530145343 |
Shadows | 0 |
ShadowTint | +1 |
SharpenDetail | 25 |
SharpenEdgeMasking | 0 |
SharpenRadius | +3.0 |
Sharpness | 35 |
ShutterSpeed | 1/200 |
ShutterSpeedValue | 1/200 |
SidecarForExtension | CR2 |
Software | Adobe Photoshop CS5 Windows |
SplitToningBalance | 0 |
SplitToningHighlightHue | 0 |
SplitToningHighlightSaturation | 0 |
SplitToningShadowHue | 0 |
SplitToningShadowSaturation | 0 |
SubjectDistance | 291 m |
Tint | +9 |
ToneCurve | 0, 0, 32, 22, 64, 56, 128, 128, 192, 196, 255, 255 |
ToneCurveName | Medium Contrast |
URL_List | |
Version | 6.2 |
Vibrance | 0 |
VignetteAmount | 0 |
WhiteBalance (1) | Custom |
WhiteBalance | Auto |