Felt | Verdi |
AlreadyApplied | True |
BitsPerSample | 8 |
BlueHue | +11 |
BlueSaturation | -21 |
Brightness | +64 |
By-line | Karel Krizak |
CameraProfile | Adobe Standard |
ChromaticAberrationB | 0 |
ChromaticAberrationR | 0 |
Clarity | +44 |
ColorComponents | 3 |
ColorNoiseReduction | 25 |
ColorNoiseReductionDetail | 50 |
Contrast | +32 |
ConvertToGrayscale | True |
Copyright | Karel Krizak |
CopyrightFlag | True |
CopyrightNotice | Karel Krizak |
CreateDate | 2011:03:21 16:57:16 |
Creator | Karel Krizak |
CreatorAddress | Kløvervegen 56 |
CreatorCity | Verdal |
CreatorCountry | Norway |
CreatorPostalCode | 7650 |
CreatorTool | Adobe Photoshop Lightroom |
CreatorWorkEmail | karel@krizak.com |
DateTimeDigitized | 2011:03:21 16:57:16+01:00 |
Defringe | 0 |
ExifImageHeight | 900 |
ExifImageWidth | 875 |
Exposure | -3.17 |
FillLight | 0 |
GrainAmount | 0 |
GrayMixerAqua | +63 |
GrayMixerBlue | +54 |
GrayMixerGreen | -56 |
GrayMixerMagenta | +65 |
GrayMixerOrange | -42 |
GrayMixerPurple | +44 |
GrayMixerRed | -60 |
GrayMixerYellow | -60 |
GreenHue | +16 |
GreenSaturation | +51 |
HasCrop | False |
HasSettings | True |
HighlightRecovery | 0 |
ImageHeight | 900 |
ImageSize | 875x900 |
ImageWidth | 875 |
IncrementalTemperature | 0 |
IncrementalTint | 0 |
LensManualDistortionAmount | 0 |
LensProfileEnable | 0 |
LensProfileSetup | LensDefaults |
LuminanceSmoothing | 0 |
Make | Canon |
Marked | True |
Megapixels | 0.787 |
Model | 9000F |
ModifyDate (1) | 2011:03:21 17:12:23+01:00 |
ModifyDate | 2011:03:21 17:12:23 |
ParametricDarks | -25 |
ParametricHighlights | 0 |
ParametricHighlightSplit | 75 |
ParametricLights | +28 |
ParametricMidtoneSplit | 50 |
ParametricShadows | 0 |
ParametricShadowSplit | 25 |
PerspectiveHorizontal | 0 |
PerspectiveRotate | 0.0 |
PerspectiveScale | 100 |
PerspectiveVertical | 0 |
PostCropVignetteAmount | 0 |
ProcessVersion | 5.7 |
ProfileDescription | sRGB IEC61966-2.1 |
RedHue | +23 |
RedSaturation | +10 |
Rights | Karel Krizak |
Shadows | 10 |
ShadowTint | +4 |
SharpenDetail | 25 |
SharpenEdgeMasking | 30 |
SharpenRadius | +1.0 |
Sharpness | 31 |
SplitToningBalance | 0 |
SplitToningHighlightHue | 215 |
SplitToningHighlightSaturation | 32 |
SplitToningShadowHue | 240 |
SplitToningShadowSaturation | 29 |
ToneCurve | 0, 0, 255, 255 |
ToneCurveName | Linear |
Version | 6.1 |
VignetteAmount | -100 |
VignetteMidpoint | 40 |
WhiteBalance | As Shot |