Felt | Verdi |
AlreadyApplied | True |
Aperture | 16.0 |
ApertureValue | 16.0 |
BitsPerSample | 8 |
BlueHue | 0 |
BlueSaturation | 0 |
Brightness | +56 |
CameraProfile | Adobe Standard |
Caption-Abstract | OLYMPUS DIGITAL CAMERA |
CFAPattern | [Blue,Green][Green,Red] |
ChromaticAberrationB | 0 |
ChromaticAberrationR | 0 |
Clarity | 0 |
ColorComponents | 3 |
ColorMode | RGB |
ColorNoiseReduction | 25 |
ColorNoiseReductionDetail | 50 |
ColorSpace | Uncalibrated |
ColorTemperature | 6200 |
Contrast (1) | +37 |
Contrast | Normal |
ConvertToGrayscale | False |
CreateDate (1) | 2011:02:27 10:55:08+01:00 |
CreateDate | 2011:02:27 10:55:08 |
CreatorTool | Version 1.0 |
CropAngle | 0 |
CropBottom | 0.886686 |
CropLeft | 0.064825 |
CropRight | 0.981934 |
CropTop | 0.05949 |
CustomRendered | Normal |
DateCreated (1) | 2011:02:27 |
DateCreated | 2011:02:27 10:55:08 |
DateTimeOriginal | 2011:02:27 10:55:08 |
Defringe | 0 |
Description | OLYMPUS DIGITAL CAMERA |
DigitalZoomRatio | 1 |
ExifImageHeight | 676 |
ExifImageWidth | 1000 |
Exposure | 0.00 |
ExposureCompensation | 0 |
ExposureMode | Auto |
ExposureProgram | Aperture-priority AE |
ExposureTime | 1/80 |
FillLight | 0 |
Flash | Auto, Did not fire, Red-eye reduction |
FlashCompensation | 0 |
FNumber | 16.0 |
FocalLength | 20.0 mm |
FocalLength35efl | 20.0 mm |
Format | image/jpeg |
GainControl | Low gain up |
GradientBasedCorrActive | true |
GradientBasedCorrAmount | 1.000000 |
GradientBasedCorrBrightness | -0.440000 |
GradientBasedCorrClarity | -0.010000 |
GradientBasedCorrContrast | 0.380000 |
GradientBasedCorrExposure | -0.225000 |
GradientBasedCorrHue | 0.000000 |
GradientBasedCorrMaskFullX | 0.341197 |
GradientBasedCorrMaskFullY | 0.123499 |
GradientBasedCorrMaskValue | 1.000000 |
GradientBasedCorrMaskWhat | Mask/Gradient |
GradientBasedCorrMaskZeroX | 0.433144 |
GradientBasedCorrMaskZeroY | 0.573787 |
GradientBasedCorrSaturation (1) | -0.010000 |
GradientBasedCorrSaturation | 0.000000 |
GradientBasedCorrSharpness | 0.040000 |
GradientBasedCorrWhat | Correction |
GrainAmount | 0 |
GreenHue | 0 |
GreenSaturation | 0 |
HasCrop | True |
HasSettings | True |
HighlightRecovery | 0 |
HueAdjustmentAqua | 0 |
HueAdjustmentBlue | 0 |
HueAdjustmentGreen | +20 |
HueAdjustmentMagenta | 0 |
HueAdjustmentOrange | +28 |
HueAdjustmentPurple | 0 |
HueAdjustmentRed | +52 |
HueAdjustmentYellow | 0 |
ICCProfileName | Adobe RGB (1998) |
ImageDescription | OLYMPUS DIGITAL CAMERA |
ImageHeight | 676 |
ImageSize | 1000x676 |
ImageWidth | 1000 |
ISO | 200 |
Lens | OLYMPUS 14-54mm Lens |
LensInfo | 14-54mm f/2.8-3.5 |
LensSerialNumber | 050115470 |
LightSource | Cloudy |
LightValue | 13.3 |
LuminanceAdjustmentAqua | 0 |
LuminanceAdjustmentBlue | 0 |
LuminanceAdjustmentGreen | 0 |
LuminanceAdjustmentMagenta | 0 |
LuminanceAdjustmentOrange | 0 |
LuminanceAdjustmentPurple | 0 |
LuminanceAdjustmentRed | 0 |
LuminanceAdjustmentYellow | 0 |
LuminanceSmoothing | 0 |
Make | OLYMPUS IMAGING CORP. |
MaxApertureValue | 2.8 |
Megapixels | 0.676 |
MeteringMode | Multi-segment |
Model | E-620 |
ModifyDate (1) | 2011:03:20 11:32:27+01:00 |
ModifyDate | 2011:03:20 11:32:27 |
Orientation | Horizontal (normal) |
PaintCorrectionActive | true |
PaintCorrectionAmount | 1.000000 |
PaintCorrectionBrightness (1) | -0.020000 |
PaintCorrectionBrightness (2) | -0.150000 |
PaintCorrectionBrightness | -0.440000 |
PaintCorrectionClarity (1) | 0.130000 |
PaintCorrectionClarity | -0.010000 |
PaintCorrectionContrast | 0.380000 |
PaintCorrectionExposure (1) | 0.387500 |
PaintCorrectionExposure (2) | 0.450000 |
PaintCorrectionExposure (3) | 0.337500 |
PaintCorrectionExposure | 0.250000 |
PaintCorrectionHue | 0.000000 |
PaintCorrectionMaskCenterWeight | 0.000000 |
PaintCorrectionMaskFlow | 1.000000 |
PaintCorrectionMaskRadius (1) | 0.071441 |
PaintCorrectionMaskRadius (2) | 0.033336 |
PaintCorrectionMaskRadius (3) | 0.109545 |
PaintCorrectionMaskRadius (4) | 0.115514 |
PaintCorrectionMaskRadius | 0.032332 |
PaintCorrectionMaskValue | 1.000000 |
PaintCorrectionMaskWhat | Mask/Paint |
PaintCorrectionSaturation (1) | -0.010000 |
PaintCorrectionSaturation (3) | 0.980000 |
PaintCorrectionSaturation (5) | 0.500000 |
PaintCorrectionSaturation (7) | 0.760000 |
PaintCorrectionSaturation | 0.000000 |
PaintCorrectionSharpness (3) | 0.110000 |
PaintCorrectionSharpness | 0.040000 |
PaintCorrectionWhat | Correction |
ParametricDarks | 0 |
ParametricHighlights | 0 |
ParametricHighlightSplit | 75 |
ParametricLights | -11 |
ParametricMidtoneSplit | 50 |
ParametricShadows | -37 |
ParametricShadowSplit | 25 |
PostCropVignetteAmount | 0 |
ProcessVersion | 5.7 |
ProfileDescription | Adobe RGB (1998) |
Rating | 0 |
RawFileName | P2277427.ORF |
RedHue | 0 |
RedSaturation | 0 |
Saturation (1) | 0 |
Saturation | Normal |
SaturationAdjustmentAqua | 0 |
SaturationAdjustmentBlue | 0 |
SaturationAdjustmentGreen | 0 |
SaturationAdjustmentMagenta | 0 |
SaturationAdjustmentOrange | -4 |
SaturationAdjustmentPurple | 0 |
SaturationAdjustmentRed | -33 |
SaturationAdjustmentYellow | 0 |
SceneCaptureType | Standard |
SerialNumber | G74517427 |
Shadows | 5 |
ShadowTint | 0 |
SharpenDetail | 25 |
SharpenEdgeMasking | 0 |
SharpenRadius | +1.0 |
Sharpness (1) | 25 |
Sharpness | Normal |
ShutterSpeed | 1/80 |
ShutterSpeedValue | 1/80 |
SidecarForExtension | ORF |
Software | Adobe Photoshop CS5 Windows |
SplitToningBalance | -13 |
SplitToningHighlightHue | 125 |
SplitToningHighlightSaturation | 0 |
SplitToningShadowHue | 143 |
SplitToningShadowSaturation | 0 |
Tint | 0 |
ToneCurve | 0, 0, 32, 22, 64, 56, 128, 128, 192, 196, 255, 255 |
ToneCurveName | Medium Contrast |
URL_List | |
Version | 6.0 |
Vibrance | 0 |
VignetteAmount | 0 |
WhiteBalance (1) | Custom |
WhiteBalance | Manual |