Felt | Verdi |
AlreadyApplied | True |
Aperture | 7.1 |
ApertureValue | 7.1 |
ApproximateFocusDistance | 1.09 |
BitsPerSample | 8 |
BlueHue | 0 |
BlueSaturation | 0 |
Brightness (1) | 0.000000 |
Brightness | +50 |
CameraModelID | |
CameraProfile | Adobe Standard |
ChromaticAberrationB | 0 |
ChromaticAberrationR | 0 |
CircleOfConfusion | 0.019 mm |
Clarity | +59 |
ColorComponents | 3 |
ColorMode | RGB |
ColorNoiseReduction | 25 |
ColorNoiseReductionDetail | 50 |
ColorSpace | sRGB |
ColorTemperature | 3350 |
Contrast (1) | 0.000000 |
Contrast | +25 |
ConvertToGrayscale | False |
CreateDate (1) | 2011:03:26 13:48:11.00+01:00 |
CreateDate | 2011:03:26 13:48:11 |
CreatorTool | Microsoft Windows Live Photo Gallery 15.4.3502.922 |
CustomRendered | Normal |
DateTimeDigitized | 2011:03:26 13:48:11+01:00 |
DateTimeOriginal (1) | 2011:03:26 13:48:11.00+01:00 |
DateTimeOriginal | 2011:03:26 13:48:11 |
Defringe | 0 |
DOF | inf (0.44 m - inf) |
ExifImageHeight (1) | 5184 |
ExifImageHeight | 3834 |
ExifImageWidth (1) | 3456 |
ExifImageWidth | 3222 |
Exposure | 0.00 |
ExposureCompensation (2) | 0.000000 |
ExposureCompensation | 0 |
ExposureMode | Auto bracket |
ExposureProgram | Aperture-priority AE |
ExposureTime | 1/30 |
FillLight | 68 |
Firmware | 1.0.8 |
Flash | Off, Did not fire |
FlashCompensation | 0 |
FlashFired | False |
FlashFunction | False |
FlashMode | Off |
FlashRedEyeMode | False |
FlashReturn | No return detection |
FNumber | 7.1 |
FocalLength | 10.0 mm |
FocalLength35efl | 10.0 mm (35 mm equivalent: 15.7 mm) |
Format | image/jpeg |
FOV | 97.7 deg |
GrainAmount | 0 |
GreenHue | 0 |
GreenSaturation | 0 |
HasCrop | False |
HasSettings | True |
HighlightRecovery | 0 |
HueAdjustmentAqua | 0 |
HueAdjustmentBlue | 0 |
HueAdjustmentGreen | 0 |
HueAdjustmentMagenta | 0 |
HueAdjustmentOrange | 0 |
HueAdjustmentPurple | 0 |
HueAdjustmentRed | 0 |
HueAdjustmentYellow | 0 |
HyperfocalDistance | 0.74 m |
ICCProfileName | sRGB IEC61966-2.1 |
ImageHeight | 3834 |
ImageNumber | 0 |
ImageSize | 3222x3834 |
ImageWidth | 3222 |
ISO | 500 |
Keywords | Fixed, Publish |
LastKeywordIPTC | Fixed, Publish |
LastKeywordXMP | Fixed, Publish |
Lens | 10-20mm |
LensID (1) | 137 |
LensID | Sigma 10-20mm f/3.5 EX DC HSM |
LensInfo | 10-20mm f/? |
LensManualDistortionAmount | 0 |
LensModel | 10-20mm |
LensProfileEnable | 0 |
LensProfileSetup | LensDefaults |
LightValue | 8.2 |
LuminanceAdjustmentAqua | 0 |
LuminanceAdjustmentBlue | 0 |
LuminanceAdjustmentGreen | 0 |
LuminanceAdjustmentMagenta | 0 |
LuminanceAdjustmentOrange | 0 |
LuminanceAdjustmentPurple | 0 |
LuminanceAdjustmentRed | 0 |
LuminanceAdjustmentYellow | 0 |
LuminanceSmoothing | 0 |
Make | Canon |
MaxApertureValue | 3.5 |
Megapixels | 12.4 |
MeteringMode | Multi-segment |
Model | Canon EOS 550D |
ModifyDate (1) | 2011:03:26 18:00:05+01:00 |
ModifyDate | 2011:03:27 10:25:39 |
Orientation | Horizontal (normal) |
ParametricDarks | 0 |
ParametricHighlights | 0 |
ParametricHighlightSplit | 75 |
ParametricLights | 0 |
ParametricMidtoneSplit | 50 |
ParametricShadows | 0 |
ParametricShadowSplit | 25 |
PerspectiveHorizontal | 0 |
PerspectiveRotate | 0.0 |
PerspectiveScale | 100 |
PerspectiveVertical | 0 |
PipelineVersion | 01.00 |
PostCropVignetteAmount | 0 |
ProcessVersion | 5.7 |
ProfileDescription | sRGB IEC61966-2.1 |
Rating | 0 |
RawFileName | IMG_7869.CR2 |
RedHue | 0 |
RedSaturation | 0 |
Saturation | 0 |
SaturationAdjustmentAqua | 0 |
SaturationAdjustmentBlue | 0 |
SaturationAdjustmentGreen | 0 |
SaturationAdjustmentMagenta | 0 |
SaturationAdjustmentOrange | 0 |
SaturationAdjustmentPurple | 0 |
SaturationAdjustmentRed | 0 |
SaturationAdjustmentYellow | 0 |
ScaleFactor35efl | 1.6 |
SceneCaptureType | Standard |
SensitivityType | Unknown |
SerialNumber | 1132500411 |
Shadows | 12 |
ShadowTint | 0 |
SharpenDetail | 25 |
SharpenEdgeMasking | 0 |
SharpenRadius | +1.0 |
Sharpness | 25 |
ShutterSpeed | 1/30 |
ShutterSpeedValue | 1/30 |
SidecarForExtension | CR2 |
Software | Adobe Photoshop Elements 9.0 Windows |
SplitToningBalance | 0 |
SplitToningHighlightHue | 0 |
SplitToningHighlightSaturation | 0 |
SplitToningShadowHue | 0 |
SplitToningShadowSaturation | 0 |
StreamType | 3 |
Subject | Fixed, Publish |
SubjectDistance | 1.09 m |
Tint | +25 |
ToneCurve | 0, 0, 32, 22, 64, 56, 128, 128, 192, 196, 255, 255 |
ToneCurveName | Medium Contrast |
URL_List | |
Version | 6.3 |
Vibrance | +39 |
VignetteAmount | 0 |
WhiteBalance (2) | Custom |
WhiteBalance | Auto |
WhiteBalance0 | 2.497562 |
WhiteBalance1 | 1.000000 |
WhiteBalance2 | 1.051616 |
XPKeywords | Fixed;Publish |