Felt | Verdi |
AlreadyApplied | True |
Aperture | 5.6 |
ApertureValue | 5.6 |
BitsPerSample | 8 |
BlueHue | 0 |
BlueSaturation | 0 |
Brightness | +50 |
CameraProfile | Adobe Standard |
CFAPattern | [Green,Blue][Red,Green] |
ChromaticAberrationB | 0 |
ChromaticAberrationR | 0 |
CircleOfConfusion | 0.020 mm |
Clarity | +19 |
ColorComponents | 3 |
ColorNoiseReduction | 25 |
ColorTemperature | 6048 |
Contrast (2) | +25 |
Contrast | Normal |
ConvertToGrayscale | False |
CreateDate (1) | 2011:03:27 09:47:35.00+02:00 |
CreateDate | 2011:03:27 09:47:35 |
CreatorTool | Adobe Photoshop Lightroom |
CustomRendered | Normal |
DateTimeDigitized | 2011:03:27 09:47:35.00+02:00 |
DateTimeOriginal (1) | 2011:03:27 09:47:35.00+02:00 |
DateTimeOriginal | 2011:03:27 09:47:35 |
Defringe | 0 |
DigitalZoomRatio | 1 |
ExifImageHeight | 2848 |
ExifImageWidth | 4288 |
Exposure | -0.67 |
ExposureCompensation | 0 |
ExposureMode | Auto |
ExposureProgram | Program AE |
ExposureTime | 1/500 |
FillLight | 0 |
Flash | No Flash |
FlashFired | False |
FlashFunction | False |
FlashMode | Unknown |
FlashRedEyeMode | False |
FlashReturn | No return detection |
FNumber | 5.6 |
FocalLength | 130.0 mm |
FocalLength35efl | 130.0 mm (35 mm equivalent: 195.0 mm) |
FocalLengthIn35mmFormat | 195 mm |
FOV | 10.5 deg |
GainControl | None |
GreenHue | 0 |
GreenSaturation | 0 |
HasCrop | False |
HasSettings | True |
HighlightRecovery | 0 |
HueAdjustmentAqua | 0 |
HueAdjustmentBlue | 0 |
HueAdjustmentGreen | 0 |
HueAdjustmentMagenta | 0 |
HueAdjustmentOrange | 0 |
HueAdjustmentPurple | 0 |
HueAdjustmentRed | 0 |
HueAdjustmentYellow | 0 |
HyperfocalDistance | 150.66 m |
ImageHeight | 2848 |
ImageNumber | 4326 |
ImageSize | 4288x2848 |
ImageWidth | 4288 |
ISO | 200 |
Lens | 18.0-200.0 mm f/3.5-5.6 |
LensInfo | 18-200mm f/3.5-5.6 |
LightSource | Unknown |
LightValue | 12.9 |
LuminanceAdjustmentAqua | 0 |
LuminanceAdjustmentBlue | 0 |
LuminanceAdjustmentGreen | 0 |
LuminanceAdjustmentMagenta | 0 |
LuminanceAdjustmentOrange | 0 |
LuminanceAdjustmentPurple | 0 |
LuminanceAdjustmentRed | 0 |
LuminanceAdjustmentYellow | 0 |
LuminanceSmoothing | 0 |
Make | NIKON CORPORATION |
MaxApertureValue | 5.7 |
Megapixels | 12.2 |
MeteringMode | Multi-segment |
Model | NIKON D90 |
ModifyDate (1) | 2011:04:02 23:35:30+02:00 |
ModifyDate | 2011:04:02 23:35:30 |
ParametricDarks | -14 |
ParametricHighlights | -26 |
ParametricHighlightSplit | 75 |
ParametricLights | 0 |
ParametricMidtoneSplit | 50 |
ParametricShadows | -5 |
ParametricShadowSplit | 25 |
PostCropVignetteAmount | 0 |
ProfileDescription | sRGB IEC61966-2.1 |
RedHue | 0 |
RedSaturation | 0 |
Saturation (2) | +10 |
Saturation | Normal |
SaturationAdjustmentAqua | 0 |
SaturationAdjustmentBlue | 0 |
SaturationAdjustmentGreen | 0 |
SaturationAdjustmentMagenta | 0 |
SaturationAdjustmentOrange | 0 |
SaturationAdjustmentPurple | 0 |
SaturationAdjustmentRed | 0 |
SaturationAdjustmentYellow | 0 |
ScaleFactor35efl | 1.5 |
SceneCaptureType | Standard |
SceneType | Directly photographed |
SensingMethod | One-chip color area |
SerialNumber | 6334383 |
Shadows | 7 |
ShadowTint | 0 |
SharpenDetail | 60 |
SharpenEdgeMasking | 60 |
SharpenRadius | +0.7 |
Sharpness (2) | 84 |
Sharpness | Normal |
ShutterSpeed | 1/500 |
ShutterSpeedValue | 1/500 |
Software | Ver.1.00 |
SplitToningBalance | 0 |
SplitToningHighlightHue | 0 |
SplitToningHighlightSaturation | 0 |
SplitToningShadowHue | 0 |
SplitToningShadowSaturation | 0 |
SubjectDistanceRange | Unknown |
Tint | 0 |
ToneCurve | 0, 0, 32, 22, 64, 56, 128, 128, 192, 196, 255, 255 |
ToneCurveName | Medium Contrast |
Version | 5.2 |
Vibrance | +5 |
VignetteAmount | 0 |
WhiteBalance (2) | Custom |
WhiteBalance | Auto |