Felt | Verdi |
AlreadyApplied | True |
BitsPerSample | 8 |
BlueHue | 0 |
BlueSaturation | 0 |
Brightness | +150 |
By-line | Karel Krizak |
CameraProfile | Embedded |
ChromaticAberrationB | 0 |
ChromaticAberrationR | 0 |
Clarity | +59 |
ColorComponents | 3 |
ColorNoiseReduction | 0 |
Contrast | +2 |
ConvertToGrayscale | False |
Copyright | Karel Krizak |
CopyrightFlag | True |
CopyrightNotice | Karel Krizak |
CreateDate | 2011:04:10 19:26:50 |
Creator | Karel Krizak |
CreatorAddress | Kløvervegen 56 |
CreatorCity | Verdal |
CreatorCountry | Norway |
CreatorPostalCode | 7650 |
CreatorTool | Adobe Photoshop Lightroom |
CreatorWorkEmail | karel@krizak.com |
CropAngle | -0.692855 |
CropBottom | 0.551787 |
CropConstrainToWarp | 0 |
CropHeight | 900 |
CropLeft | 0.397303 |
CropRight | 0.538793 |
CropTop | 0.410041 |
CropUnit | pixels |
CropWidth | 728 |
DateTimeDigitized | 2011:04:10 19:26:50+02:00 |
Defringe | 0 |
ExifImageHeight | 900 |
ExifImageWidth | 728 |
Exposure | -4.00 |
FillLight | 100 |
GrainAmount | 0 |
GreenHue | 0 |
GreenSaturation | 0 |
HasCrop | True |
HasSettings | True |
HighlightRecovery | 100 |
HueAdjustmentAqua | 0 |
HueAdjustmentBlue | 0 |
HueAdjustmentGreen | 0 |
HueAdjustmentMagenta | 0 |
HueAdjustmentOrange | 0 |
HueAdjustmentPurple | 0 |
HueAdjustmentRed | 0 |
HueAdjustmentYellow | 0 |
ImageHeight | 900 |
ImageSize | 728x900 |
ImageWidth | 728 |
IncrementalTemperature | 0 |
IncrementalTint | 0 |
LensManualDistortionAmount | 0 |
LensProfileEnable | 0 |
LensProfileSetup | LensDefaults |
LuminanceAdjustmentAqua | 0 |
LuminanceAdjustmentBlue | 0 |
LuminanceAdjustmentGreen | 0 |
LuminanceAdjustmentMagenta | 0 |
LuminanceAdjustmentOrange | 0 |
LuminanceAdjustmentPurple | 0 |
LuminanceAdjustmentRed | 0 |
LuminanceAdjustmentYellow | 0 |
LuminanceSmoothing | 0 |
Make | Canon |
Marked | True |
Megapixels | 0.655 |
Model | 9000F |
ModifyDate (1) | 2011:04:10 19:39:51+02:00 |
ModifyDate | 2011:04:10 19:39:51 |
ParametricDarks | 0 |
ParametricHighlights | 0 |
ParametricHighlightSplit | 75 |
ParametricLights | 0 |
ParametricMidtoneSplit | 50 |
ParametricShadows | 0 |
ParametricShadowSplit | 25 |
PerspectiveHorizontal | 0 |
PerspectiveRotate | 0.0 |
PerspectiveScale | 100 |
PerspectiveVertical | 0 |
PostCropVignetteAmount | 0 |
ProcessVersion | 5.7 |
ProfileDescription | sRGB IEC61966-2.1 |
RedHue | 0 |
RedSaturation | 0 |
Rights | Karel Krizak |
Saturation | -24 |
SaturationAdjustmentAqua | 0 |
SaturationAdjustmentBlue | 0 |
SaturationAdjustmentGreen | 0 |
SaturationAdjustmentMagenta | 0 |
SaturationAdjustmentOrange | 0 |
SaturationAdjustmentPurple | 0 |
SaturationAdjustmentRed | 0 |
SaturationAdjustmentYellow | 0 |
Shadows | 100 |
ShadowTint | 0 |
SharpenDetail | 25 |
SharpenEdgeMasking | 0 |
SharpenRadius | +1.0 |
Sharpness | 0 |
SplitToningBalance | 0 |
SplitToningHighlightHue | 0 |
SplitToningHighlightSaturation | 0 |
SplitToningShadowHue | 0 |
SplitToningShadowSaturation | 0 |
ToneCurve | 0, 0, 255, 255 |
ToneCurveName | Linear |
Version | 6.1 |
Vibrance | -49 |
VignetteAmount | 0 |
WhiteBalance | As Shot |