Felt | Verdi |
2011-03-26T02:42:52-07:00 File P1060542 copy.tif saved
2011-03-26T02:46:02-07:00 File P1060542 copyxc.tif saved
2011-04-11T10:11:40-07:00 File 017 speiling #22.tif opened
2011-04-11T10:13:37-07:00 File 017 speiling #22.jpg saved
AlreadyApplied | True |
Aperture | 4.0 |
ApertureValue | 4.0 |
BitsPerSample (1) | 16 16 16 |
BitsPerSample | 8 |
BlueHue | 0 |
BlueSaturation | 0 |
Brightness | 0 |
CameraProfile | Embedded |
ChromaticAberrationB | 0 |
ChromaticAberrationR | 0 |
CircleOfConfusion | 0.006 mm |
Clarity | 0 |
ColorComponents | 3 |
ColorMode | RGB |
ColorNoiseReduction | 0 |
ColorSpace | sRGB |
Contrast (1) | 0 |
Contrast | Normal |
ConvertToGrayscale | False |
CreateDate (1) | 2011:03:14 12:25:25-07:00 |
CreateDate | 2011:03:14 12:25:25 |
CreatorTool | Adobe Photoshop Lightroom |
CustomRendered | Normal |
DateCreated (1) | 2011:03:14 |
DateCreated | 2011:03:14 12:25:25 |
DateTimeOriginal | 2011:03:14 12:25:25 |
Defringe | 0 |
DigitalZoomRatio | 0 |
ExifImageHeight | 1251 |
ExifImageWidth | 1227 |
Exposure | 0.00 |
ExposureCompensation | 0 |
ExposureMode | Auto |
ExposureProgram | Landscape |
ExposureTime | 1/400 |
FillLight | 0 |
Flash | Off, Did not fire |
FNumber | 4.0 |
FocalLength | 14.9 mm |
FocalLength35efl | 14.9 mm (35 mm equivalent: 70.0 mm) |
FocalLengthIn35mmFormat | 70 mm |
Format | image/jpeg |
FOV | 28.8 deg |
GainControl | None |
GrainAmount | 0 |
GreenHue | 0 |
GreenSaturation | 0 |
HasCrop | False |
HasSettings | True |
HighlightRecovery | 0 |
HueAdjustmentAqua | 0 |
HueAdjustmentBlue | 0 |
HueAdjustmentGreen | 0 |
HueAdjustmentMagenta | 0 |
HueAdjustmentOrange | 0 |
HueAdjustmentPurple | 0 |
HueAdjustmentRed | 0 |
HueAdjustmentYellow | 0 |
HyperfocalDistance | 8.68 m |
ICCProfileName | sRGB IEC61966-2.1 |
ImageHeight (1) | 2520 |
ImageHeight | 1251 |
ImageSize | 1227x1251 |
ImageWidth (1) | 2517 |
ImageWidth | 1227 |
IncrementalTemperature | 0 |
IncrementalTint | 0 |
ISO | 80 |
LensManualDistortionAmount | 0 |
LensProfileEnable | 0 |
LensProfileSetup | LensDefaults |
LightSource | Unknown |
LightValue | 13.0 |
LuminanceAdjustmentAqua | 0 |
LuminanceAdjustmentBlue | 0 |
LuminanceAdjustmentGreen | 0 |
LuminanceAdjustmentMagenta | 0 |
LuminanceAdjustmentOrange | 0 |
LuminanceAdjustmentPurple | 0 |
LuminanceAdjustmentRed | 0 |
LuminanceAdjustmentYellow | 0 |
LuminanceSmoothing | 0 |
Make | Panasonic |
MaxApertureValue | 2.0 |
Megapixels | 1.5 |
MeteringMode | Multi-segment |
Model | DMC-LX5 |
ModifyDate (1) | 2011:04:11 10:13:37-07:00 |
ModifyDate | 2011:04:11 10:13:37 |
Orientation | Horizontal (normal) |
PaintCorrectionActive | true |
PaintCorrectionAmount | 1.000000 |
PaintCorrectionBrightness | -0.431818 |
PaintCorrectionClarity | 0.295455 |
PaintCorrectionContrast | -0.545455 |
PaintCorrectionExposure | -0.659091 |
PaintCorrectionHue | 41.000000 |
PaintCorrectionMaskCenterWeight | 0.006008 |
PaintCorrectionMaskFlow | 0.384000 |
PaintCorrectionMaskRadius | 0.011990 |
PaintCorrectionMaskValue | 0.500000 |
PaintCorrectionMaskWhat | Mask/Paint |
PaintCorrectionSaturation (1) | -0.840909 |
PaintCorrectionSaturation | 0.660000 |
PaintCorrectionSharpness | 0.250000 |
PaintCorrectionWhat | Correction |
ParametricDarks | +37 |
ParametricHighlights | 0 |
ParametricHighlightSplit | 75 |
ParametricLights | +38 |
ParametricMidtoneSplit | 50 |
ParametricShadows | 0 |
ParametricShadowSplit | 25 |
PerspectiveHorizontal | 0 |
PerspectiveRotate | 0.0 |
PerspectiveScale | 100 |
PerspectiveVertical | 0 |
PhotometricInterpretation | RGB |
PlanarConfiguration | Chunky |
PostCropVignetteAmount | 0 |
ProcessVersion | 5.7 |
ProfileDescription | sRGB IEC61966-2.1 |
RedHue | 0 |
RedSaturation | 0 |
Saturation (1) | -32 |
Saturation | Normal |
SaturationAdjustmentAqua | 0 |
SaturationAdjustmentBlue | 0 |
SaturationAdjustmentGreen | 0 |
SaturationAdjustmentMagenta | 0 |
SaturationAdjustmentOrange | 0 |
SaturationAdjustmentPurple | 0 |
SaturationAdjustmentRed | 0 |
SaturationAdjustmentYellow | 0 |
ScaleFactor35efl | 4.7 |
SceneCaptureType | Standard |
SceneType | Directly photographed |
SensingMethod | One-chip color area |
SensitivityType | Standard Output Sensitivity |
Shadows | 0 |
ShadowTint | 0 |
SharpenDetail | 25 |
SharpenEdgeMasking | 0 |
SharpenRadius | +1.0 |
Sharpness (1) | 0 |
Sharpness | Normal |
ShutterSpeed | 1/400 |
ShutterSpeedValue | 1/400 |
Software | Adobe Photoshop CS5 Macintosh |
SplitToningBalance | 0 |
SplitToningHighlightHue | 0 |
SplitToningHighlightSaturation | 0 |
SplitToningShadowHue | 0 |
SplitToningShadowSaturation | 0 |
ToneCurve | 0, 0, 255, 255 |
ToneCurveName | Linear |
URL_List | |
Version | 6.2 |
Vibrance | 0 |
VignetteAmount | 0 |
WhiteBalance (1) | As Shot |
WhiteBalance | Auto |