Felt | Verdi |
AlreadyApplied | True |
Aperture | 8.0 |
ApertureValue | 8.0 |
Artist | R.A.Kollerudd=ddd |
BitsPerSample | 8 |
BlueHue | 0 |
BlueSaturation | 0 |
Brightness | +11 |
By-line | R.A.Kollerudd=ddd |
CameraProfile | Adobe Standard |
CFAPattern | [Red,Green][Green,Blue] |
ChromaticAberrationB | 0 |
ChromaticAberrationR | 0 |
CircleOfConfusion | 0.030 mm |
Clarity | +49 |
ColorComponents | 3 |
ColorMode | RGB |
ColorNoiseReduction | 25 |
ColorNoiseReductionDetail | 50 |
ColorSpace | Uncalibrated |
ColorTemperature | 4650 |
Contrast (2) | +58 |
Contrast | Normal |
ConvertToGrayscale | False |
Copyright | ROY_ARNE_KOLLERUD |
CopyrightNotice | ROY_ARNE_KOLLERUD |
CreateDate (1) | 2011:04:21 13:24:42.67+02:00 |
CreateDate | 2011:04:21 13:24:42 |
Creator | R.A.Kollerudd=ddd |
CreatorTool | Adobe Photoshop Lightroom |
CropAngle | -1.57895 |
CropBottom | 0.814203 |
CropConstrainToWarp | 0 |
CropHeight | 1883 |
CropLeft | 0.038456 |
CropRight | 0.983309 |
CropTop | 0.188214 |
CropUnit | pixels |
CropWidth | 3970 |
CustomRendered | Normal |
DateTimeDigitized | 2011:04:21 13:24:42.67+02:00 |
DateTimeOriginal (1) | 2011:04:21 13:24:42.67+02:00 |
DateTimeOriginal | 2011:04:21 13:24:42 |
Defringe | 0 |
DigitalZoomRatio | 1 |
DOF | 1.50 m (7.73 - 9.22 m) |
ExifImageHeight | 505 |
ExifImageWidth | 1024 |
Exposure | +0.05 |
ExposureCompensation | -1/3 |
ExposureMode | Auto |
ExposureProgram | Aperture-priority AE |
ExposureTime | 1/100 |
FillLight | 0 |
Flash | No Flash |
FlashFired | False |
FlashFunction | False |
FlashMode | Unknown |
FlashRedEyeMode | False |
FlashReturn | No return detection |
FNumber | 8.0 |
FocalLength | 150.0 mm |
FocalLength35efl | 150.0 mm (35 mm equivalent: 150.0 mm) |
FocalLengthIn35mmFormat | 150 mm |
Format | image/jpeg |
FOV | 13.7 deg |
GainControl | None |
GrainAmount | 0 |
GreenHue | 0 |
GreenSaturation | 0 |
HasCrop | True |
HasSettings | True |
HighlightRecovery | 42 |
HueAdjustmentAqua | 0 |
HueAdjustmentBlue | 0 |
HueAdjustmentGreen | 0 |
HueAdjustmentMagenta | 0 |
HueAdjustmentOrange | 0 |
HueAdjustmentPurple | 0 |
HueAdjustmentRed | 0 |
HueAdjustmentYellow | 0 |
HyperfocalDistance | 93.61 m |
ICCProfileName | Adobe RGB (1998) |
ImageHeight (1) | 1883 |
ImageHeight | 505 |
ImageNumber | 7390 |
ImageSize | 1024x505 |
ImageWidth (1) | 3970 |
ImageWidth | 1024 |
ISO | 200 |
Lens | 150.0 mm f/2.8 |
LensID (1) | 245 |
LensID | Sigma APO Macro 150mm F2.8 EX DG HSM |
LensInfo | 150mm f/2.8 |
LensManualDistortionAmount | 0 |
LensProfileEnable | 0 |
LensProfileSetup | LensDefaults |
LightSource | Unknown |
LightValue | 11.6 |
LuminanceAdjustmentAqua | 0 |
LuminanceAdjustmentBlue | 0 |
LuminanceAdjustmentGreen | 0 |
LuminanceAdjustmentMagenta | 0 |
LuminanceAdjustmentOrange | 0 |
LuminanceAdjustmentPurple | 0 |
LuminanceAdjustmentRed | 0 |
LuminanceAdjustmentYellow | 0 |
LuminanceSmoothing | 0 |
Make | NIKON CORPORATION |
MaxApertureValue | 2.8 |
Megapixels | 0.517 |
MeteringMode | Multi-segment |
Model | NIKON D700 |
ModifyDate (1) | 2011:04:27 11:02:04+02:00 |
ModifyDate | 2011:04:27 11:02:04 |
Orientation | Horizontal (normal) |
ParametricDarks | 0 |
ParametricHighlights | +40 |
ParametricHighlightSplit | 75 |
ParametricLights | +6 |
ParametricMidtoneSplit | 50 |
ParametricShadows | 0 |
ParametricShadowSplit | 25 |
PerspectiveHorizontal | 0 |
PerspectiveRotate | 0.0 |
PerspectiveScale | 100 |
PerspectiveVertical | 0 |
PostCropVignetteAmount | 0 |
ProcessVersion | 5.7 |
ProfileDescription | Adobe RGB (1998) |
RedHue | 0 |
RedSaturation | 0 |
Rights | ROY_ARNE_KOLLERUD |
Saturation (2) | +6 |
Saturation | Normal |
SaturationAdjustmentAqua | 0 |
SaturationAdjustmentBlue | 0 |
SaturationAdjustmentGreen | 0 |
SaturationAdjustmentMagenta | 0 |
SaturationAdjustmentOrange | 0 |
SaturationAdjustmentPurple | 0 |
SaturationAdjustmentRed | 0 |
SaturationAdjustmentYellow | 0 |
ScaleFactor35efl | 1.0 |
SceneCaptureType | Standard |
SceneType | Directly photographed |
SensingMethod | One-chip color area |
SerialNumber | 2147384 |
Shadows | 18 |
ShadowTint | 0 |
SharpenDetail | 35 |
SharpenEdgeMasking | 0 |
SharpenRadius | +1.1 |
Sharpness (2) | 60 |
Sharpness | Hard |
ShutterSpeed | 1/100 |
ShutterSpeedValue | 1/100 |
Software | Adobe Photoshop Elements 9.0 Macintosh |
SplitToningBalance | 0 |
SplitToningHighlightHue | 0 |
SplitToningHighlightSaturation | 0 |
SplitToningShadowHue | 0 |
SplitToningShadowSaturation | 0 |
SubjectDistance | 8.41 m |
SubjectDistanceRange | Unknown |
Tint | -8 |
ToneCurve | 0, 0, 32, 22, 64, 56, 128, 128, 192, 196, 255, 255 |
ToneCurveName | Medium Contrast |
URL_List | |
Version | 6.1 |
Vibrance | +36 |
VignetteAmount | 0 |
WhiteBalance (2) | As Shot |
WhiteBalance | Auto |