Felt | Verdi |
AlreadyApplied | True |
BitsPerSample | 8 |
BlueHue | -60 |
BlueSaturation | +3 |
Brightness | +50 |
By-line | Karel Krizak |
CameraProfile | Adobe Standard |
ChromaticAberrationB | 0 |
ChromaticAberrationR | 0 |
Clarity | 0 |
ColorComponents | 3 |
ColorNoiseReduction | 66 |
ColorNoiseReductionDetail | 50 |
Contrast | +25 |
ConvertToGrayscale | False |
Copyright | Karel Krizak |
CopyrightFlag | True |
CopyrightNotice | Karel Krizak |
CreateDate | 2011:04:17 17:40:05 |
Creator | Karel Krizak |
CreatorAddress | Kløvervegen 56 |
CreatorCity | Verdal |
CreatorCountry | Norway |
CreatorPostalCode | 7650 |
CreatorTool | Adobe Photoshop Lightroom |
CreatorWorkEmail | karel@krizak.com |
CropAngle | -0.700831 |
CropBottom | 0.876888 |
CropConstrainToWarp | 0 |
CropHeight | 880 |
CropLeft | 0.083631 |
CropRight | 0.578573 |
CropTop | 0.415161 |
CropUnit | pixels |
CropWidth | 900 |
DateTimeDigitized | 2011:04:17 17:40:05+02:00 |
Defringe | 0 |
ExifImageHeight | 880 |
ExifImageWidth | 900 |
Exposure | 0.00 |
FillLight | 0 |
GrainAmount | 0 |
GreenHue | +100 |
GreenSaturation | +100 |
HasCrop | True |
HasSettings | True |
HighlightRecovery | 0 |
HueAdjustmentAqua | 0 |
HueAdjustmentBlue | 0 |
HueAdjustmentGreen | 0 |
HueAdjustmentMagenta | 0 |
HueAdjustmentOrange | 0 |
HueAdjustmentPurple | 0 |
HueAdjustmentRed | 0 |
HueAdjustmentYellow | 0 |
ImageHeight | 880 |
ImageSize | 900x880 |
ImageWidth | 900 |
IncrementalTemperature | 0 |
IncrementalTint | 0 |
LensManualDistortionAmount | 0 |
LensProfileEnable | 0 |
LensProfileSetup | LensDefaults |
LuminanceAdjustmentAqua | 0 |
LuminanceAdjustmentBlue | 0 |
LuminanceAdjustmentGreen | +8 |
LuminanceAdjustmentMagenta | 0 |
LuminanceAdjustmentOrange | +9 |
LuminanceAdjustmentPurple | 0 |
LuminanceAdjustmentRed | 0 |
LuminanceAdjustmentYellow | +17 |
LuminanceNoiseReductionContrast | 0 |
LuminanceNoiseReductionDetail | 50 |
LuminanceSmoothing | 64 |
Make | Canon |
Marked | True |
Megapixels | 0.792 |
Model | 9000F |
ModifyDate (1) | 2011:04:17 18:05:55+02:00 |
ModifyDate | 2011:04:17 18:05:55 |
PaintCorrectionActive | true |
PaintCorrectionAmount | 1.000000 |
PaintCorrectionBrightness | 0.000000 |
PaintCorrectionClarity | 0.000000 |
PaintCorrectionContrast | 0.000000 |
PaintCorrectionExposure | 0.537000 |
PaintCorrectionHue | 33.000000 |
PaintCorrectionMaskCenterWeight | 0.323852 |
PaintCorrectionMaskFlow | 0.635000 |
PaintCorrectionMaskRadius | 0.126384 |
PaintCorrectionMaskValue | 0.726000 |
PaintCorrectionMaskWhat | Mask/Paint |
PaintCorrectionSaturation | 0.000000 |
PaintCorrectionSharpness | 0.000000 |
PaintCorrectionWhat | Correction |
ParametricDarks | -42 |
ParametricHighlights | +83 |
ParametricHighlightSplit | 79 |
ParametricLights | +74 |
ParametricMidtoneSplit | 35 |
ParametricShadows | -14 |
ParametricShadowSplit | 15 |
PerspectiveHorizontal | 0 |
PerspectiveRotate | 0.0 |
PerspectiveScale | 100 |
PerspectiveVertical | 0 |
PostCropVignetteAmount | 0 |
ProcessVersion | 5.7 |
ProfileDescription | sRGB IEC61966-2.1 |
RedHue | +100 |
RedSaturation | -100 |
Rights | Karel Krizak |
Saturation | -36 |
SaturationAdjustmentAqua | +11 |
SaturationAdjustmentBlue | +3 |
SaturationAdjustmentGreen | +12 |
SaturationAdjustmentMagenta | 0 |
SaturationAdjustmentOrange | +15 |
SaturationAdjustmentPurple | 0 |
SaturationAdjustmentRed | 0 |
SaturationAdjustmentYellow | +27 |
Shadows | 5 |
ShadowTint | -4 |
SharpenDetail | 25 |
SharpenEdgeMasking | 0 |
SharpenRadius | +1.0 |
Sharpness | 60 |
SplitToningBalance | 0 |
SplitToningHighlightHue | 38 |
SplitToningHighlightSaturation | 74 |
SplitToningShadowHue | 165 |
SplitToningShadowSaturation | 74 |
ToneCurve | 0, 0, 255, 255 |
ToneCurveName | Linear |
Version | 6.1 |
Vibrance | +23 |
VignetteAmount | -50 |
VignetteMidpoint | 20 |
WhiteBalance | As Shot |