Felt | Verdi |
AlreadyApplied | True |
Aperture | 6.3 |
ApertureValue | 6.3 |
Artist | Birgitta Sjöstedt |
BitsPerSample | 8 |
BlueHue | 0 |
BlueSaturation | 0 |
Brightness | +59 |
By-line | Birgitta Sjöstedt |
CameraProfile | Adobe Standard |
Caption-Abstract | An old broken house in grungy style. |
ChromaticAberrationB | 0 |
ChromaticAberrationR | 0 |
CircleOfConfusion | 0.019 mm |
Clarity | +50 |
ColorComponents | 3 |
ColorMode | RGB |
ColorNoiseReduction | 25 |
ColorNoiseReductionDetail | 50 |
ColorSpace | sRGB |
ColorTemperature | 4213 |
Contrast | +9 |
ConvertToGrayscale | False |
Copyright | Copyright Birgitta Sjöstedt 2010 |
CopyrightFlag | True |
CopyrightNotice | Copyright Birgitta Sjöstedt 2010 |
CreateDate (1) | 2011:04:06 12:11:26.13+02:00 |
CreateDate | 2011:04:06 12:11:26 |
Creator | Birgitta Sjöstedt |
CreatorAddress | Smedvägen 4 |
CreatorCity | Handen |
CreatorCountry | Sverige |
CreatorPostalCode | 136 46 |
CreatorTool | Adobe Photoshop Lightroom |
CreatorWorkEmail | sjostedt.birgitta@telia.com |
CreatorWorkTelephone | 073-7071565 |
CropAngle | -0.482535 |
CropBottom | 0.970879 |
CropConstrainToWarp | 0 |
CropHeight | 3076 |
CropLeft | 0.014376 |
CropRight | 0.962591 |
CropTop | 0.01191 |
CropUnit | pixels |
CropWidth | 4480 |
CustomRendered | Normal |
DateTimeDigitized | 2011:04:06 12:11:26.13+02:00 |
DateTimeOriginal (1) | 2011:04:06 12:11:26.13+02:00 |
DateTimeOriginal | 2011:04:06 12:11:26 |
Defringe | 0 |
Description | An old broken house in grungy style. |
DOF | 9.23 m (2.00 - 11.23 m) |
ExifImageHeight | 618 |
ExifImageWidth | 900 |
Exposure | +1.15 |
ExposureCompensation | -2/3 |
ExposureMode | Auto |
ExposureProgram | Aperture-priority AE |
ExposureTime | 1/320 |
FillLight | 6 |
Firmware | 1.0.5 |
Flash | Off, Did not fire |
FlashCompensation | 0 |
FlashFired | False |
FlashFunction | False |
FlashMode | Off |
FlashRedEyeMode | False |
FlashReturn | No return detection |
FNumber | 6.3 |
FocalLength | 24.0 mm |
FocalLength35efl | 24.0 mm (35 mm equivalent: 38.0 mm) |
Format | image/jpeg |
FOV | 50.7 deg |
GrainAmount | 0 |
GreenHue | 0 |
GreenSaturation | 0 |
HasCrop | True |
HasSettings | True |
HighlightRecovery | 0 |
HueAdjustmentAqua | 0 |
HueAdjustmentBlue | 0 |
HueAdjustmentGreen | 0 |
HueAdjustmentMagenta | 0 |
HueAdjustmentOrange | 0 |
HueAdjustmentPurple | 0 |
HueAdjustmentRed | 0 |
HueAdjustmentYellow | 0 |
HyperfocalDistance | 4.82 m |
ICCProfileName | sRGB IEC61966-2.1 |
ImageDescription | An old broken house in grungy style. |
ImageHeight (1) | 3076 |
ImageHeight | 618 |
ImageNumber | 0 |
ImageSize | 900x618 |
ImageWidth (1) | 4480 |
ImageWidth | 900 |
ISO | 400 |
Keywords | architecture, house, building, old, broken, destroy completely, destroy, disfigure, spooky, mysterious, mystic, witch, sorceress, ghost, spirit, shadow, phantom, fantasy |
Lens | EF24-105mm f/4L IS USM |
LensID (1) | 237 |
LensID | Canon EF 24-105mm f/4L IS USM |
LensInfo | 24-105mm f/? |
LensManualDistortionAmount | 0 |
LensProfileEnable | 0 |
LensProfileSetup | LensDefaults |
LightValue | 11.6 |
LuminanceAdjustmentAqua | 0 |
LuminanceAdjustmentBlue | 0 |
LuminanceAdjustmentGreen | 0 |
LuminanceAdjustmentMagenta | 0 |
LuminanceAdjustmentOrange | 0 |
LuminanceAdjustmentPurple | 0 |
LuminanceAdjustmentRed | 0 |
LuminanceAdjustmentYellow | 0 |
LuminanceSmoothing | 0 |
Make | Canon |
Marked | True |
MaxApertureValue | 4.0 |
Megapixels | 0.556 |
MeteringMode | Partial |
Model | Canon EOS 50D |
ModifyDate (1) | 2011:05:02 14:01+02:00 |
ModifyDate | 2011:05:02 14:01:00 |
ObjectName | Spooky house. |
Orientation | Horizontal (normal) |
ParametricDarks | -3 |
ParametricHighlights | +30 |
ParametricHighlightSplit | 75 |
ParametricLights | +12 |
ParametricMidtoneSplit | 50 |
ParametricShadows | -14 |
ParametricShadowSplit | 25 |
PerspectiveHorizontal | 0 |
PerspectiveRotate | 0.0 |
PerspectiveScale | 100 |
PerspectiveVertical | 0 |
PostCropVignetteAmount | 0 |
ProcessVersion | 5.7 |
ProfileDescription | sRGB IEC61966-2.1 |
RedHue | 0 |
RedSaturation | 0 |
Rights | Copyright Birgitta Sjöstedt 2010 |
Saturation | -100 |
SaturationAdjustmentAqua | 0 |
SaturationAdjustmentBlue | 0 |
SaturationAdjustmentGreen | 0 |
SaturationAdjustmentMagenta | 0 |
SaturationAdjustmentOrange | 0 |
SaturationAdjustmentPurple | 0 |
SaturationAdjustmentRed | 0 |
SaturationAdjustmentYellow | 0 |
ScaleFactor35efl | 1.6 |
SceneCaptureType | Standard |
SerialNumber | 730400804 |
Shadows | 33 |
ShadowTint | 0 |
SharpenDetail | 50 |
SharpenEdgeMasking | 0 |
SharpenRadius | +1.0 |
Sharpness | 25 |
ShutterSpeed | 1/320 |
ShutterSpeedValue | 1/320 |
Software | Adobe Photoshop Elements 8.0 Windows |
SplitToningBalance | 0 |
SplitToningHighlightHue | 0 |
SplitToningHighlightSaturation | 0 |
SplitToningShadowHue | 0 |
SplitToningShadowSaturation | 0 |
Subject | architecture, house, building, old, broken, destroy completely, destroy, disfigure, spooky, mysterious, mystic, witch, sorceress, ghost, spirit, shadow, phantom, fantasy |
SubjectDistance | 3.39 m |
Tint | -74 |
Title | Spooky house. |
ToneCurve | 0, 0, 255, 255 |
ToneCurveName | Linear |
URL_List | |
UsageTerms | Ingen användning av något slag utan tillstånd av upprättsinnehavaren |
Version | 6.1 |
Vibrance | +25 |
VignetteAmount | 0 |
WhiteBalance (2) | Custom |
WhiteBalance | Auto |