Felt | Verdi |
AlreadyApplied | True |
Aperture | 5.7 |
ApertureValue | 5.7 |
BitsPerSample | 8 |
BlueHue | 0 |
BlueSaturation | 0 |
Brightness | 0 |
CameraProfile | Embedded |
ChromaticAberrationB | 0 |
ChromaticAberrationR | 0 |
Clarity | +100 |
ColorComponents | 3 |
ColorNoiseReduction | 82 |
ColorNoiseReductionDetail | 50 |
Contrast | +32 |
ConvertToGrayscale | False |
CreateDate (1) | 2011:04:06 13:22:54+02:00 |
CreateDate | 2011:04:06 13:22:54 |
CreatorTool | Adobe Photoshop Lightroom |
CropAngle | 0.745371 |
CropBottom | 0.994102 |
CropConstrainToWarp | 0 |
CropHeight | 3350 |
CropLeft | 0.019559 |
CropRight | 0.980441 |
CropTop | 0.005898 |
CropUnit | pixels |
CropWidth | 5025 |
DateTimeDigitized | 2011:04:06 13:22:54+02:00 |
DateTimeOriginal (1) | 2011:04:06 13:22:54+02:00 |
DateTimeOriginal | 2011:04:06 13:22:54 |
Defringe | 0 |
ExifImageHeight | 3350 |
ExifImageWidth | 5025 |
Exposure | 0.00 |
ExposureCompensation | 0 |
ExposureProgram | Manual |
ExposureTime | 1/100 |
FillLight | 0 |
Flash | Off, Did not fire |
FlashFired | False |
FlashFunction | False |
FlashMode | Off |
FlashRedEyeMode | False |
FlashReturn | No return detection |
FNumber | 5.7 |
FocalLength | 18.0 mm |
FocalLength35efl | 18.0 mm |
GrainAmount | 0 |
GreenHue | 0 |
GreenSaturation | 0 |
HasCrop | True |
HasSettings | True |
HighlightRecovery | 0 |
HueAdjustmentAqua | 0 |
HueAdjustmentBlue | 0 |
HueAdjustmentGreen | 0 |
HueAdjustmentMagenta | 0 |
HueAdjustmentOrange | 0 |
HueAdjustmentPurple | 0 |
HueAdjustmentRed | 0 |
HueAdjustmentYellow | 0 |
ImageHeight | 3350 |
ImageSize | 5025x3350 |
ImageWidth | 5025 |
IncrementalTemperature | 0 |
IncrementalTint | 0 |
ISO | 200 |
LensManualDistortionAmount | 0 |
LensProfileEnable | 0 |
LensProfileSetup | LensDefaults |
LightValue | 10.7 |
LuminanceAdjustmentAqua | 0 |
LuminanceAdjustmentBlue | 0 |
LuminanceAdjustmentGreen | 0 |
LuminanceAdjustmentMagenta | 0 |
LuminanceAdjustmentOrange | 0 |
LuminanceAdjustmentPurple | 0 |
LuminanceAdjustmentRed | 0 |
LuminanceAdjustmentYellow | 0 |
LuminanceNoiseReductionContrast | 0 |
LuminanceNoiseReductionDetail | 0 |
LuminanceSmoothing | 20 |
Make | Canon |
Megapixels | 16.8 |
MeteringMode | Multi-segment |
Model | Canon EOS 7D |
ModifyDate (1) | 2011:04:07 08:53:11+02:00 |
ModifyDate | 2011:04:07 08:53:11 |
ParametricDarks | 0 |
ParametricHighlights | 0 |
ParametricHighlightSplit | 75 |
ParametricLights | -55 |
ParametricMidtoneSplit | 50 |
ParametricShadows | 0 |
ParametricShadowSplit | 25 |
PerspectiveHorizontal | 0 |
PerspectiveRotate | 0.0 |
PerspectiveScale | 100 |
PerspectiveVertical | 0 |
PostCropVignetteAmount | 0 |
ProcessVersion | 5.7 |
ProfileDescription | sRGB IEC61966-2.1 |
RedHue | 0 |
RedSaturation | 0 |
Saturation | +14 |
SaturationAdjustmentAqua | 0 |
SaturationAdjustmentBlue | 0 |
SaturationAdjustmentGreen | 0 |
SaturationAdjustmentMagenta | 0 |
SaturationAdjustmentOrange | 0 |
SaturationAdjustmentPurple | 0 |
SaturationAdjustmentRed | 0 |
SaturationAdjustmentYellow | 0 |
Shadows | 6 |
ShadowTint | 0 |
SharpenDetail | 25 |
SharpenEdgeMasking | 0 |
SharpenRadius | +1.0 |
Sharpness | 0 |
ShutterSpeed | 1/100 |
ShutterSpeedValue | 1/100 |
Software | QuickTime 7.6.6 |
SplitToningBalance | 0 |
SplitToningHighlightHue | 0 |
SplitToningHighlightSaturation | 0 |
SplitToningShadowHue | 0 |
SplitToningShadowSaturation | 0 |
ToneCurve | 0, 0, 255, 255 |
ToneCurveName | Linear |
Version | 6.1 |
Vibrance | +43 |
VignetteAmount | 0 |
WhiteBalance | As Shot |