Felt | Verdi |
AlreadyApplied | True |
Aperture | 9.0 |
ApertureValue | 9.0 |
ApproximateFocusDistance | 12.6 |
Artist | R.A.Kollerudd=ddd |
BitsPerSample | 8 |
BlueHue | 0 |
BlueSaturation | 0 |
Brightness | 0 |
By-line | R.A.Kollerudd=ddd |
CameraProfile | Adobe Standard |
CFAPattern | [Red,Green][Green,Blue] |
ChromaticAberrationB | 0 |
ChromaticAberrationR | 0 |
CircleOfConfusion | 0.030 mm |
Clarity | +74 |
ColorComponents | 3 |
ColorMode | RGB |
ColorNoiseReduction | 50 |
ColorNoiseReductionDetail | 50 |
ColorSpace | Uncalibrated |
ColorTemperature | 5300 |
Contrast (1) | +39 |
Contrast | Normal |
ConvertToGrayscale | False |
Copyright | ROY_ARNE_KOLLERUD |
CopyrightNotice | ROY_ARNE_KOLLERUD |
CreateDate (1) | 2011:05:08 13:09:04.37 |
CreateDate | 2011:05:08 13:09:04 |
Creator | R.A.Kollerudd=ddd |
CreatorTool | Adobe Photoshop Lightroom 3.4 |
CropAngle | 0 |
CropBottom | 0.918434 |
CropConstrainToWarp | 0 |
CropHeight | 2361 |
CropLeft | 0.221498 |
CropRight | 1 |
CropTop | 0.084829 |
CropUnit | pixels |
CropWidth | 3313 |
CustomRendered | Normal |
DateCreated | 2011:05:08 |
DateTimeDigitized | 2011:05:08 13:09:04+02:00 |
DateTimeOriginal (1) | 2011:05:08 13:09:04+02:00 |
DateTimeOriginal | 2011:05:08 13:09:04 |
Defringe | 0 |
DigitalZoomRatio | 1 |
DOF | 0.93 m (12.15 - 13.08 m) |
ExifImageHeight | 740 |
ExifImageWidth | 1024 |
Exposure | -0.10 |
ExposureCompensation | 0 |
ExposureMode | Auto |
ExposureProgram | Aperture-priority AE |
ExposureTime | 1/1000 |
FillLight | 11 |
Flash | No Flash |
FlashFired | False |
FlashFunction | False |
FlashMode | Unknown |
FlashRedEyeMode | False |
FlashReturn | No return detection |
FNumber | 9.0 |
FocalLength | 300.0 mm |
FocalLength35efl | 300.0 mm (35 mm equivalent: 300.0 mm) |
FocalLengthIn35mmFormat | 300 mm |
Format | image/jpeg |
FOV | 6.9 deg |
GainControl | Low gain up |
GrainAmount | 0 |
GreenHue | 0 |
GreenSaturation | 0 |
HasCrop | True |
HasSettings | True |
HighlightRecovery | 11 |
HueAdjustmentAqua | 0 |
HueAdjustmentBlue | 0 |
HueAdjustmentGreen | 0 |
HueAdjustmentMagenta | 0 |
HueAdjustmentOrange | 0 |
HueAdjustmentPurple | 0 |
HueAdjustmentRed | 0 |
HueAdjustmentYellow | 0 |
HyperfocalDistance | 332.82 m |
ICCProfileName | Adobe RGB (1998) |
ImageHeight | 740 |
ImageNumber | 7702 |
ImageSize | 1024x740 |
ImageWidth | 1024 |
ISO | 640 |
Lens | 28.0-300.0 mm f/3.5-5.6 |
LensID (1) | 165 |
LensID | AF-S Nikkor 28-300mm f/3.5-5.6G ED VR |
LensInfo | 28-300mm f/3.5-5.6 |
LensManualDistortionAmount | 0 |
LensModel | 28.0-300.0 mm f/3.5-5.6 |
LensProfileEnable | 0 |
LensProfileSetup | LensDefaults |
LightSource | Unknown |
LightValue | 13.6 |
LuminanceAdjustmentAqua | 0 |
LuminanceAdjustmentBlue | 0 |
LuminanceAdjustmentGreen | 0 |
LuminanceAdjustmentMagenta | 0 |
LuminanceAdjustmentOrange | 0 |
LuminanceAdjustmentPurple | 0 |
LuminanceAdjustmentRed | 0 |
LuminanceAdjustmentYellow | 0 |
LuminanceNoiseReductionContrast | 40 |
LuminanceNoiseReductionDetail | 51 |
LuminanceSmoothing | 70 |
Make | NIKON CORPORATION |
MaxApertureValue | 5.7 |
Megapixels | 0.758 |
MeteringMode | Multi-segment |
Model | NIKON D700 |
ModifyDate (1) | 2011:05:08 18:01:01+02:00 |
ModifyDate | 2011:05:08 18:01:01 |
Orientation | Horizontal (normal) |
ParametricDarks | +25 |
ParametricHighlights | -33 |
ParametricHighlightSplit | 75 |
ParametricLights | 0 |
ParametricMidtoneSplit | 50 |
ParametricShadows | 0 |
ParametricShadowSplit | 25 |
PerspectiveHorizontal | 0 |
PerspectiveRotate | 0.0 |
PerspectiveScale | 100 |
PerspectiveVertical | 0 |
PostCropVignetteAmount | 0 |
ProcessVersion | 5.7 |
ProfileDescription | Adobe RGB (1998) |
RedHue | 0 |
RedSaturation | 0 |
Rights | ROY_ARNE_KOLLERUD |
Saturation (1) | +14 |
Saturation | Normal |
SaturationAdjustmentAqua | 0 |
SaturationAdjustmentBlue | 0 |
SaturationAdjustmentGreen | 0 |
SaturationAdjustmentMagenta | 0 |
SaturationAdjustmentOrange | 0 |
SaturationAdjustmentPurple | 0 |
SaturationAdjustmentRed | 0 |
SaturationAdjustmentYellow | 0 |
ScaleFactor35efl | 1.0 |
SceneCaptureType | Standard |
SceneType | Directly photographed |
SensingMethod | One-chip color area |
SerialNumber | 2147384 |
Shadows | 6 |
ShadowTint | 0 |
SharpenDetail | 35 |
SharpenEdgeMasking | 21 |
SharpenRadius | +1.8 |
Sharpness (1) | 89 |
Sharpness | Hard |
ShutterSpeed | 1/1000 |
ShutterSpeedValue | 1/1000 |
Software | Adobe Photoshop Elements 9.0 Macintosh |
SplitToningBalance | 0 |
SplitToningHighlightHue | 295 |
SplitToningHighlightSaturation | 0 |
SplitToningShadowHue | 277 |
SplitToningShadowSaturation | 0 |
SubjectDistance | 12.6 m |
SubjectDistanceRange | Unknown |
Tint | -1 |
ToneCurve | 0, 0, 32, 22, 64, 56, 128, 128, 192, 196, 255, 255 |
ToneCurveName | Medium Contrast |
URL_List | |
Version | 6.4 |
Vibrance | +29 |
VignetteAmount | 0 |
WhiteBalance (1) | As Shot |
WhiteBalance | Auto |