Felt | Verdi |
AlreadyApplied | True |
Aperture | 5.7 |
ApertureValue | 5.7 |
BitsPerSample | 8 |
BlueHue | 0 |
BlueSaturation | 0 |
Brightness | +14 |
CameraProfile | Embedded |
ChromaticAberrationB | 0 |
ChromaticAberrationR | 0 |
Clarity | +93 |
ColorComponents | 3 |
ColorNoiseReduction | 0 |
Contrast | +42 |
ConvertToGrayscale | False |
CreateDate (1) | 2011:04:06 13:33:06+02:00 |
CreateDate | 2011:04:06 13:33:06 |
CreatorTool | Adobe Photoshop Lightroom |
DateTimeDigitized | 2011:04:06 13:33:06+02:00 |
DateTimeOriginal (1) | 2011:04:06 13:33:06+02:00 |
DateTimeOriginal | 2011:04:06 13:33:06 |
Defringe | 0 |
ExifImageHeight | 3456 |
ExifImageWidth | 5184 |
Exposure | 0.00 |
ExposureCompensation | 0 |
ExposureProgram | Manual |
ExposureTime | 1/100 |
FillLight | 0 |
Flash | Off, Did not fire |
FlashFired | False |
FlashFunction | False |
FlashMode | Off |
FlashRedEyeMode | False |
FlashReturn | No return detection |
FNumber | 5.7 |
FocalLength | 18.0 mm |
FocalLength35efl | 18.0 mm |
GradientBasedCorrActive | true |
GradientBasedCorrAmount | 1.000000 |
GradientBasedCorrBrightness (1) | 0.247059 |
GradientBasedCorrBrightness | -1.000000 |
GradientBasedCorrClarity | 1.000000 |
GradientBasedCorrContrast (1) | 0.505882 |
GradientBasedCorrContrast | 1.000000 |
GradientBasedCorrExposure (1) | -0.152941 |
GradientBasedCorrExposure | -1.000000 |
GradientBasedCorrHue | 0.000000 |
GradientBasedCorrMaskFullX (1) | 0.504728 |
GradientBasedCorrMaskFullX | 0.447991 |
GradientBasedCorrMaskFullY (1) | 0.404255 |
GradientBasedCorrMaskFullY | 0.994681 |
GradientBasedCorrMaskValue | 1.000000 |
GradientBasedCorrMaskWhat | Mask/Gradient |
GradientBasedCorrMaskZeroX (1) | 0.503546 |
GradientBasedCorrMaskZeroX | 0.446809 |
GradientBasedCorrMaskZeroY (1) | 0.730496 |
GradientBasedCorrMaskZeroY | 0.734043 |
GradientBasedCorrSaturation (1) | 0.764706 |
GradientBasedCorrSaturation (3) | 1.000000 |
GradientBasedCorrSaturation | 0.000000 |
GradientBasedCorrSharpness | 1.000000 |
GradientBasedCorrWhat | Correction |
GrainAmount | 0 |
GreenHue | 0 |
GreenSaturation | 0 |
HasCrop | False |
HasSettings | True |
HighlightRecovery | 93 |
HueAdjustmentAqua | 0 |
HueAdjustmentBlue | 0 |
HueAdjustmentGreen | 0 |
HueAdjustmentMagenta | 0 |
HueAdjustmentOrange | 0 |
HueAdjustmentPurple | 0 |
HueAdjustmentRed | 0 |
HueAdjustmentYellow | 0 |
ImageHeight | 3456 |
ImageSize | 5184x3456 |
ImageWidth | 5184 |
IncrementalTemperature | -20 |
IncrementalTint | +14 |
ISO | 400 |
LensManualDistortionAmount | 0 |
LensProfileEnable | 0 |
LensProfileSetup | LensDefaults |
LightValue | 9.7 |
LuminanceAdjustmentAqua | 0 |
LuminanceAdjustmentBlue | 0 |
LuminanceAdjustmentGreen | 0 |
LuminanceAdjustmentMagenta | 0 |
LuminanceAdjustmentOrange | 0 |
LuminanceAdjustmentPurple | 0 |
LuminanceAdjustmentRed | 0 |
LuminanceAdjustmentYellow | 0 |
LuminanceNoiseReductionContrast | 100 |
LuminanceNoiseReductionDetail | 100 |
LuminanceSmoothing | 76 |
Make | Canon |
Megapixels | 17.9 |
MeteringMode | Multi-segment |
Model | Canon EOS 7D |
ModifyDate (1) | 2011:04:07 08:54:22+02:00 |
ModifyDate | 2011:04:07 08:54:22 |
ParametricDarks | 0 |
ParametricHighlights | 0 |
ParametricHighlightSplit | 75 |
ParametricLights | 0 |
ParametricMidtoneSplit | 50 |
ParametricShadows | 0 |
ParametricShadowSplit | 25 |
PerspectiveHorizontal | 0 |
PerspectiveRotate | 0.0 |
PerspectiveScale | 100 |
PerspectiveVertical | 0 |
PostCropVignetteAmount | 0 |
ProcessVersion | 5.7 |
ProfileDescription | sRGB IEC61966-2.1 |
RedHue | 0 |
RedSaturation | 0 |
Saturation | +9 |
SaturationAdjustmentAqua | 0 |
SaturationAdjustmentBlue | 0 |
SaturationAdjustmentGreen | 0 |
SaturationAdjustmentMagenta | 0 |
SaturationAdjustmentOrange | 0 |
SaturationAdjustmentPurple | 0 |
SaturationAdjustmentRed | 0 |
SaturationAdjustmentYellow | 0 |
Shadows | 8 |
ShadowTint | 0 |
SharpenDetail | 25 |
SharpenEdgeMasking | 0 |
SharpenRadius | +1.0 |
Sharpness | 0 |
ShutterSpeed | 1/100 |
ShutterSpeedValue | 1/100 |
Software | QuickTime 7.6.6 |
SplitToningBalance | 0 |
SplitToningHighlightHue | 0 |
SplitToningHighlightSaturation | 0 |
SplitToningShadowHue | 0 |
SplitToningShadowSaturation | 0 |
ToneCurve | 0, 0, 255, 255 |
ToneCurveName | Linear |
Version | 6.1 |
Vibrance | -5 |
VignetteAmount | 0 |
WhiteBalance | Custom |