Felt | Verdi |
2011-05-17T14:05:48+02:00 File C:\Users\Rune\Pictures\17 mai 2011\TIFF\vann1.tif saved
2011-05-17T14:06:07+02:00 File vann1.tif opened
AlreadyApplied | True |
Aperture | 11.0 |
ApertureValue | 11.0 |
BitsPerSample (1) | 16 16 16 |
BitsPerSample | 8 |
BlueHue | 0 |
BlueSaturation | 0 |
Brightness | 0 |
CameraProfile | Adobe Standard |
CFAPattern | [Blue,Green][Green,Red] |
ChromaticAberrationB | 0 |
ChromaticAberrationR | 0 |
CircleOfConfusion | 0.020 mm |
Clarity | +73 |
ColorComponents | 1 |
ColorMode | RGB |
ColorNoiseReduction | 25 |
ColorNoiseReductionDetail | 50 |
ColorSpace | sRGB |
ColorTemperature | 5900 |
Contrast (1) | +69 |
Contrast | Normal |
ConvertToGrayscale | True |
Copyright | Rune Nilssen |
CopyrightFlag | True |
CopyrightNotice | Rune Nilssen |
CreateDate (1) | 2011:05:17 10:25:40+02:00 |
CreateDate | 2011:05:17 10:25:40 |
CreatorTool | Adobe Photoshop CS5 Windows |
CustomRendered | Normal |
DateCreated (1) | 2011:05:17 |
DateCreated | 2011:05:17 10:25:40 |
DateTimeOriginal | 2011:05:17 10:25:40 |
Defringe | 0 |
ExifImageHeight | 1024 |
ExifImageWidth | 680 |
Exposure | +0.20 |
ExposureCompensation | +1 |
ExposureMode | Manual |
ExposureProgram | Aperture-priority AE |
ExposureTime | 1/4 |
FillLight | 0 |
Flash | Off, Did not fire |
FNumber | 11.0 |
FocalLength | 50.0 mm |
FocalLength35efl | 50.0 mm (35 mm equivalent: 75.0 mm) |
FocalLengthIn35mmFormat | 75 mm |
Format | image/jpeg |
FOV | 27.0 deg |
GradientBasedCorrActive | true |
GradientBasedCorrAmount | 1.000000 |
GradientBasedCorrBrightness (1) | 0.000000 |
GradientBasedCorrBrightness | 0.020000 |
GradientBasedCorrClarity (1) | 0.000000 |
GradientBasedCorrClarity | 0.140000 |
GradientBasedCorrContrast | 0.000000 |
GradientBasedCorrExposure (1) | 0.175000 |
GradientBasedCorrExposure | 0.237500 |
GradientBasedCorrHue | 230.000000 |
GradientBasedCorrMaskFullX (1) | 0.001695 |
GradientBasedCorrMaskFullX | 0.757627 |
GradientBasedCorrMaskFullY (1) | 0.461735 |
GradientBasedCorrMaskFullY | 0.997449 |
GradientBasedCorrMaskValue | 1.000000 |
GradientBasedCorrMaskWhat | Mask/Gradient |
GradientBasedCorrMaskZeroX (1) | 1.001695 |
GradientBasedCorrMaskZeroX | 0.759322 |
GradientBasedCorrMaskZeroY (1) | 0.464286 |
GradientBasedCorrMaskZeroY | 0.002551 |
GradientBasedCorrSaturation | 0.000000 |
GradientBasedCorrSharpness | 0.000000 |
GradientBasedCorrWhat | Correction |
GrainAmount | 0 |
GrayMixerAqua | -19 |
GrayMixerBlue | +10 |
GrayMixerGreen | -27 |
GrayMixerMagenta | +4 |
GrayMixerOrange | -18 |
GrayMixerPurple | +15 |
GrayMixerRed | -9 |
GrayMixerYellow | -22 |
GreenHue | 0 |
GreenSaturation | 0 |
HasCrop | False |
HasSettings | True |
HighlightRecovery | 4 |
HyperfocalDistance | 11.35 m |
ICCProfileName | sRGB IEC61966-2.1 |
ImageHeight (1) | 5120 |
ImageHeight | 1024 |
ImageSize | 680x1024 |
ImageWidth (1) | 3402 |
ImageWidth | 680 |
ISO | 100 |
Lens | smc PENTAX-FA 50mm F1.4 |
LensID (1) | 4 12 |
LensID | smc PENTAX-FA 50mm F1.4 |
LensInfo | 50mm f/1.4 |
LightValue | 8.9 |
LuminanceSmoothing | 0 |
Make | PENTAX |
Marked | True |
Megapixels | 0.696 |
MeteringMode | Center-weighted average |
Model | PENTAX K20D |
ModifyDate (1) | 2011:05:17 14:06:25+02:00 |
ModifyDate | 2011:05:17 14:06:25 |
Orientation | Horizontal (normal) |
ParametricDarks | -31 |
ParametricHighlights | +59 |
ParametricHighlightSplit | 75 |
ParametricLights | +19 |
ParametricMidtoneSplit | 50 |
ParametricShadows | -32 |
ParametricShadowSplit | 25 |
PhotometricInterpretation | RGB |
PlanarConfiguration | Chunky |
PostCropVignetteAmount | 0 |
ProcessVersion | 5.7 |
ProfileDescription | sRGB IEC61966-2.1 |
Rating | 0 |
RawFileName | _RUN3237.PEF |
RedHue | 0 |
RedSaturation | 0 |
Rights | Rune Nilssen |
Saturation | Normal |
ScaleFactor35efl | 1.5 |
SceneCaptureType | Standard |
SensingMethod | One-chip color area |
Shadows | 58 |
ShadowTint | 0 |
SharpenDetail | 4 |
SharpenEdgeMasking | 0 |
SharpenRadius | +0.5 |
Sharpness (1) | 0 |
Sharpness | Hard |
ShutterSpeed | 1/4 |
ShutterSpeedValue | 1/4 |
Software | Adobe Photoshop CS5 Windows |
SplitToningBalance | 0 |
SplitToningHighlightHue | 0 |
SplitToningHighlightSaturation | 0 |
SplitToningShadowHue | 0 |
SplitToningShadowSaturation | 0 |
SubjectDistanceRange | Distant |
Tint | -17 |
ToneCurve | 0, 0, 32, 22, 64, 56, 128, 128, 192, 196, 255, 255 |
ToneCurveName | Medium Contrast |
URL_List | |
UsageTerms | |
Version | 6.0 |
VignetteAmount | 0 |
WhiteBalance (1) | As Shot |
WhiteBalance | Manual |