Felt | Verdi |
AlreadyApplied | True |
Aperture | 4.5 |
ApertureValue | 4.5 |
BitsPerSample | 8 |
BlackClip | 0.044000 |
BlueHue | 0 |
BlueSaturation | 0 |
Brightness | 0 |
By-line | Ola Bråhammar |
CameraProfile | Embedded |
ChromaticAberrationB | 0 |
ChromaticAberrationR | 0 |
Clarity | 0 |
ColorComponents | 3 |
ColorNoiseReduction | 0 |
ColorSaturation | 80.0 |
ColorTemperature | 1.8 |
Contrast | 0 |
ConvertToGrayscale | False |
CreateDate | 2010:06:23 19:18:30+02:00 |
Creator | Ola Bråhammar |
CreatorTool | Adobe Photoshop Lightroom |
DateTimeOriginal (1) | 2010:06:23 19:18:30+02:00 |
DateTimeOriginal | 2010:06:23 19:18:30 |
Defringe | 0 |
ExifImageHeight | 853 |
ExifImageWidth | 1280 |
Exposure | 0.00 |
ExposureTime | 1/20 |
FillLight | 0 |
FNumber | 4.5 |
FocalLength | 24.0 mm |
FocalLength35efl | 24.0 mm |
Gamma | 1.5 |
GrainAmount | 0 |
GreenHue | 0 |
GreenSaturation | 0 |
HasCrop | False |
HasSettings | True |
HighlightRecovery | 0 |
HighlightsSmoothing | 0.0 |
HueAdjustmentAqua | 0 |
HueAdjustmentBlue | 0 |
HueAdjustmentGreen | 0 |
HueAdjustmentMagenta | 0 |
HueAdjustmentOrange | 0 |
HueAdjustmentPurple | 0 |
HueAdjustmentRed | 0 |
HueAdjustmentYellow | 0 |
ImageHeight | 853 |
ImageSize | 1280x853 |
ImageWidth | 1280 |
IncrementalTemperature | +24 |
IncrementalTint | 0 |
ISO | 200 |
Keywords | HDR, Lush, Nature, Summer, forest, landscape, light, mystic, outside, romantic, sun rays, trees |
LensManualDistortionAmount | 0 |
LensProfileEnable | 0 |
LensProfileSetup | LensDefaults |
LightValue | 7.7 |
LuminanceAdjustmentAqua | 0 |
LuminanceAdjustmentBlue | 0 |
LuminanceAdjustmentGreen | 0 |
LuminanceAdjustmentMagenta | 0 |
LuminanceAdjustmentOrange | 0 |
LuminanceAdjustmentPurple | 0 |
LuminanceAdjustmentRed | 0 |
LuminanceAdjustmentYellow | 0 |
LuminanceSmoothing | 0 |
Luminosity | 5.8 |
Megapixels | 1.1 |
Method | Details Enhancer |
Microcontrast | 6.9 |
Microsmoothing | 14.6 |
Model | Canon EOS 5D |
ModifyDate (1) | 2011:05:23 18:57:23+02:00 |
ModifyDate | 2011:05:23 18:57:23 |
ParametricDarks | 0 |
ParametricHighlights | 0 |
ParametricHighlightSplit | 75 |
ParametricLights | 0 |
ParametricMidtoneSplit | 50 |
ParametricShadows | 0 |
ParametricShadowSplit | 25 |
PerspectiveHorizontal | 0 |
PerspectiveRotate | 0.0 |
PerspectiveScale | 100 |
PerspectiveVertical | 0 |
PostCropVignetteAmount | -60 |
PostCropVignetteFeather | 68 |
PostCropVignetteHighlightContrast | 0 |
PostCropVignetteMidpoint | 50 |
PostCropVignetteRoundness | 0 |
PostCropVignetteStyle | 1 |
ProcessVersion | 5.0 |
ProfileDescription | sRGB IEC61966-2.1 |
Rating | 3 |
RedHue | 0 |
RedSaturation | 0 |
Saturation | -10 |
SaturationAdjustmentAqua | 0 |
SaturationAdjustmentBlue | +10 |
SaturationAdjustmentGreen | 0 |
SaturationAdjustmentMagenta | 0 |
SaturationAdjustmentOrange | 0 |
SaturationAdjustmentPurple | 0 |
SaturationAdjustmentRed | 0 |
SaturationAdjustmentYellow | 0 |
SaturationHighlights | 8.0 |
SaturationShadows | 2.8 |
Shadows | 0 |
ShadowsClipping | 21.0 |
ShadowsSmoothing | 0.0 |
ShadowTint | 0 |
SharpenDetail | 25 |
SharpenEdgeMasking | 0 |
SharpenRadius | +1.0 |
Sharpness | 0 |
ShutterSpeed | 1/20 |
ShutterSpeedValue | 1/20 |
Smoothing | Very High |
SplitToningBalance | 0 |
SplitToningHighlightHue | 0 |
SplitToningHighlightSaturation | 0 |
SplitToningShadowHue | 0 |
SplitToningShadowSaturation | 0 |
Strength | 42.0 |
Subject | HDR, Lush, Nature, Summer, forest, landscape, light, mystic, outside, romantic, sun rays, trees |
ToneCurve | 0, 0, 255, 255 |
ToneCurveName | Linear |
Version (1) | 3.2 |
Version | 6.1 |
Vibrance | 0 |
VignetteAmount | 0 |
WhiteBalance | Custom |
WhiteClip | 2.718550 |