Felt | Verdi |
AlreadyApplied | True |
Aperture | 3.2 |
ApertureValue | 3.2 |
BitsPerSample | 8 |
BlueHue | 0 |
BlueSaturation | 0 |
Brightness | +61 |
BrightnessValue | 4.55 |
CameraProfile | Adobe Standard |
ChromaticAberrationB | 0 |
ChromaticAberrationR | 0 |
CircleOfConfusion | 0.009 mm |
Clarity | +36 |
ColorComponents | 3 |
ColorMode | RGB |
ColorNoiseReduction | 25 |
ColorNoiseReductionDetail | 50 |
ColorSpace | Uncalibrated |
ColorTemperature | 4900 |
Contrast | +37 |
ConvertToGrayscale | False |
CreateDate | 2011:05:14 01:45:44 |
CreatorTool | Adobe Photoshop Lightroom 3.4 |
CropAngle | 0 |
CropBottom | 0.934641 |
CropConstrainToWarp | 0 |
CropHeight | 2662 |
CropLeft | 0 |
CropRight | 1 |
CropTop | 0 |
CropUnit | pixels |
CropWidth | 4288 |
CustomRendered | Normal |
DateCreated | 2011:05:14 |
DateTimeDigitized | 2011:05:14 01:45:44+02:00 |
DateTimeOriginal (1) | 2011:05:14 01:45:44+02:00 |
DateTimeOriginal | 2011:05:14 01:45:44 |
Defringe | 0 |
ExifImageHeight | 648 |
ExifImageWidth | 1024 |
Exposure | 0.00 |
ExposureCompensation | 0 |
ExposureMode | Auto |
ExposureProgram | Program AE |
ExposureTime | 1/210 |
FillLight | 0 |
Flash | Auto, Did not fire |
FlashFired | False |
FlashFunction | False |
FlashMode | Auto |
FlashRedEyeMode | False |
FlashReturn | No return detection |
FNumber | 3.2 |
FocalLength | 23.0 mm |
FocalLength35efl | 23.0 mm (35 mm equivalent: 75.9 mm) |
Format | image/jpeg |
FOV | 26.7 deg |
GrainAmount | 0 |
GreenHue | 0 |
GreenSaturation | 0 |
HasCrop | True |
HasSettings | True |
HighlightRecovery | 14 |
HueAdjustmentAqua | 0 |
HueAdjustmentBlue | 0 |
HueAdjustmentGreen | 0 |
HueAdjustmentMagenta | 0 |
HueAdjustmentOrange | 0 |
HueAdjustmentPurple | 0 |
HueAdjustmentRed | 0 |
HueAdjustmentYellow | 0 |
HyperfocalDistance | 18.15 m |
ICCProfileName | Adobe RGB (1998) |
ImageHeight | 648 |
ImageSize | 1024x648 |
ImageWidth | 1024 |
ISO | 400 |
LensManualDistortionAmount | 0 |
LensProfileEnable | 0 |
LensProfileSetup | LensDefaults |
LightSource | Unknown |
LightValue | 9.1 |
LuminanceAdjustmentAqua | 0 |
LuminanceAdjustmentBlue | 0 |
LuminanceAdjustmentGreen | 0 |
LuminanceAdjustmentMagenta | 0 |
LuminanceAdjustmentOrange | 0 |
LuminanceAdjustmentPurple | 0 |
LuminanceAdjustmentRed | 0 |
LuminanceAdjustmentYellow | 0 |
LuminanceSmoothing | 0 |
Make | FUJIFILM |
MaxApertureValue | 2.0 |
Megapixels | 0.664 |
MeteringMode | Multi-segment |
Model | FinePix X100 |
ModifyDate (1) | 2011:05:22 12:12:25+02:00 |
ModifyDate | 2011:05:22 12:12:25 |
Orientation | Horizontal (normal) |
ParametricDarks | 0 |
ParametricHighlights | 0 |
ParametricHighlightSplit | 75 |
ParametricLights | 0 |
ParametricMidtoneSplit | 50 |
ParametricShadows | 0 |
ParametricShadowSplit | 25 |
PerspectiveHorizontal | 0 |
PerspectiveRotate | 0.0 |
PerspectiveScale | 100 |
PerspectiveVertical | 0 |
PostCropVignetteAmount | 0 |
ProcessVersion | 5.7 |
ProfileDescription | Adobe RGB (1998) |
RedHue | 0 |
RedSaturation | 0 |
Saturation | 0 |
SaturationAdjustmentAqua | 0 |
SaturationAdjustmentBlue | 0 |
SaturationAdjustmentGreen | 0 |
SaturationAdjustmentMagenta | 0 |
SaturationAdjustmentOrange | 0 |
SaturationAdjustmentPurple | 0 |
SaturationAdjustmentRed | 0 |
SaturationAdjustmentYellow | 0 |
ScaleFactor35efl | 3.3 |
SceneCaptureType | Standard |
SceneType | Directly photographed |
SensingMethod | One-chip color area |
SensitivityType | Standard Output Sensitivity |
Shadows | 3 |
ShadowTint | 0 |
SharpenDetail | 35 |
SharpenEdgeMasking | 0 |
SharpenRadius | +0.8 |
Sharpness | 40 |
ShutterSpeed | 1/210 |
ShutterSpeedValue | 1/210 |
Software | Adobe Photoshop Elements 9.0 Macintosh |
SplitToningBalance | 0 |
SplitToningHighlightHue | 0 |
SplitToningHighlightSaturation | 0 |
SplitToningShadowHue | 0 |
SplitToningShadowSaturation | 0 |
SubjectDistanceRange | Unknown |
Tint | +9 |
ToneCurve | 0, 0, 32, 22, 64, 56, 128, 128, 192, 196, 255, 255 |
ToneCurveName | Medium Contrast |
URL_List | |
Version | 6.4 |
Vibrance | 0 |
VignetteAmount | 0 |
WhiteBalance (1) | As Shot |
WhiteBalance | Auto |