Felt | Verdi |
AlreadyApplied | True |
Aperture | 11.0 |
ApertureValue | 11.0 |
BitsPerSample | 8 |
BlueHue | 0 |
BlueSaturation | 0 |
Brightness | +50 |
CameraProfile | Adobe Standard |
CFAPattern | [Red,Green][Green,Blue] |
ChromaticAberrationB | 0 |
ChromaticAberrationR | 0 |
CircleOfConfusion | 0.020 mm |
Clarity | 0 |
ColorComponents | 1 |
ColorMode | Grayscale |
ColorNoiseReduction | 25 |
ColorNoiseReductionDetail | 50 |
ColorSpace | Uncalibrated |
ColorTemperature | 5050 |
Contrast (1) | +71 |
Contrast | Normal |
ConvertToGrayscale | True |
CreateDate (1) | 2011:04:01 16:35:21.56+02:00 |
CreateDate | 2011:04:01 16:35:21 |
CreatorTool | Adobe Photoshop CS5 Windows |
CustomRendered | Normal |
DateCreated (1) | 2011:04:01 |
DateCreated | 2011:04:01 16:35:21.056 |
DateTimeOriginal | 2011:04:01 16:35:21 |
Defringe | 0 |
DigitalZoomRatio | 1 |
DOF | 2.05 m (9.67 - 11.73 m) |
ExifImageHeight | 4477 |
ExifImageWidth | 3037 |
Exposure | -0.55 |
ExposureCompensation | 0 |
ExposureMode | Auto |
ExposureProgram | Shutter speed priority AE |
ExposureTime | 1/6 |
FillLight | 15 |
Flash | No Flash |
FNumber | 11.0 |
FocalLength | 155.0 mm |
FocalLength35efl | 155.0 mm (35 mm equivalent: 232.0 mm) |
FocalLengthIn35mmFormat | 232 mm |
Format | image/jpeg |
FOV | 8.9 deg |
GainControl | Low gain up |
GrainAmount | 60 |
GrainFrequency | 50 |
GrainSize | 25 |
GrayMixerAqua | -19 |
GrayMixerBlue | +6 |
GrayMixerGreen | -24 |
GrayMixerMagenta | +4 |
GrayMixerOrange | -15 |
GrayMixerPurple | +13 |
GrayMixerRed | -7 |
GrayMixerYellow | -18 |
GreenHue | 0 |
GreenSaturation | 0 |
HasCrop | False |
HasSettings | True |
HighlightRecovery | 0 |
HyperfocalDistance | 108.80 m |
ICCProfileName | Gray Gamma 2.2 |
ImageHeight | 4477 |
ImageNumber | 29595 |
ImageSize | 3037x4477 |
ImageWidth | 3037 |
ISO | 500 |
Lens | 18.0-200.0 mm f/3.5-6.3 |
LensID (1) | 38 |
LensID | Sigma 18-200mm F3.5-6.3 DC |
LensInfo | 18-200mm f/3.5-6.3 |
LightSource | Unknown |
LightValue | 7.2 |
LuminanceSmoothing | 0 |
Make | NIKON CORPORATION |
MaxApertureValue | 5.9 |
Megapixels | 13.6 |
MeteringMode | Multi-segment |
Model | NIKON D2X |
ModifyDate (1) | 2011:04:15 02:06:12+02:00 |
ModifyDate | 2011:04:15 02:06:12 |
Orientation | Horizontal (normal) |
ParametricDarks | 0 |
ParametricHighlights | 0 |
ParametricHighlightSplit | 75 |
ParametricLights | 0 |
ParametricMidtoneSplit | 50 |
ParametricShadows | 0 |
ParametricShadowSplit | 25 |
PostCropVignetteAmount | 0 |
ProcessVersion | 5.7 |
ProfileDescription | Gray Gamma 2.2 |
Rating | 0 |
RawFileName | _NLT4924.NEF |
RedHue | 0 |
RedSaturation | 0 |
Saturation | Normal |
ScaleFactor35efl | 1.5 |
SceneCaptureType | Standard |
SceneType | Directly photographed |
SensingMethod | One-chip color area |
SerialNumber | 5065828 |
Shadows | 51 |
ShadowTint | 0 |
SharpenDetail | 25 |
SharpenEdgeMasking | 0 |
SharpenRadius | +1.0 |
Sharpness (1) | 25 |
Sharpness | Hard |
ShutterSpeed | 1/6 |
ShutterSpeedValue | 1/6 |
SidecarForExtension | NEF |
Software | Adobe Photoshop CS5 Windows |
SplitToningBalance | 0 |
SplitToningHighlightHue | 0 |
SplitToningHighlightSaturation | 0 |
SplitToningShadowHue | 0 |
SplitToningShadowSaturation | 0 |
SubjectDistance | 10.6 m |
SubjectDistanceRange | Unknown |
Tint | 0 |
ToneCurve | 0, 0, 32, 22, 64, 56, 128, 128, 192, 196, 255, 255 |
ToneCurveName | Medium Contrast |
URL_List | |
UserComment | (C) NANDOR TAMAS foto@digg.no_ |
Version | 6.0 |
VignetteAmount | -100 |
VignetteMidpoint | 50 |
WhiteBalance (1) | As Shot |
WhiteBalance | Auto |