Felt | Verdi |
AlreadyApplied | True |
Aperture | 7.1 |
ApertureValue | 7.1 |
BitsPerSample | 8 |
BlueHue | 0 |
BlueSaturation | 0 |
Brightness | 0 |
CameraProfile | Embedded |
ChromaticAberrationB | 0 |
ChromaticAberrationR | 0 |
Clarity | +100 |
ColorComponents | 3 |
ColorNoiseReduction | 100 |
ColorNoiseReductionDetail | 100 |
Contrast | +100 |
ConvertToGrayscale | False |
CreateDate | 2011:05:21 14:06:45+02:00 |
CreatorTool | Adobe Photoshop Lightroom |
DateTimeOriginal (1) | 2011:05:21 14:06:45+02:00 |
DateTimeOriginal | 2011:05:21 14:06:45 |
Defringe | 0 |
ExifImageHeight | 2824 |
ExifImageWidth | 4270 |
Exposure | +0.05 |
ExposureTime | 1/200 |
FillLight | 33 |
FNumber | 7.1 |
FocalLength | 25.0 mm |
FocalLength35efl | 25.0 mm |
GrainAmount | 0 |
GreenHue | 0 |
GreenSaturation | 0 |
HasCrop | False |
HasSettings | True |
HighlightRecovery | 100 |
HueAdjustmentAqua | 0 |
HueAdjustmentBlue | 0 |
HueAdjustmentGreen | 0 |
HueAdjustmentMagenta | 0 |
HueAdjustmentOrange | 0 |
HueAdjustmentPurple | 0 |
HueAdjustmentRed | 0 |
HueAdjustmentYellow | 0 |
ImageHeight | 2824 |
ImageSize | 4270x2824 |
ImageWidth | 4270 |
IncrementalTemperature | 0 |
IncrementalTint | 0 |
ISO | 400 |
LensManualDistortionAmount | 0 |
LensProfileEnable | 0 |
LensProfileSetup | LensDefaults |
LightValue | 11.3 |
LuminanceAdjustmentAqua | 0 |
LuminanceAdjustmentBlue | +14 |
LuminanceAdjustmentGreen | 0 |
LuminanceAdjustmentMagenta | 0 |
LuminanceAdjustmentOrange | 0 |
LuminanceAdjustmentPurple | 0 |
LuminanceAdjustmentRed | 0 |
LuminanceAdjustmentYellow | 0 |
LuminanceNoiseReductionContrast | 100 |
LuminanceNoiseReductionDetail | 100 |
LuminanceSmoothing | 30 |
Megapixels | 12.1 |
Model | NIKON D300S |
ModifyDate (1) | 2011:05:21 16:29:48+02:00 |
ModifyDate | 2011:05:21 16:29:48 |
ParametricDarks | -17 |
ParametricHighlights | -100 |
ParametricHighlightSplit | 75 |
ParametricLights | +71 |
ParametricMidtoneSplit | 50 |
ParametricShadows | +100 |
ParametricShadowSplit | 25 |
PerspectiveHorizontal | 0 |
PerspectiveRotate | 0.0 |
PerspectiveScale | 100 |
PerspectiveVertical | 0 |
PostCropVignetteAmount | 0 |
ProcessVersion | 5.7 |
ProfileDescription | sRGB IEC61966-2.1 |
RedHue | 0 |
RedSaturation | 0 |
Saturation | +6 |
SaturationAdjustmentAqua | 0 |
SaturationAdjustmentBlue | -62 |
SaturationAdjustmentGreen | 0 |
SaturationAdjustmentMagenta | 0 |
SaturationAdjustmentOrange | +32 |
SaturationAdjustmentPurple | 0 |
SaturationAdjustmentRed | +12 |
SaturationAdjustmentYellow | 0 |
Shadows | 48 |
ShadowTint | 0 |
SharpenDetail | 100 |
SharpenEdgeMasking | 0 |
SharpenRadius | +1.0 |
Sharpness | 14 |
ShutterSpeed | 1/200 |
ShutterSpeedValue | 1/200 |
SplitToningBalance | 0 |
SplitToningHighlightHue | 0 |
SplitToningHighlightSaturation | 0 |
SplitToningShadowHue | 0 |
SplitToningShadowSaturation | 0 |
ToneCurve | 0, 0, 255, 255 |
ToneCurveName | Linear |
Version | 6.1 |
Vibrance | +14 |
VignetteAmount | 0 |
WhiteBalance | As Shot |