Felt | Verdi |
AlreadyApplied | True |
Aperture | 5.6 |
ApertureValue | 5.6 |
ApproximateFocusDistance | 2.03 |
Artist | Photographer: JH Vikjord |
BitsPerSample | 8 |
BlueHue | 0 |
BlueSaturation | 0 |
Brightness | +16 |
By-line | Photographer: JH Vikjord |
CameraProfile | ACR 3.3 |
ChromaticAberrationB | 0 |
ChromaticAberrationR | 0 |
CircleOfConfusion | 0.031 mm |
Clarity | +51 |
ColorComponents | 3 |
ColorNoiseReduction | 20 |
ColorNoiseReductionDetail | 50 |
ColorTemperature | 11721 |
Contrast | +5 |
ConvertToGrayscale | False |
Copyright | JH Vikjord@2011 |
CopyrightFlag | True |
CopyrightNotice | JH Vikjord@2011 |
CreateDate (1) | 2011:05:29 14:22:53.88 |
CreateDate | 2011:05:29 14:22:53 |
Creator | Photographer: JH Vikjord |
CreatorAddress | Parkveien 98 |
CreatorCity | Bodø |
CreatorCountry | Norway |
CreatorPostalCode | N-8005 |
CreatorTool | Adobe Photoshop Lightroom 3.4.1 |
CreatorWorkEmail | jvikjord@me.com |
CreatorWorkTelephone | +47 90204505 |
CustomRendered | Normal |
DateCreated (1) | 2011:05:29 |
DateCreated | 2011:05:29 14:22:53.88 |
DateTimeOriginal | 2011:05:29 14:22:53 |
Defringe | 0 |
DOF | 0.07 m (1.99 - 2.07 m) |
Exposure | +1.07 |
ExposureCompensation | 0 |
ExposureMode | Manual |
ExposureProgram | Manual |
ExposureTime | 1/125 |
FillLight | 73 |
Firmware | 2.0.8 |
Flash | Off, Did not fire |
FlashCompensation | 0 |
FNumber | 5.6 |
FocalLength | 135.0 mm |
FocalLength35efl | 135.0 mm (35 mm equivalent: 131.8 mm) |
FOV | 15.6 deg |
GrainAmount | 0 |
GreenHue | 0 |
GreenSaturation | 0 |
HasCrop | False |
HasSettings | True |
HighlightRecovery | 64 |
HueAdjustmentAqua | -48 |
HueAdjustmentBlue | 0 |
HueAdjustmentGreen | +34 |
HueAdjustmentMagenta | +29 |
HueAdjustmentOrange | +36 |
HueAdjustmentPurple | 0 |
HueAdjustmentRed | +27 |
HueAdjustmentYellow | -46 |
HyperfocalDistance | 105.71 m |
ImageHeight | 683 |
ImageNumber | 0 |
ImageSize | 1024x683 |
ImageWidth | 1024 |
ISO | 100 |
Lens | EF135mm f/2L USM |
LensID (1) | 174 |
LensID | Canon EF 135mm f/2L USM |
LensInfo | 135mm f/? |
LensManualDistortionAmount | 0 |
LensModel | EF135mm f/2L USM |
LensProfileEnable | 0 |
LensProfileSetup | LensDefaults |
LightValue | 11.9 |
LuminanceAdjustmentAqua | 0 |
LuminanceAdjustmentBlue | 0 |
LuminanceAdjustmentGreen | +72 |
LuminanceAdjustmentMagenta | 0 |
LuminanceAdjustmentOrange | +60 |
LuminanceAdjustmentPurple | 0 |
LuminanceAdjustmentRed | 0 |
LuminanceAdjustmentYellow | +62 |
LuminanceNoiseReductionContrast | 0 |
LuminanceNoiseReductionDetail | 50 |
LuminanceSmoothing | 20 |
Make | Canon |
Marked | True |
MaxApertureValue | 2.0 |
Megapixels | 0.699 |
MeteringMode | Multi-segment |
Model | Canon EOS 5D Mark II |
ModifyDate (1) | 2011:05:29 15:43:34+02:00 |
ModifyDate | 2011:05:29 15:43:34 |
OwnerName | Joern H Vikjord |
ParametricDarks | 0 |
ParametricHighlights | -18 |
ParametricHighlightSplit | 75 |
ParametricLights | +35 |
ParametricMidtoneSplit | 50 |
ParametricShadows | -22 |
ParametricShadowSplit | 25 |
PerspectiveHorizontal | 0 |
PerspectiveRotate | 0.0 |
PerspectiveScale | 100 |
PerspectiveVertical | 0 |
PostCropVignetteAmount | 0 |
ProcessVersion | 5.7 |
ProfileDescription | Adobe RGB (1998) |
RedHue | 0 |
RedSaturation | 0 |
Rights | JH Vikjord@2011 |
Saturation | -62 |
SaturationAdjustmentAqua | -65 |
SaturationAdjustmentBlue | 0 |
SaturationAdjustmentGreen | -100 |
SaturationAdjustmentMagenta | 0 |
SaturationAdjustmentOrange | +18 |
SaturationAdjustmentPurple | +6 |
SaturationAdjustmentRed | 0 |
SaturationAdjustmentYellow | 0 |
ScaleFactor35efl | 1.0 |
SceneCaptureType | Standard |
SerialNumber | 130101683 |
Shadows | 66 |
ShadowTint | 0 |
SharpenDetail | 15 |
SharpenEdgeMasking | 0 |
SharpenRadius | +1.0 |
Sharpness | 24 |
ShutterSpeed | 1/125 |
ShutterSpeedValue | 1/125 |
Software | Adobe Photoshop Lightroom 3.4.1 |
SplitToningBalance | 0 |
SplitToningHighlightHue | 0 |
SplitToningHighlightSaturation | 0 |
SplitToningShadowHue | 0 |
SplitToningShadowSaturation | 0 |
SubjectDistance | 2.03 m |
Tint | -79 |
ToneCurve | 0, 0, 32, 16, 64, 50, 128, 128, 192, 202, 255, 255 |
ToneCurveName | Strong Contrast |
Version | 6.4.1 |
Vibrance | -1 |
VignetteAmount | -60 |
VignetteMidpoint | 27 |
WhiteBalance (1) | Custom |
WhiteBalance | Auto |