Felt | Verdi |
AlreadyApplied | True |
Aperture | 14.0 |
ApertureValue | 14.0 |
ApproximateFocusDistance | 1 |
BitsPerSample (1) | 8, 8, 8 |
BitsPerSample (2) | 8 8 8 |
BitsPerSample | 8 |
BlueHue | 0 |
BlueSaturation | 0 |
Brightness | +50 |
CameraProfile | Adobe Standard |
CFAPattern | [Red,Green][Green,Blue] |
ChromaticAberrationB | 0 |
ChromaticAberrationR | 0 |
CircleOfConfusion | 0.020 mm |
Clarity | 0 |
ColorComponents | 3 |
ColorMode | RGB |
ColorNoiseReduction | 25 |
ColorNoiseReductionDetail | 50 |
ColorSpace | sRGB |
ColorTemperature | 5600 |
Contrast (1) | +40 |
Contrast | Normal |
ConvertToGrayscale | False |
CopyrightFlag | False |
CreateDate (1) | 2011:05:30 13:37:54+01:00 |
CreateDate | 2011:05:28 22:49:22 |
CreatorTool | Adobe Photoshop CS Windows |
CustomRendered | Normal |
DateCreated | 2011:05:28 |
DateTimeDigitized | 2011:05:28 22:49:22+01:00 |
DateTimeOriginal (1) | 2011:05:28 22:49:22+01:00 |
DateTimeOriginal | 2011:05:28 22:49:22 |
Defringe | 0 |
DigitalZoomRatio | 1 |
DOF | inf (0.34 m - inf) |
ExifImageHeight | 797 |
ExifImageWidth | 1200 |
Exposure | +0.94 |
ExposureCompensation | +4/3 |
ExposureMode | Auto |
ExposureProgram | Aperture-priority AE |
ExposureTime | 1/15 |
FillLight | 0 |
Flash | No Flash |
FlashFired | False |
FlashFunction | False |
FlashMode | Unknown |
FlashRedEyeMode | False |
FlashReturn | No return detection |
FNumber | 14.0 |
FocalLength | 12.0 mm |
FocalLength35efl | 12.0 mm (35 mm equivalent: 18.0 mm) |
FocalLengthIn35mmFormat | 18 mm |
Format | image/jpeg |
FOV | 90.0 deg |
GainControl | None |
GPSAltitude (2) | 10 m |
GPSAltitude | 10 m Above Sea Level |
GPSAltitudeRef | Above Sea Level |
GPSDateStamp | 2011:05:28 |
GPSDateTime (1) | 2011:05:28 20:45:28 |
GPSDateTime | 2011:05:28 20:45:28Z |
GPSLatitude (1) | 62 deg 15' 9.00" N |
GPSLatitude (2) | 62 deg 15' 8.83" |
GPSLatitude | 62 deg 15' 8.83" N |
GPSLatitudeRef | North |
GPSLongitude (1) | 5 deg 31' 47.40" E |
GPSLongitude (2) | 5 deg 31' 47.36" |
GPSLongitude | 5 deg 31' 47.36" E |
GPSLongitudeRef | East |
GPSPosition | 62 deg 15' 8.83" N, 5 deg 31' 47.36" E |
GPSSatellites | 06 |
GPSTimeStamp | 20:45:28 |
GPSVersionID | 2.2.0.0 |
GradientBasedCorrActive | true |
GradientBasedCorrAmount | 1.000000 |
GradientBasedCorrBrightness (1) | -0.274000 |
GradientBasedCorrBrightness | 0.062000 |
GradientBasedCorrClarity (1) | 0.310000 |
GradientBasedCorrClarity | 0.115000 |
GradientBasedCorrContrast (1) | 0.168000 |
GradientBasedCorrContrast | 0.080000 |
GradientBasedCorrExposure (1) | -0.487000 |
GradientBasedCorrExposure | 0.027000 |
GradientBasedCorrHue | 0.000000 |
GradientBasedCorrMasks | , |
GradientBasedCorrSaturation (1) | 0.345000 |
GradientBasedCorrSaturation (3) | -0.044000 |
GradientBasedCorrSaturation | 0.000000 |
GradientBasedCorrSharpness | 0.133000 |
GradientBasedCorrWhat | Correction |
GrainAmount | 0 |
GreenHue | 0 |
GreenSaturation | 0 |
HasCrop | False |
HasSettings | True |
HighlightRecovery | 0 |
HueAdjustmentAqua | 0 |
HueAdjustmentBlue | 0 |
HueAdjustmentGreen | 0 |
HueAdjustmentMagenta | 0 |
HueAdjustmentOrange | 0 |
HueAdjustmentPurple | 0 |
HueAdjustmentRed | 0 |
HueAdjustmentYellow | 0 |
HyperfocalDistance | 0.51 m |
ICCProfileName | sRGB IEC61966-2.1 |
ImageHeight (2) | 2848 |
ImageHeight | 797 |
ImageNumber | 36936 |
ImageSize | 1200x797 |
ImageWidth (2) | 4288 |
ImageWidth | 1200 |
ISO | 250 |
Lens | 12.0-24.0 mm f/4.0 |
LensID (1) | 122 |
LensID | AF-S DX Zoom-Nikkor 12-24mm f/4G IF-ED or Tokina AT-X 124 AF PRO DX II (AF 12-24mm f/4) |
LensInfo | 12-24mm f/4 |
LensManualDistortionAmount | 0 |
LensModel | 12.0-24.0 mm f/4.0 |
LensProfileEnable | 0 |
LensProfileSetup | LensDefaults |
LightSource | Unknown |
LightValue | 10.2 |
LuminanceAdjustmentAqua | 0 |
LuminanceAdjustmentBlue | 0 |
LuminanceAdjustmentGreen | 0 |
LuminanceAdjustmentMagenta | 0 |
LuminanceAdjustmentOrange | 0 |
LuminanceAdjustmentPurple | 0 |
LuminanceAdjustmentRed | 0 |
LuminanceAdjustmentYellow | 0 |
LuminanceNoiseReductionContrast | 0 |
LuminanceNoiseReductionDetail | 50 |
LuminanceSmoothing | 5 |
Make | NIKON CORPORATION |
MaxApertureValue | 4.0 |
Megapixels | 0.956 |
MeteringMode | Center-weighted average |
Model | NIKON D300 |
ModifyDate (1) | 2011:05:30 13:37:54+01:00 |
ModifyDate | 2011:05:30 13:37:54 |
Orientation | Horizontal (normal) |
ParametricDarks | 0 |
ParametricHighlights | +44 |
ParametricHighlightSplit | 75 |
ParametricLights | 0 |
ParametricMidtoneSplit | 50 |
ParametricShadows | 0 |
ParametricShadowSplit | 25 |
PerspectiveHorizontal | 0 |
PerspectiveRotate | 0.0 |
PerspectiveScale | 100 |
PerspectiveVertical | 0 |
PhotometricInterpretation | RGB |
PostCropVignetteAmount | 0 |
ProcessVersion | 5.7 |
ProfileDescription | sRGB IEC61966-2.1 |
RedHue | 0 |
RedSaturation | 0 |
SamplesPerPixel | 3 |
Saturation (1) | 0 |
Saturation | Normal |
SaturationAdjustmentAqua | 0 |
SaturationAdjustmentBlue | 0 |
SaturationAdjustmentGreen | 0 |
SaturationAdjustmentMagenta | 0 |
SaturationAdjustmentOrange | +23 |
SaturationAdjustmentPurple | 0 |
SaturationAdjustmentRed | 0 |
SaturationAdjustmentYellow | +29 |
ScaleFactor35efl | 1.5 |
SceneCaptureType | Standard |
SceneType | Directly photographed |
SensingMethod | One-chip color area |
SerialNumber | 7021557 |
Shadows | 5 |
ShadowTint | 0 |
SharpenDetail | 25 |
SharpenEdgeMasking | 0 |
SharpenRadius | +1.1 |
Sharpness (1) | 55 |
Sharpness | Normal |
ShutterSpeed | 1/15 |
ShutterSpeedValue | 1/15 |
Software | Adobe Photoshop CS Windows |
SplitToningBalance | 0 |
SplitToningHighlightHue | 0 |
SplitToningHighlightSaturation | 0 |
SplitToningShadowHue | 0 |
SplitToningShadowSaturation | 0 |
SubjectDistance | 1 m |
SubjectDistanceRange | Unknown |
Tint | -3 |
ToneCurve | 0, 0, 32, 22, 64, 56, 128, 128, 192, 196, 255, 255 |
ToneCurveName | Medium Contrast |
URL_List | |
Version | 6.4 |
Vibrance | 0 |
VignetteAmount | 0 |
WhiteBalance (1) | As Shot |
WhiteBalance | Auto |