Felt | Verdi |
AlreadyApplied | True |
Aperture | 13.0 |
ApertureValue | 13.0 |
BitsPerSample | 8 |
BlueHue | 0 |
BlueSaturation | 0 |
Brightness | -2 |
BrightnessValue | 9.37 |
CameraProfile | Embedded |
Caption-Abstract | SONY DSC |
ChromaticAberrationB | 0 |
ChromaticAberrationR | 0 |
CircleOfConfusion | 0.020 mm |
Clarity | 0 |
ColorComponents | 3 |
ColorNoiseReduction | 0 |
Contrast (2) | +38 |
Contrast | Normal |
ConvertToGrayscale | False |
CreateDate (1) | 2010:12:09 15:04:03+01:00 |
CreateDate | 2010:12:09 15:04:03 |
CreatorTool | Adobe Photoshop Lightroom |
CustomRendered | Normal |
DateTimeDigitized | 2010:12:09 15:04:03+01:00 |
DateTimeOriginal (1) | 2010:12:09 15:04:03+01:00 |
DateTimeOriginal | 2010:12:09 15:04:03 |
Defringe | 0 |
Description | SONY DSC |
DigitalZoomRatio | 0 |
ExifImageHeight | 2848 |
ExifImageWidth | 4272 |
Exposure | +0.51 |
ExposureCompensation | 0 |
ExposureMode | Manual |
ExposureProgram | Manual |
ExposureTime | 1/400 |
FillLight | 0 |
Flash | Off, Did not fire |
FlashFired | False |
FlashFunction | False |
FlashMode | Off |
FlashRedEyeMode | False |
FlashReturn | No return detection |
FNumber | 13.0 |
FocalLength | 60.0 mm |
FocalLength35efl | 60.0 mm (35 mm equivalent: 90.0 mm) |
FocalLengthIn35mmFormat | 90 mm |
FOV | 22.6 deg |
GradientBasedCorrActive | true |
GradientBasedCorrAmount | 1.000000 |
GradientBasedCorrBrightness (2) | -0.220000 |
GradientBasedCorrBrightness | 0.000000 |
GradientBasedCorrClarity (2) | 0.293000 |
GradientBasedCorrClarity | 0.000000 |
GradientBasedCorrContrast | 0.000000 |
GradientBasedCorrExposure (1) | 0.195000 |
GradientBasedCorrExposure (2) | 0.024000 |
GradientBasedCorrExposure | 0.000000 |
GradientBasedCorrHue (2) | 240.000000 |
GradientBasedCorrHue (3) | 245.000000 |
GradientBasedCorrHue | 198.000000 |
GradientBasedCorrMaskFullX (1) | 0.202404 |
GradientBasedCorrMaskFullX (2) | 0.723596 |
GradientBasedCorrMaskFullX (3) | 0.506844 |
GradientBasedCorrMaskFullX | 0.583864 |
GradientBasedCorrMaskFullY (1) | 0.567965 |
GradientBasedCorrMaskFullY (2) | 0.396767 |
GradientBasedCorrMaskFullY (3) | 0.444447 |
GradientBasedCorrMaskFullY | 1.157890 |
GradientBasedCorrMaskValue | 1.000000 |
GradientBasedCorrMaskWhat | Mask/Gradient |
GradientBasedCorrMaskZeroX (1) | 0.242040 |
GradientBasedCorrMaskZeroX (2) | 0.723773 |
GradientBasedCorrMaskZeroX (3) | 0.508405 |
GradientBasedCorrMaskZeroX | 0.581179 |
GradientBasedCorrMaskZeroY (1) | 0.313614 |
GradientBasedCorrMaskZeroY (2) | 0.557911 |
GradientBasedCorrMaskZeroY (3) | 0.596442 |
GradientBasedCorrMaskZeroY | 0.885981 |
GradientBasedCorrSaturation (2) | 0.000000 |
GradientBasedCorrSaturation (3) | 0.024000 |
GradientBasedCorrSaturation (6) | 0.870000 |
GradientBasedCorrSaturation | 0.240000 |
GradientBasedCorrSharpness | 0.000000 |
GradientBasedCorrWhat | Correction |
GrainAmount | 0 |
GreenHue | 0 |
GreenSaturation | 0 |
HasCrop | False |
HasSettings | True |
HighlightRecovery | 52 |
HueAdjustmentAqua | 0 |
HueAdjustmentBlue | 0 |
HueAdjustmentGreen | 0 |
HueAdjustmentMagenta | 0 |
HueAdjustmentOrange | 0 |
HueAdjustmentPurple | 0 |
HueAdjustmentRed | 0 |
HueAdjustmentYellow | 0 |
HyperfocalDistance | 13.82 m |
ImageDescription | SONY DSC |
ImageHeight | 2848 |
ImageSize | 4272x2848 |
ImageWidth | 4272 |
IncrementalTemperature | +6 |
IncrementalTint | -6 |
ISO | 400 |
LensManualDistortionAmount | 0 |
LensProfileEnable | 0 |
LensProfileSetup | LensDefaults |
LightSource | Unknown |
LightValue | 14.0 |
LuminanceAdjustmentAqua | 0 |
LuminanceAdjustmentBlue | 0 |
LuminanceAdjustmentGreen | 0 |
LuminanceAdjustmentMagenta | 0 |
LuminanceAdjustmentOrange | 0 |
LuminanceAdjustmentPurple | 0 |
LuminanceAdjustmentRed | 0 |
LuminanceAdjustmentYellow | 0 |
LuminanceSmoothing | 0 |
Make | SONY |
MaxApertureValue | 2.8 |
Megapixels | 12.2 |
MeteringMode | Spot |
Model | DSLR-A700 |
ModifyDate (1) | 2011:05:31 02:42:27+02:00 |
ModifyDate | 2011:05:31 02:42:27 |
ParametricDarks | 0 |
ParametricHighlights | 0 |
ParametricHighlightSplit | 75 |
ParametricLights | 0 |
ParametricMidtoneSplit | 50 |
ParametricShadows | 0 |
ParametricShadowSplit | 25 |
PerspectiveHorizontal | 0 |
PerspectiveRotate | 0.0 |
PerspectiveScale | 100 |
PerspectiveVertical | 0 |
PostCropVignetteAmount | 0 |
ProcessVersion | 5.7 |
ProfileDescription | sRGB IEC61966-2.1 |
RedHue | 0 |
RedSaturation | 0 |
Saturation (2) | +26 |
Saturation | Normal |
SaturationAdjustmentAqua | 0 |
SaturationAdjustmentBlue | 0 |
SaturationAdjustmentGreen | 0 |
SaturationAdjustmentMagenta | 0 |
SaturationAdjustmentOrange | 0 |
SaturationAdjustmentPurple | 0 |
SaturationAdjustmentRed | 0 |
SaturationAdjustmentYellow | 0 |
ScaleFactor35efl | 1.5 |
SceneCaptureType | Standard |
SceneType | Directly photographed |
Shadows | 9 |
ShadowTint | 0 |
SharpenDetail | 25 |
SharpenEdgeMasking | 0 |
SharpenRadius | +1.0 |
Sharpness (2) | 0 |
Sharpness | Normal |
ShutterSpeed | 1/400 |
ShutterSpeedValue | 1/400 |
Software | DSLR-A700 v04 |
SplitToningBalance | 0 |
SplitToningHighlightHue | 0 |
SplitToningHighlightSaturation | 0 |
SplitToningShadowHue | 0 |
SplitToningShadowSaturation | 0 |
ToneCurve | 0, 0, 255, 255 |
ToneCurveName | Linear |
Version | 6.1 |
Vibrance | 0 |
VignetteAmount | 0 |
WhiteBalance (2) | Custom |
WhiteBalance | Auto |