Felt | Verdi |
AlreadyApplied | True |
Aperture | 9.0 |
ApertureValue | 9.0 |
BitsPerSample | 8 |
BlueHue | 0 |
BlueSaturation | 0 |
Brightness | +71 |
CameraProfile | Adobe Standard |
ChromaticAberrationB | 0 |
ChromaticAberrationR | 0 |
CircleOfConfusion | 0.027 mm |
Clarity | +24 |
ColorComponents | 3 |
ColorNoiseReduction | 25 |
ColorNoiseReductionDetail | 50 |
ColorTemperature | 5793 |
Contrast | +29 |
ConvertToGrayscale | False |
CreateDate (1) | 2011:06:01 22:41:39.00+02:00 |
CreateDate | 2011:06:01 22:41:39 |
CreatorTool | Adobe Photoshop Lightroom |
CropAngle | -1.75849 |
CropBottom | 0.696509 |
CropConstrainToWarp | 0 |
CropHeight | 2245 |
CropLeft | 0.006554 |
CropRight | 1 |
CropTop | 0.053992 |
CropUnit | pixels |
CropWidth | 4797 |
CustomRendered | Normal |
DateTimeDigitized | 2011:06:01 22:41:39.00+02:00 |
DateTimeOriginal (1) | 2011:06:01 22:41:39.00+02:00 |
DateTimeOriginal | 2011:06:01 22:41:39 |
Defringe | 0 |
DOF | inf (0.64 m - inf) |
ExifImageHeight | 2245 |
ExifImageWidth | 4797 |
Exposure | +0.05 |
ExposureCompensation | 0 |
ExposureMode | Manual |
ExposureProgram | Manual |
ExposureTime | 1/100 |
FillLight | 18 |
Firmware | 1.0.6 |
Flash | Off, Did not fire |
FlashCompensation | 0 |
FlashFired | False |
FlashFunction | False |
FlashMode | Off |
FlashRedEyeMode | False |
FlashReturn | No return detection |
FNumber | 9.0 |
FocalLength | 16.0 mm |
FocalLength35efl | 16.0 mm (35 mm equivalent: 17.7 mm) |
FOV | 90.9 deg |
GrainAmount | 0 |
GreenHue | 0 |
GreenSaturation | 0 |
HasCrop | True |
HasSettings | True |
HighlightRecovery | 39 |
HueAdjustmentAqua | +34 |
HueAdjustmentBlue | +30 |
HueAdjustmentGreen | 0 |
HueAdjustmentMagenta | 0 |
HueAdjustmentOrange | 0 |
HueAdjustmentPurple | 0 |
HueAdjustmentRed | +5 |
HueAdjustmentYellow | 0 |
HyperfocalDistance | 1.05 m |
ImageHeight | 2245 |
ImageNumber | 0 |
ImageSize | 4797x2245 |
ImageWidth | 4797 |
ISO | 50 |
Lens | EF16-35mm f/2.8L II USM |
LensID (1) | 246 |
LensID | Canon EF 16-35mm f/2.8L II USM |
LensInfo | 16-35mm f/? |
LensManualDistortionAmount | 0 |
LensProfileEnable | 0 |
LensProfileSetup | LensDefaults |
LightValue | 14.0 |
LuminanceAdjustmentAqua | 0 |
LuminanceAdjustmentBlue | 0 |
LuminanceAdjustmentGreen | 0 |
LuminanceAdjustmentMagenta | 0 |
LuminanceAdjustmentOrange | 0 |
LuminanceAdjustmentPurple | 0 |
LuminanceAdjustmentRed | 0 |
LuminanceAdjustmentYellow | 0 |
LuminanceNoiseReductionContrast | 0 |
LuminanceNoiseReductionDetail | 50 |
LuminanceSmoothing | 18 |
Make | Canon |
MaxApertureValue | 2.8 |
Megapixels | 10.8 |
MeteringMode | Multi-segment |
Model | Canon EOS-1D Mark IV |
ModifyDate (1) | 2011:06:03 10:48:34+02:00 |
ModifyDate | 2011:06:03 10:48:34 |
ParametricDarks | -9 |
ParametricHighlights | +26 |
ParametricHighlightSplit | 75 |
ParametricLights | +56 |
ParametricMidtoneSplit | 50 |
ParametricShadows | -1 |
ParametricShadowSplit | 25 |
PerspectiveHorizontal | 0 |
PerspectiveRotate | 0.0 |
PerspectiveScale | 100 |
PerspectiveVertical | 0 |
PostCropVignetteAmount | -26 |
PostCropVignetteFeather | 50 |
PostCropVignetteHighlightContrast | 0 |
PostCropVignetteMidpoint | 50 |
PostCropVignetteRoundness | 0 |
PostCropVignetteStyle | 1 |
ProcessVersion | 5.7 |
ProfileDescription | Adobe RGB (1998) |
RedHue | 0 |
RedSaturation | 0 |
Saturation | +17 |
SaturationAdjustmentAqua | 0 |
SaturationAdjustmentBlue | 0 |
SaturationAdjustmentGreen | 0 |
SaturationAdjustmentMagenta | 0 |
SaturationAdjustmentOrange | 0 |
SaturationAdjustmentPurple | 0 |
SaturationAdjustmentRed | 0 |
SaturationAdjustmentYellow | 0 |
ScaleFactor35efl | 1.1 |
SceneCaptureType | Standard |
SerialNumber | 530400793 |
Shadows | 18 |
ShadowTint | 0 |
SharpenDetail | 31 |
SharpenEdgeMasking | 10 |
SharpenRadius | +1.0 |
Sharpness | 81 |
ShutterSpeed | 1/100 |
ShutterSpeedValue | 1/100 |
SplitToningBalance | 0 |
SplitToningHighlightHue | 0 |
SplitToningHighlightSaturation | 0 |
SplitToningShadowHue | 0 |
SplitToningShadowSaturation | 0 |
SubjectDistance | 1.63 m |
Tint | +26 |
ToneCurve | 0, 0, 32, 22, 64, 56, 128, 128, 192, 196, 255, 255 |
ToneCurveName | Medium Contrast |
Version | 6.1 |
Vibrance | +29 |
VignetteAmount | 0 |
WhiteBalance (2) | Custom |
WhiteBalance | Auto |