Felt | Verdi |
AlreadyApplied | True |
Aperture | 5.0 |
ApertureValue | 5.0 |
BitsPerSample | 8 |
BlueHue | 0 |
BlueSaturation | 0 |
Brightness | +10 |
CameraProfile | Adobe Standard |
CFAPattern | [Green,Blue][Red,Green] |
ChromaticAberrationB | 0 |
ChromaticAberrationR | 0 |
CircleOfConfusion | 0.020 mm |
Clarity | -100 |
ColorComponents | 1 |
ColorNoiseReduction | 25 |
ColorNoiseReductionDetail | 50 |
ColorTemperature | 20455 |
Contrast (2) | +100 |
Contrast | Normal |
ConvertToGrayscale | False |
CreateDate (1) | 2011:06:16 19:49:53.00+02:00 |
CreateDate | 2011:06:16 19:49:53 |
CreatorTool | Adobe Photoshop Lightroom |
CropAngle | 0 |
CropBottom | 1 |
CropConstrainToWarp | 0 |
CropHeight | 2848 |
CropLeft | 0.104651 |
CropRight | 0.866279 |
CropTop | 0 |
CropUnit | pixels |
CropWidth | 3266 |
CustomRendered | Normal |
DateTimeDigitized | 2011:06:16 19:49:53.00+02:00 |
DateTimeOriginal (1) | 2011:06:16 19:49:53.00+02:00 |
DateTimeOriginal | 2011:06:16 19:49:53 |
Defringe | 0 |
DigitalZoomRatio | 1 |
DOF | 0.002 m (0.199 - 0.201 m) |
ExifImageHeight | 2848 |
ExifImageWidth | 3266 |
Exposure | -2.55 |
ExposureCompensation | +5/3 |
ExposureMode | Manual |
ExposureProgram | Manual |
ExposureTime | 1/100 |
FillLight | 0 |
Flash | No Flash |
FlashFired | False |
FlashFunction | False |
FlashMode | Unknown |
FlashRedEyeMode | False |
FlashReturn | No return detection |
FNumber | 5.0 |
FocalLength | 60.0 mm |
FocalLength35efl | 60.0 mm (35 mm equivalent: 90.0 mm) |
FocalLengthIn35mmFormat | 90 mm |
FOV | 22.6 deg |
GainControl | Low gain up |
GrainAmount | 0 |
GreenHue | 0 |
GreenSaturation | 0 |
HasCrop | True |
HasSettings | True |
HighlightRecovery | 100 |
HueAdjustmentAqua | 0 |
HueAdjustmentBlue | 0 |
HueAdjustmentGreen | 0 |
HueAdjustmentMagenta | 0 |
HueAdjustmentOrange | 0 |
HueAdjustmentPurple | 0 |
HueAdjustmentRed | 0 |
HueAdjustmentYellow | 0 |
HyperfocalDistance | 35.94 m |
ImageHeight | 2848 |
ImageNumber | 6229 |
ImageSize | 3266x2848 |
ImageWidth | 3266 |
ISO | 640 |
Lens | 60.0 mm f/2.8 |
LensID (1) | 156 |
LensID | AF-S Micro Nikkor 60mm f/2.8G ED |
LensInfo | 60mm f/2.8 |
LensManualDistortionAmount | 0 |
LensProfileEnable | 0 |
LensProfileSetup | LensDefaults |
LightSource | Unknown |
LightValue | 8.6 |
LuminanceAdjustmentAqua | 0 |
LuminanceAdjustmentBlue | 0 |
LuminanceAdjustmentGreen | 0 |
LuminanceAdjustmentMagenta | 0 |
LuminanceAdjustmentOrange | 0 |
LuminanceAdjustmentPurple | 0 |
LuminanceAdjustmentRed | 0 |
LuminanceAdjustmentYellow | 0 |
LuminanceSmoothing | 0 |
Make | NIKON CORPORATION |
MaxApertureValue | 4.0 |
Megapixels | 9.3 |
MeteringMode | Multi-segment |
Model | NIKON D90 |
ModifyDate (1) | 2011:06:17 20:52:07+02:00 |
ModifyDate | 2011:06:17 20:52:07 |
ParametricDarks | +100 |
ParametricHighlights | +100 |
ParametricHighlightSplit | 75 |
ParametricLights | +100 |
ParametricMidtoneSplit | 50 |
ParametricShadows | +100 |
ParametricShadowSplit | 25 |
PerspectiveHorizontal | 0 |
PerspectiveRotate | 0.0 |
PerspectiveScale | 100 |
PerspectiveVertical | 0 |
PostCropVignetteAmount | 0 |
ProcessVersion | 5.7 |
ProfileDescription | sRGB IEC61966-2.1 |
RedHue | 0 |
RedSaturation | 0 |
Saturation (2) | -100 |
Saturation | High |
SaturationAdjustmentAqua | 0 |
SaturationAdjustmentBlue | 0 |
SaturationAdjustmentGreen | 0 |
SaturationAdjustmentMagenta | 0 |
SaturationAdjustmentOrange | 0 |
SaturationAdjustmentPurple | 0 |
SaturationAdjustmentRed | 0 |
SaturationAdjustmentYellow | 0 |
ScaleFactor35efl | 1.5 |
SceneCaptureType | Standard |
SceneType | Directly photographed |
SensingMethod | One-chip color area |
SerialNumber | 6079318 |
Shadows | 100 |
ShadowTint | 0 |
SharpenDetail | 100 |
SharpenEdgeMasking | 0 |
SharpenRadius | +3.0 |
Sharpness (2) | 0 |
Sharpness | Hard |
ShutterSpeed | 1/100 |
ShutterSpeedValue | 1/100 |
Software | Ver.1.00 |
SplitToningBalance | 0 |
SplitToningHighlightHue | 0 |
SplitToningHighlightSaturation | 0 |
SplitToningShadowHue | 0 |
SplitToningShadowSaturation | 0 |
SubjectDistance | 0.2 m |
SubjectDistanceRange | Unknown |
Tint | -147 |
ToneCurve | 0, 0, 32, 22, 64, 56, 128, 128, 192, 196, 255, 255 |
ToneCurveName | Medium Contrast |
Version | 6.1 |
Vibrance | +45 |
VignetteAmount | 0 |
WhiteBalance (2) | Custom |
WhiteBalance | Auto |