Felt | Verdi |
AlreadyApplied | True |
Aperture | 9.0 |
ApertureValue | 9.0 |
BitsPerSample | 8 |
BlueHue | 0 |
BlueSaturation | 0 |
Brightness | +50 |
CameraProfile | Adobe Standard |
CFAPattern | [Green,Blue][Red,Green] |
ChromaticAberrationB | 0 |
ChromaticAberrationR | 0 |
CircleOfConfusion | 0.020 mm |
Clarity | +21 |
ColorComponents | 3 |
ColorNoiseReduction | 33 |
ColorTemperature | 5500 |
Contrast (2) | +36 |
Contrast | Normal |
ConvertToGrayscale | False |
CreateDate (1) | 2011:06:23 21:02:56.00+02:00 |
CreateDate | 2011:06:23 21:02:56 |
CreatorTool | Adobe Photoshop Lightroom |
CropAngle | -1.125 |
CropBottom | 0.971283 |
CropHeight | 2767 |
CropLeft | 0.008025 |
CropRight | 0.991975 |
CropTop | 0.028717 |
CropUnit | pixels |
CropWidth | 4166 |
CustomRendered | Normal |
DateTimeDigitized | 2011:06:23 21:02:56.00+02:00 |
DateTimeOriginal (1) | 2011:06:23 21:02:56.00+02:00 |
DateTimeOriginal | 2011:06:23 21:02:56 |
Defringe | 0 |
DigitalZoomRatio | 1 |
ExifImageHeight | 2767 |
ExifImageWidth | 4166 |
Exposure | +0.23 |
ExposureCompensation | -2 |
ExposureMode | Auto |
ExposureProgram | Program AE |
ExposureTime | 1/320 |
FillLight | 30 |
Flash | No Flash |
FlashFired | False |
FlashFunction | False |
FlashMode | Unknown |
FlashRedEyeMode | False |
FlashReturn | No return detection |
FNumber | 9.0 |
FocalLength | 35.0 mm |
FocalLength35efl | 35.0 mm (35 mm equivalent: 52.0 mm) |
FocalLengthIn35mmFormat | 52 mm |
FOV | 38.2 deg |
GainControl | None |
GradientBasedCorrActive | true |
GradientBasedCorrAmount | 1.000000 |
GradientBasedCorrBrightness (1) | 0.000000 |
GradientBasedCorrBrightness | 0.250000 |
GradientBasedCorrClarity (1) | 0.000000 |
GradientBasedCorrClarity | 0.100000 |
GradientBasedCorrContrast (1) | 0.000000 |
GradientBasedCorrContrast | 0.175000 |
GradientBasedCorrExposure (1) | -0.125000 |
GradientBasedCorrExposure | 0.475000 |
GradientBasedCorrHue | 240.000000 |
GradientBasedCorrMaskFullX (1) | 0.589562 |
GradientBasedCorrMaskFullX | 0.596733 |
GradientBasedCorrMaskFullY (1) | 0.495431 |
GradientBasedCorrMaskFullY | 0.879792 |
GradientBasedCorrMaskValue | 1.000000 |
GradientBasedCorrMaskWhat | Mask/Gradient |
GradientBasedCorrMaskZeroX (1) | 0.602247 |
GradientBasedCorrMaskZeroX | 0.569608 |
GradientBasedCorrMaskZeroY (1) | 0.738726 |
GradientBasedCorrMaskZeroY | 0.501752 |
GradientBasedCorrSaturation (3) | 0.125000 |
GradientBasedCorrSaturation | 0.000000 |
GradientBasedCorrSharpness (1) | 0.000000 |
GradientBasedCorrSharpness | 0.300000 |
GradientBasedCorrWhat | Correction |
GreenHue | 0 |
GreenSaturation | 0 |
HasCrop | True |
HasSettings | True |
HighlightRecovery | 0 |
HueAdjustmentAqua | 0 |
HueAdjustmentBlue | 0 |
HueAdjustmentGreen | 0 |
HueAdjustmentMagenta | 0 |
HueAdjustmentOrange | 0 |
HueAdjustmentPurple | 0 |
HueAdjustmentRed | 0 |
HueAdjustmentYellow | 0 |
HyperfocalDistance | 6.73 m |
ImageHeight | 2767 |
ImageNumber | 6193 |
ImageSize | 4166x2767 |
ImageWidth | 4166 |
ISO | 200 |
Lens | 18.0-200.0 mm f/3.5-5.6 |
LensInfo | 18-200mm f/3.5-5.6 |
LightSource | Unknown |
LightValue | 13.7 |
LuminanceAdjustmentAqua | 0 |
LuminanceAdjustmentBlue | 0 |
LuminanceAdjustmentGreen | 0 |
LuminanceAdjustmentMagenta | 0 |
LuminanceAdjustmentOrange | 0 |
LuminanceAdjustmentPurple | 0 |
LuminanceAdjustmentRed | 0 |
LuminanceAdjustmentYellow | 0 |
LuminanceSmoothing | 0 |
Make | NIKON CORPORATION |
MaxApertureValue | 4.1 |
Megapixels | 11.5 |
MeteringMode | Multi-segment |
Model | NIKON D90 |
ModifyDate (1) | 2011:06:24 14:56:36+02:00 |
ModifyDate | 2011:06:24 14:56:36 |
PaintCorrectionActive | true |
PaintCorrectionAmount | 1.000000 |
PaintCorrectionBrightness (2) | -0.163637 |
PaintCorrectionBrightness (4) | 0.050000 |
PaintCorrectionBrightness | 0.000000 |
PaintCorrectionClarity | 0.000000 |
PaintCorrectionContrast (2) | 1.000000 |
PaintCorrectionContrast (3) | 0.503333 |
PaintCorrectionContrast (6) | 0.250000 |
PaintCorrectionContrast | 0.000000 |
PaintCorrectionExposure (2) | -0.499998 |
PaintCorrectionExposure (3) | -0.604000 |
PaintCorrectionExposure | 0.000000 |
PaintCorrectionHue (4) | 238.000000 |
PaintCorrectionHue (6) | 6.000000 |
PaintCorrectionHue | 240.000000 |
PaintCorrectionMaskCenterWeight (31) | 0.179419 |
PaintCorrectionMaskCenterWeight | 0.000000 |
PaintCorrectionMaskFlow (19) | 0.777000 |
PaintCorrectionMaskFlow (55) | 0.666000 |
PaintCorrectionMaskFlow | 1.000000 |
PaintCorrectionMaskRadius (1) | 0.021325 |
PaintCorrectionMaskRadius (2) | 0.003931 |
PaintCorrectionMaskRadius (35) | 0.011031 |
PaintCorrectionMaskRadius (49) | 0.059839 |
PaintCorrectionMaskRadius (55) | 0.101525 |
PaintCorrectionMaskRadius | 0.063550 |
PaintCorrectionMaskValue (42) | 0.013000 |
PaintCorrectionMaskValue (54) | 0.425000 |
PaintCorrectionMaskValue | 0.625000 |
PaintCorrectionMaskWhat | Mask/Paint |
PaintCorrectionSaturation (13) | 0.000000 |
PaintCorrectionSaturation (8) | 0.740000 |
PaintCorrectionSaturation | 0.980000 |
PaintCorrectionSharpness | 0.000000 |
PaintCorrectionWhat | Correction |
ParametricDarks | -12 |
ParametricHighlights | +10 |
ParametricHighlightSplit | 75 |
ParametricLights | +14 |
ParametricMidtoneSplit | 50 |
ParametricShadows | -12 |
ParametricShadowSplit | 25 |
PostCropVignetteAmount | 0 |
ProfileDescription | sRGB IEC61966-2.1 |
RedHue | 0 |
RedSaturation | 0 |
Saturation (2) | +14 |
Saturation | Normal |
SaturationAdjustmentAqua | +10 |
SaturationAdjustmentBlue | +21 |
SaturationAdjustmentGreen | -10 |
SaturationAdjustmentMagenta | +10 |
SaturationAdjustmentOrange | +14 |
SaturationAdjustmentPurple | +5 |
SaturationAdjustmentRed | +14 |
SaturationAdjustmentYellow | +7 |
ScaleFactor35efl | 1.5 |
SceneCaptureType | Standard |
SceneType | Directly photographed |
SensingMethod | One-chip color area |
SerialNumber | 6334383 |
Shadows | 8 |
ShadowTint | 0 |
SharpenDetail | 35 |
SharpenEdgeMasking | 64 |
SharpenRadius | +0.7 |
Sharpness (2) | 70 |
Sharpness | Normal |
ShutterSpeed | 1/320 |
ShutterSpeedValue | 1/320 |
Software | Ver.1.00 |
SplitToningBalance | 0 |
SplitToningHighlightHue | 0 |
SplitToningHighlightSaturation | 0 |
SplitToningShadowHue | 0 |
SplitToningShadowSaturation | 0 |
SubjectDistanceRange | Unknown |
Tint | +7 |
ToneCurve | 0, 0, 32, 22, 64, 56, 128, 128, 192, 196, 255, 255 |
ToneCurveName | Medium Contrast |
Version | 5.2 |
Vibrance | +5 |
VignetteAmount | 0 |
WhiteBalance (2) | Custom |
WhiteBalance | Auto |