Felt | Verdi |
AlreadyApplied | True |
Aperture | 10.0 |
ApertureValue | 10.0 |
ApproximateFocusDistance | 4294967295 |
BitsPerSample | 8 |
BlueHue | 0 |
BlueSaturation | 0 |
Brightness | +12 |
CameraProfile | Embedded |
CFAPattern | [Green,Blue][Red,Green] |
ChromaticAberrationB | 0 |
ChromaticAberrationR | 0 |
CircleOfConfusion | 0.020 mm |
Clarity | +17 |
ColorComponents | 1 |
ColorNoiseReduction | 0 |
Contrast (2) | +7 |
Contrast | Normal |
ConvertToGrayscale | True |
CreateDate (1) | 2011:03:19 02:50:16.00+01:00 |
CreateDate | 2011:03:19 02:50:16 |
CreatorTool | Adobe Photoshop Lightroom 3.3 |
CropAngle | 0 |
CropBottom | 0.994253 |
CropConstrainToWarp | 0 |
CropHeight | 1500 |
CropLeft | 0.02958 |
CropRight | 0.800573 |
CropTop | 0.308908 |
CropUnit | pixels |
CropWidth | 2540 |
CustomRendered | Normal |
DateTimeDigitized | 2011:03:19 02:50:16.00+01:00 |
DateTimeOriginal (1) | 2011:03:19 02:50:16.00+01:00 |
DateTimeOriginal | 2011:03:19 02:50:16 |
Defringe | 0 |
DigitalZoomRatio | 1 |
DOF | inf (3.91 m - inf) |
ExifImageHeight | 1500 |
ExifImageWidth | 2540 |
Exposure | +0.32 |
ExposureCompensation | 0 |
ExposureMode | Auto |
ExposureProgram | Not Defined |
ExposureTime | 1/160 |
FillLight | 0 |
Flash | Auto, Did not fire |
FlashFired | False |
FlashFunction | False |
FlashMode | Auto |
FlashRedEyeMode | False |
FlashReturn | No return detection |
FNumber | 10.0 |
FocalLength | 28.0 mm |
FocalLength35efl | 28.0 mm (35 mm equivalent: 42.0 mm) |
FocalLengthIn35mmFormat | 42 mm |
FOV | 46.4 deg |
GainControl | None |
GrainAmount | 0 |
GrayMixerAqua | -15 |
GrayMixerBlue | +19 |
GrayMixerGreen | -32 |
GrayMixerMagenta | +2 |
GrayMixerOrange | -26 |
GrayMixerPurple | +21 |
GrayMixerRed | -16 |
GrayMixerYellow | -31 |
GreenHue | 0 |
GreenSaturation | 0 |
HasCrop | True |
HasSettings | True |
HighlightRecovery | 83 |
HyperfocalDistance | 3.91 m |
ImageHeight | 1500 |
ImageNumber | 7862 |
ImageSize | 2540x1500 |
ImageWidth | 2540 |
IncrementalTemperature | 0 |
IncrementalTint | 0 |
ISO | 200 |
Lens | 28.0-75.0 mm f/2.8 |
LensID (1) | 51 |
LensID | Tamron SP AF 28-75mm f/2.8 XR Di LD Aspherical (IF) Macro (A09) |
LensInfo | 28-75mm f/2.8 |
LensManualDistortionAmount | 0 |
LensModel | 28.0-75.0 mm f/2.8 |
LensProfileEnable | 0 |
LensProfileSetup | LensDefaults |
LightSource | Unknown |
LightValue | 13.0 |
LuminanceSmoothing | 0 |
Make | NIKON CORPORATION |
MaxApertureValue | 2.8 |
Megapixels | 3.8 |
MeteringMode | Multi-segment |
Model | NIKON D90 |
ModifyDate (1) | 2011:06:05 23:10:17+02:00 |
ModifyDate | 2011:06:05 23:10:17 |
ParametricDarks | +52 |
ParametricHighlights | -94 |
ParametricHighlightSplit | 75 |
ParametricLights | +9 |
ParametricMidtoneSplit | 50 |
ParametricShadows | +12 |
ParametricShadowSplit | 25 |
PerspectiveHorizontal | 0 |
PerspectiveRotate | 0.0 |
PerspectiveScale | 100 |
PerspectiveVertical | 0 |
PostCropVignetteAmount | 0 |
ProcessVersion | 5.7 |
ProfileDescription | sRGB IEC61966-2.1 |
RedHue | 0 |
RedSaturation | 0 |
Saturation | Normal |
ScaleFactor35efl | 1.5 |
SceneCaptureType | Landscape |
SceneType | Directly photographed |
SensingMethod | One-chip color area |
SensitivityType | Unknown |
SerialNumber | 6503612 |
Shadows | 100 |
ShadowTint | 0 |
SharpenDetail | 25 |
SharpenEdgeMasking | 0 |
SharpenRadius | +1.0 |
Sharpness (2) | 0 |
Sharpness | Normal |
ShutterSpeed | 1/160 |
ShutterSpeedValue | 1/160 |
Software | Ver.1.00 |
SplitToningBalance | 0 |
SplitToningHighlightHue | 0 |
SplitToningHighlightSaturation | 0 |
SplitToningShadowHue | 0 |
SplitToningShadowSaturation | 0 |
SubjectDistance | 4294967295 m |
SubjectDistanceRange | Unknown |
ToneCurve | 0, 0, 255, 255 |
ToneCurveName | Linear |
Version | 6.3 |
VignetteAmount | 0 |
WhiteBalance (2) | As Shot |
WhiteBalance | Auto |