Felt | Verdi |
AlreadyApplied | True |
Aperture | 11.0 |
ApertureValue | 11.0 |
ApproximateFocusDistance | 3.76 |
BitsPerSample | 8 |
BlueHue | 0 |
BlueSaturation | 0 |
Brightness | +50 |
CameraProfile | Adobe Standard |
CFAPattern | [Red,Green][Green,Blue] |
ChromaticAberrationB | 0 |
ChromaticAberrationR | 0 |
CircleOfConfusion | 0.020 mm |
Clarity | 0 |
ColorComponents | 3 |
ColorMode | RGB |
ColorNoiseReduction | 25 |
ColorNoiseReductionDetail | 50 |
ColorSpace | sRGB |
ColorTemperature | 5900 |
Contrast (2) | +25 |
Contrast | Normal |
ConvertToGrayscale | False |
CreateDate (1) | 2011:07:24 12:01:41.00+02:00 |
CreateDate | 2011:07:24 12:01:41 |
CreatorTool | Ver.1.03 |
CustomRendered | Normal |
DateTimeDigitized | 2011:07:24 12:01:41+02:00 |
DateTimeOriginal (1) | 2011:07:24 12:01:41.00+02:00 |
DateTimeOriginal | 2011:07:24 12:01:41 |
Defringe | 0 |
DigitalZoomRatio | 1 |
DOF | 1.11 m (3.28 - 4.40 m) |
ExifImageHeight | 586 |
ExifImageWidth | 900 |
Exposure | -0.55 |
ExposureCompensation | 0 |
ExposureMode | Auto |
ExposureProgram | Aperture-priority AE |
ExposureTime | 1/160 |
FillLight | 4 |
Flash | No Flash |
FlashFired | False |
FlashFunction | False |
FlashMode | Unknown |
FlashRedEyeMode | False |
FlashReturn | No return detection |
FNumber | 11.0 |
FocalLength | 75.0 mm |
FocalLength35efl | 75.0 mm (35 mm equivalent: 112.0 mm) |
FocalLengthIn35mmFormat | 112 mm |
Format | image/jpeg |
FOV | 18.3 deg |
GainControl | None |
GrainAmount | 0 |
GreenHue | 0 |
GreenSaturation | 0 |
HasCrop | False |
HasSettings | True |
HighlightRecovery | 0 |
HueAdjustmentAqua | 0 |
HueAdjustmentBlue | 0 |
HueAdjustmentGreen | 0 |
HueAdjustmentMagenta | 0 |
HueAdjustmentOrange | 0 |
HueAdjustmentPurple | 0 |
HueAdjustmentRed | 0 |
HueAdjustmentYellow | 0 |
HyperfocalDistance | 25.42 m |
ICCProfileName | sRGB IEC61966-2.1 |
ImageHeight | 586 |
ImageNumber | 11962 |
ImageSize | 900x586 |
ImageWidth | 900 |
ISO | 200 |
Lens | 18.0-200.0 mm f/3.5-5.6 |
LensID (1) | 139 |
LensID | AF-S DX VR Zoom-Nikkor 18-200mm f/3.5-5.6G IF-ED or AF-S DX VR Zoom-Nikkor 18-200mm f/3.5-5.6G IF-ED [II] |
LensInfo | 18-200mm f/3.5-5.6 |
LensManualDistortionAmount | 0 |
LensModel | 18.0-200.0 mm f/3.5-5.6 |
LensProfileEnable | 0 |
LensProfileSetup | LensDefaults |
LightSource | Cloudy |
LightValue | 13.2 |
LuminanceAdjustmentAqua | 0 |
LuminanceAdjustmentBlue | 0 |
LuminanceAdjustmentGreen | 0 |
LuminanceAdjustmentMagenta | 0 |
LuminanceAdjustmentOrange | 0 |
LuminanceAdjustmentPurple | 0 |
LuminanceAdjustmentRed | 0 |
LuminanceAdjustmentYellow | 0 |
LuminanceSmoothing | 0 |
Make | NIKON CORPORATION |
MaxApertureValue | 5.1 |
Megapixels | 0.527 |
MeteringMode | Multi-segment |
Model | NIKON D300 |
ModifyDate (1) | 2011:07:24 18:06:29+02:00 |
ModifyDate | 2011:07:24 18:06:29 |
Orientation | Horizontal (normal) |
ParametricDarks | 0 |
ParametricHighlights | 0 |
ParametricHighlightSplit | 75 |
ParametricLights | 0 |
ParametricMidtoneSplit | 50 |
ParametricShadows | 0 |
ParametricShadowSplit | 25 |
PerspectiveHorizontal | 0 |
PerspectiveRotate | 0.0 |
PerspectiveScale | 100 |
PerspectiveVertical | 0 |
PostCropVignetteAmount | 0 |
ProcessVersion | 5.7 |
ProfileDescription | sRGB IEC61966-2.1 |
Rating | 0 |
RawFileName | DSC_1949.NEF |
RedHue | 0 |
RedSaturation | 0 |
Saturation (2) | 0 |
Saturation | Normal |
SaturationAdjustmentAqua | 0 |
SaturationAdjustmentBlue | 0 |
SaturationAdjustmentGreen | 0 |
SaturationAdjustmentMagenta | 0 |
SaturationAdjustmentOrange | 0 |
SaturationAdjustmentPurple | 0 |
SaturationAdjustmentRed | 0 |
SaturationAdjustmentYellow | 0 |
ScaleFactor35efl | 1.5 |
SceneCaptureType | Standard |
SceneType | Directly photographed |
SensingMethod | One-chip color area |
SensitivityType | Unknown |
SerialNumber | 4128544 |
Shadows | 5 |
ShadowTint | 0 |
SharpenDetail | 25 |
SharpenEdgeMasking | 0 |
SharpenRadius | +1.0 |
Sharpness (2) | 25 |
Sharpness | Normal |
ShutterSpeed | 1/160 |
ShutterSpeedValue | 1/160 |
SidecarForExtension | NEF |
Software | Adobe Photoshop Elements 9.0 Windows |
SplitToningBalance | 0 |
SplitToningHighlightHue | 0 |
SplitToningHighlightSaturation | 0 |
SplitToningShadowHue | 0 |
SplitToningShadowSaturation | 0 |
SubjectDistance | 3.76 m |
SubjectDistanceRange | Unknown |
Tint | -1 |
ToneCurve | 0, 0, 32, 22, 64, 56, 128, 128, 192, 196, 255, 255 |
ToneCurveName | Medium Contrast |
URL_List | |
Version | 6.3 |
Vibrance | 0 |
VignetteAmount | 0 |
WhiteBalance (2) | Custom |
WhiteBalance | Manual |