Felt | Verdi |
AlreadyApplied | True |
Aperture | 5.6 |
ApertureValue | 5.6 |
BitsPerSample | 8 |
BlueHue | 0 |
BlueSaturation | 0 |
Brightness | +50 |
BrightnessValue | 8.75 |
CameraProfile | Adobe Standard |
Caption-Abstract | SONY DSC |
ChromaticAberrationB | 0 |
ChromaticAberrationR | 0 |
CircleOfConfusion | 0.021 mm |
Clarity | -6 |
ColorComponents | 3 |
ColorNoiseReduction | 49 |
ColorNoiseReductionDetail | 90 |
ColorTemperature | 5250 |
Contrast (1) | +25 |
Contrast | Normal |
ConvertToGrayscale | False |
CreateDate | 2011:08:03 17:38:23 |
CreatorTool | Adobe Photoshop Lightroom 3.4.1 |
CustomRendered | Normal |
DateCreated (1) | 2011:08:03 |
DateCreated | 2011:08:03 17:38:23 |
DateTimeOriginal | 2011:08:03 17:38:23 |
Defringe | 0 |
Description | SONY DSC |
Exposure | +0.32 |
ExposureCompensation | 0 |
ExposureMode | Manual |
ExposureProgram | Manual |
ExposureTime | 1/640 |
FillLight | 29 |
Flash | Off, Did not fire |
FNumber | 5.6 |
FocalLength | 13.0 mm |
FocalLength35efl | 13.0 mm (35 mm equivalent: 19.0 mm) |
FocalLengthIn35mmFormat | 19 mm |
FOV | 86.9 deg |
GPSAltitude (1) | 36.5 m |
GPSAltitude | 36.5 m Above Sea Level |
GPSAltitudeRef | Above Sea Level |
GPSDateStamp | 2011:08:03 |
GPSDateTime | 2011:08:03 15:38:11.98Z |
GPSDifferential | No Correction |
GPSDOP | 2.8 |
GPSLatitude (1) | 67 deg 8' 7.55" |
GPSLatitude | 67 deg 8' 7.55" N |
GPSLatitudeRef | North |
GPSLongitude (1) | 13 deg 57' 44.13" |
GPSLongitude | 13 deg 57' 44.13" E |
GPSLongitudeRef | East |
GPSMapDatum | WGS-84 |
GPSMeasureMode | 2-Dimensional Measurement |
GPSPosition | 67 deg 8' 7.55" N, 13 deg 57' 44.13" E |
GPSSpeed | 0.1 |
GPSSpeedRef | km/h |
GPSStatus | Measurement Active |
GPSTimeStamp | 15:38:11.98 |
GPSTrack | 0 |
GPSTrackRef | True North |
GPSVersionID | 2.3.0.0 |
GradientBasedCorrActive | true |
GradientBasedCorrAmount | 1.000000 |
GradientBasedCorrBrightness | -0.171000 |
GradientBasedCorrClarity | -0.512000 |
GradientBasedCorrContrast | -0.634000 |
GradientBasedCorrExposure | -0.268000 |
GradientBasedCorrHue | 230.000000 |
GradientBasedCorrMaskFullX | 0.364583 |
GradientBasedCorrMaskFullY | 0.011765 |
GradientBasedCorrMaskValue | 1.000000 |
GradientBasedCorrMaskWhat | Mask/Gradient |
GradientBasedCorrMaskZeroX | 0.397135 |
GradientBasedCorrMaskZeroY | 0.250980 |
GradientBasedCorrSaturation (1) | 0.683000 |
GradientBasedCorrSaturation | 1.000000 |
GradientBasedCorrSharpness | -0.537000 |
GradientBasedCorrWhat | Correction |
GrainAmount | 0 |
GreenHue | 0 |
GreenSaturation | 0 |
HasCrop | False |
HasSettings | True |
HighlightRecovery | 29 |
HueAdjustmentAqua | 0 |
HueAdjustmentBlue | 0 |
HueAdjustmentGreen | 0 |
HueAdjustmentMagenta | 0 |
HueAdjustmentOrange | 0 |
HueAdjustmentPurple | 0 |
HueAdjustmentRed | 0 |
HueAdjustmentYellow | 0 |
HyperfocalDistance | 1.47 m |
ImageDescription | SONY DSC |
ImageHeight | 3264 |
ImageSize | 4912x3264 |
ImageWidth | 4912 |
ISO | 200 |
Lens | 8-16mm F4.5-5.6 |
LensID (1) | 128 |
LensID | 8-16mm F4.5-5.6 |
LensInfo | 8-16mm f/4.5-5.6 |
LensManualDistortionAmount | 0 |
LensModel | 8-16mm F4.5-5.6 |
LensProfileEnable | 0 |
LensProfileSetup | LensDefaults |
LightSource | Unknown |
LightValue | 13.3 |
LuminanceAdjustmentAqua | 0 |
LuminanceAdjustmentBlue | -43 |
LuminanceAdjustmentGreen | 0 |
LuminanceAdjustmentMagenta | 0 |
LuminanceAdjustmentOrange | 0 |
LuminanceAdjustmentPurple | -7 |
LuminanceAdjustmentRed | 0 |
LuminanceAdjustmentYellow | 0 |
LuminanceSmoothing | 0 |
Make | SONY |
MaxApertureValue | 5.6 |
Megapixels | 16.0 |
MeteringMode | Multi-segment |
Model | SLT-A55V |
ModifyDate (1) | 2011:08:11 12:52:05+02:00 |
ModifyDate | 2011:08:11 12:52:05 |
ParametricDarks | -5 |
ParametricHighlights | -81 |
ParametricHighlightSplit | 75 |
ParametricLights | -64 |
ParametricMidtoneSplit | 50 |
ParametricShadows | +41 |
ParametricShadowSplit | 25 |
PerspectiveHorizontal | 0 |
PerspectiveRotate | 0.0 |
PerspectiveScale | 100 |
PerspectiveVertical | 0 |
PostCropVignetteAmount | 0 |
ProcessVersion | 5.7 |
ProfileDescription | sRGB IEC61966-2.1 |
RecommendedExposureIndex | 200 |
RedHue | 0 |
RedSaturation | 0 |
Saturation (1) | +26 |
Saturation | Normal |
SaturationAdjustmentAqua | 0 |
SaturationAdjustmentBlue | +18 |
SaturationAdjustmentGreen | +34 |
SaturationAdjustmentMagenta | 0 |
SaturationAdjustmentOrange | 0 |
SaturationAdjustmentPurple | 0 |
SaturationAdjustmentRed | 0 |
SaturationAdjustmentYellow | +30 |
ScaleFactor35efl | 1.5 |
SceneCaptureType | Standard |
SceneType | Directly photographed |
SensitivityType | Recommended Exposure Index |
Shadows | 11 |
ShadowTint | 0 |
SharpenDetail | 0 |
SharpenEdgeMasking | 36 |
SharpenRadius | +0.6 |
Sharpness (1) | 0 |
Sharpness | Normal |
ShutterSpeed | 1/640 |
ShutterSpeedValue | 1/640 |
Software | Adobe Photoshop Lightroom 3.4.1 |
SplitToningBalance | 0 |
SplitToningHighlightHue | 236 |
SplitToningHighlightSaturation | 48 |
SplitToningShadowHue | 0 |
SplitToningShadowSaturation | 0 |
Tint | +8 |
ToneCurve | 0, 0, 255, 255 |
ToneCurveName | Linear |
Version | 6.4.1 |
Vibrance | +56 |
VignetteAmount | 0 |
WhiteBalance (1) | As Shot |
WhiteBalance | Auto |