Felt | Verdi |
AlreadyApplied | True |
Aperture | 7.1 |
ApertureValue | 7.1 |
AuthorsPosition | Photographer |
BitsPerSample | 8 |
BlueHue | 0 |
BlueSaturation | 0 |
Brightness | +50 |
By-line | Espen Ørud |
By-lineTitle | Photographer |
CameraProfile | Adobe Standard |
ChromaticAberrationB | 0 |
ChromaticAberrationR | 0 |
CircleOfConfusion | 0.006 mm |
Clarity | +36 |
ColorComponents | 3 |
ColorNoiseReduction | 25 |
ColorSpace | Uncalibrated |
ColorTemperature | 6050 |
Contrast | High |
ConvertToGrayscale | False |
Copyright | Espen Orud 2(C)11 |
CopyrightFlag | True |
CopyrightNotice | Espen Ørud 2©11 |
CreateDate (1) | 2011:07:22 19:11:10.35+02:00 |
CreateDate | 2011:07:22 19:11:10 |
Creator | Espen Ørud |
CreatorAddress | William Johansens vei 5 |
CreatorCity | 9600 Hammerfest |
CreatorCountry | Norway |
CreatorPostalCode | 9600 |
CreatorRegion | Finnmark |
CreatorTool | Adobe Photoshop Lightroom 3.3 |
CreatorWorkEmail | espen@fiskersiden.no |
CreatorWorkTelephone | +47 92886668 |
CreatorWorkURL | http://www.espenorud.no |
CropAngle | 1.44028 |
CropBottom | 1 |
CropHeight | 787 |
CropLeft | 0.015432 |
CropRight | 0.920658 |
CropTop | 0.04462 |
CropUnit | pixels |
CropWidth | 1180 |
CustomRendered | Normal |
DateTimeDigitized | 2011:07:22 19:11:10.35+02:00 |
DateTimeOriginal (1) | 2011:07:22 19:11:10.35+02:00 |
DateTimeOriginal | 2011:07:22 19:11:10 |
Defringe | 0 |
DOF | 0.03 m (1.33 - 1.37 m) |
ExifImageHeight | 787 |
ExifImageWidth | 1180 |
Exposure | +0.14 |
ExposureCompensation | +2/3 |
ExposureMode | Auto |
ExposureProgram | Aperture-priority AE |
ExposureTime | 1/60 |
FillLight | 23 |
Firmware | 2.0.8 |
Flash | Off, Did not fire |
FlashCompensation | 0 |
FlashFired | False |
FlashFunction | False |
FlashMode | Off |
FlashRedEyeMode | False |
FlashReturn | No return detection |
FNumber | 7.1 |
FocalLength | 70.0 mm |
FocalLength35efl | 70.0 mm (35 mm equivalent: 325.1 mm) |
FOV | 6.3 deg |
GreenHue | 0 |
GreenSaturation | 0 |
HasCrop | True |
HasSettings | True |
HighlightRecovery | 0 |
HueAdjustmentAqua | 0 |
HueAdjustmentBlue | 0 |
HueAdjustmentGreen | 0 |
HueAdjustmentMagenta | 0 |
HueAdjustmentOrange | 0 |
HueAdjustmentPurple | 0 |
HueAdjustmentRed | 0 |
HueAdjustmentYellow | 0 |
HyperfocalDistance | 106.67 m |
ImageHeight (1) | 787 |
ImageHeight | 887 |
ImageNumber | 0 |
ImageSize | 1280x887 |
ImageWidth (1) | 1180 |
ImageWidth | 1280 |
ISO | 250 |
Lens | EF50mm f/2.5 Compact Macro +LSC |
LensID (1) | 10 |
LensID | Sigma 70mm f/2.8 EX DG Macro EF |
LensInfo | 70mm f/? |
LightValue | 10.2 |
LuminanceAdjustmentAqua | 0 |
LuminanceAdjustmentBlue | 0 |
LuminanceAdjustmentGreen | 0 |
LuminanceAdjustmentMagenta | 0 |
LuminanceAdjustmentOrange | 0 |
LuminanceAdjustmentPurple | 0 |
LuminanceAdjustmentRed | 0 |
LuminanceAdjustmentYellow | 0 |
LuminanceSmoothing | 0 |
Make | Canon |
Marked | True |
MaxApertureValue | 2.8 |
Megapixels | 1.1 |
MeteringMode | Multi-segment |
Model | Canon EOS 5D Mark II |
ModifyDate (1) | 2011:08:12 19:14:03+02:00 |
ModifyDate | 2011:08:12 19:14:03 |
ObjectName | Coffee break |
ParametricDarks | 0 |
ParametricHighlights | 0 |
ParametricHighlightSplit | 75 |
ParametricLights | +23 |
ParametricMidtoneSplit | 50 |
ParametricShadows | 0 |
ParametricShadowSplit | 25 |
PostCropVignetteAmount | -59 |
PostCropVignetteFeather | 92 |
PostCropVignetteMidpoint | 50 |
PostCropVignetteRoundness | 0 |
ProfileDescription | sRGB IEC61966-2.1 |
RedHue | 0 |
RedSaturation | 0 |
Rights | Espen Ørud 2©11 |
Saturation | Normal |
SaturationAdjustmentAqua | 0 |
SaturationAdjustmentBlue | 0 |
SaturationAdjustmentGreen | +38 |
SaturationAdjustmentMagenta | 0 |
SaturationAdjustmentOrange | 0 |
SaturationAdjustmentPurple | 0 |
SaturationAdjustmentRed | 0 |
SaturationAdjustmentYellow | +14 |
ScaleFactor35efl | 4.6 |
SceneCaptureType | Standard |
SerialNumber | 2531518047 |
Shadows | 17 |
ShadowTint | 0 |
SharpenDetail | 25 |
SharpenEdgeMasking | 0 |
SharpenRadius | +1.0 |
Sharpness | Hard |
ShutterSpeed | 1/60 |
ShutterSpeedValue | 1/60 |
SplitToningBalance | 0 |
SplitToningHighlightHue | 0 |
SplitToningHighlightSaturation | 0 |
SplitToningShadowHue | 0 |
SplitToningShadowSaturation | 0 |
SubjectDistance | 1.35 m |
Tint | +7 |
Title | Coffee break |
ToneCurve | 0, 0, 32, 22, 64, 56, 128, 128, 192, 196, 255, 255 |
ToneCurveName | Medium Contrast |
UsageTerms | For ANY usage please contact espen@fiskersiden.no |
Version | 6.3 |
Vibrance | 0 |
VignetteAmount | 0 |
WhiteBalance | Auto |