Felt | Verdi |
AlreadyApplied | True |
Aperture | 8.0 |
ApertureValue | 8.0 |
BitsPerSample | 8 |
BlueHue | 0 |
BlueSaturation | 0 |
Brightness | 0 |
CameraProfile | Embedded |
ChromaticAberrationB | 0 |
ChromaticAberrationR | 0 |
CircleOfConfusion | 0.031 mm |
Clarity | +52 |
ColorComponents | 3 |
ColorNoiseReduction | 0 |
Contrast | 0 |
ConvertToGrayscale | False |
CreateDate (1) | 2011:01:29 11:36:07.59+01:00 |
CreateDate | 2011:01:29 11:36:07 |
CreatorTool | Adobe Photoshop Lightroom 3.4.1 |
CropAngle | -0.6 |
CropBottom | 0.972209 |
CropConstrainToWarp | 0 |
CropHeight | 1956 |
CropLeft | 0.012031 |
CropRight | 0.987969 |
CropTop | 0.027791 |
CropUnit | pixels |
CropWidth | 5339 |
CustomRendered | Normal |
DateCreated (1) | 2011:01:29 |
DateCreated | 2011:01:29 11:36:07.59+01:00 |
DateTimeOriginal | 2011:01:29 11:36:07 |
Defringe | 0 |
Exposure | 0.00 |
ExposureCompensation | 0 |
ExposureMode | Manual |
ExposureProgram | Manual |
ExposureTime | 1/200 |
FillLight | 22 |
Flash | Off, Did not fire |
FNumber | 8.0 |
FocalLength | 54.0 mm |
FocalLength35efl | 54.0 mm (35 mm equivalent: 52.7 mm) |
FOV | 37.7 deg |
GradientBasedCorrActive | true |
GradientBasedCorrAmount | 1.000000 |
GradientBasedCorrBrightness | -0.049000 |
GradientBasedCorrClarity | 0.537000 |
GradientBasedCorrContrast | 0.805000 |
GradientBasedCorrExposure (1) | -0.268000 |
GradientBasedCorrExposure (3) | 0.000000 |
GradientBasedCorrExposure | -0.146000 |
GradientBasedCorrHue (3) | 355.000000 |
GradientBasedCorrHue (4) | 44.000000 |
GradientBasedCorrHue | 47.000000 |
GradientBasedCorrMaskFullX (1) | 0.132989 |
GradientBasedCorrMaskFullX (2) | 0.554111 |
GradientBasedCorrMaskFullX (3) | 0.509338 |
GradientBasedCorrMaskFullX (4) | 0.358757 |
GradientBasedCorrMaskFullX | 0.507666 |
GradientBasedCorrMaskFullY (1) | -0.060446 |
GradientBasedCorrMaskFullY (2) | 0.225118 |
GradientBasedCorrMaskFullY (3) | 1.163330 |
GradientBasedCorrMaskFullY (4) | -0.432515 |
GradientBasedCorrMaskFullY | 0.980640 |
GradientBasedCorrMaskValue | 1.000000 |
GradientBasedCorrMaskWhat | Mask/Gradient |
GradientBasedCorrMaskZeroX (1) | 0.250635 |
GradientBasedCorrMaskZeroX (2) | 0.603290 |
GradientBasedCorrMaskZeroX (3) | 0.506593 |
GradientBasedCorrMaskZeroX (4) | 0.403925 |
GradientBasedCorrMaskZeroX | 0.506395 |
GradientBasedCorrMaskZeroY (1) | 0.905340 |
GradientBasedCorrMaskZeroY (2) | 0.612295 |
GradientBasedCorrMaskZeroY (3) | 0.448148 |
GradientBasedCorrMaskZeroY (4) | 0.541182 |
GradientBasedCorrMaskZeroY | 0.649169 |
GradientBasedCorrSaturation (1) | 0.024000 |
GradientBasedCorrSaturation (6) | 0.000000 |
GradientBasedCorrSaturation (8) | 0.810000 |
GradientBasedCorrSaturation | 0.610000 |
GradientBasedCorrSharpness | 1.000000 |
GradientBasedCorrWhat | Correction |
GrainAmount | 0 |
GreenHue | 0 |
GreenSaturation | 0 |
HasCrop | True |
HasSettings | True |
HighlightRecovery | 0 |
HueAdjustmentAqua | 0 |
HueAdjustmentBlue | 0 |
HueAdjustmentGreen | 0 |
HueAdjustmentMagenta | 0 |
HueAdjustmentOrange | 0 |
HueAdjustmentPurple | 0 |
HueAdjustmentRed | 0 |
HueAdjustmentYellow | 0 |
HyperfocalDistance | 11.84 m |
ImageHeight | 1956 |
ImageSize | 5339x1956 |
ImageWidth | 5339 |
IncrementalTemperature | 0 |
IncrementalTint | 0 |
ISO | 100 |
LensManualDistortionAmount | 0 |
LensProfileEnable | 0 |
LensProfileSetup | LensDefaults |
LightValue | 13.6 |
LuminanceAdjustmentAqua | 0 |
LuminanceAdjustmentBlue | 0 |
LuminanceAdjustmentGreen | 0 |
LuminanceAdjustmentMagenta | 0 |
LuminanceAdjustmentOrange | 0 |
LuminanceAdjustmentPurple | 0 |
LuminanceAdjustmentRed | -2 |
LuminanceAdjustmentYellow | 0 |
LuminanceNoiseReductionContrast | 0 |
LuminanceNoiseReductionDetail | 50 |
LuminanceSmoothing | 34 |
Make | Canon |
Megapixels | 10.4 |
MeteringMode | Multi-segment |
Model | Canon EOS 5D Mark II |
ModifyDate (1) | 2011:07:31 02:11:33+02:00 |
ModifyDate | 2011:07:31 02:11:33 |
PaintCorrectionActive | true |
PaintCorrectionAmount | 1.000000 |
PaintCorrectionBrightness (1) | -0.073000 |
PaintCorrectionBrightness | -0.049000 |
PaintCorrectionClarity | 0.537000 |
PaintCorrectionContrast | 0.805000 |
PaintCorrectionExposure (1) | 0.171000 |
PaintCorrectionExposure (2) | -0.073000 |
PaintCorrectionExposure (3) | 0.561000 |
PaintCorrectionExposure | 0.317000 |
PaintCorrectionHue (3) | 355.000000 |
PaintCorrectionHue | 204.000000 |
PaintCorrectionMaskCenterWeight (2) | 0.126044 |
PaintCorrectionMaskCenterWeight | 0.016175 |
PaintCorrectionMaskFlow | 0.823000 |
PaintCorrectionMaskRadius (1) | 0.136058 |
PaintCorrectionMaskRadius (11) | 0.104230 |
PaintCorrectionMaskRadius (12) | 0.032948 |
PaintCorrectionMaskRadius (2) | 0.124866 |
PaintCorrectionMaskRadius (3) | 0.108615 |
PaintCorrectionMaskRadius (5) | 0.049475 |
PaintCorrectionMaskRadius (6) | 0.055175 |
PaintCorrectionMaskRadius | 0.022409 |
PaintCorrectionMaskValue | 0.488000 |
PaintCorrectionMaskWhat | Mask/Paint |
PaintCorrectionSaturation (1) | 0.024000 |
PaintCorrectionSaturation (6) | 0.000000 |
PaintCorrectionSaturation | 0.480000 |
PaintCorrectionSharpness | 1.000000 |
PaintCorrectionWhat | Correction |
ParametricDarks | 0 |
ParametricHighlights | 0 |
ParametricHighlightSplit | 75 |
ParametricLights | 0 |
ParametricMidtoneSplit | 50 |
ParametricShadows | 0 |
ParametricShadowSplit | 25 |
PerspectiveHorizontal | 0 |
PerspectiveRotate | 0.0 |
PerspectiveScale | 100 |
PerspectiveVertical | 0 |
PostCropVignetteAmount | 0 |
ProcessVersion | 5.7 |
ProfileDescription | sRGB IEC61966-2.1 |
RedHue | 0 |
RedSaturation | 0 |
Saturation | 0 |
SaturationAdjustmentAqua | 0 |
SaturationAdjustmentBlue | 0 |
SaturationAdjustmentGreen | 0 |
SaturationAdjustmentMagenta | 0 |
SaturationAdjustmentOrange | 0 |
SaturationAdjustmentPurple | 0 |
SaturationAdjustmentRed | 0 |
SaturationAdjustmentYellow | 0 |
ScaleFactor35efl | 1.0 |
SceneCaptureType | Standard |
Shadows | 5 |
ShadowTint | 0 |
SharpenDetail | 79 |
SharpenEdgeMasking | 22 |
SharpenRadius | +1.0 |
Sharpness | 110 |
ShutterSpeed | 1/200 |
ShutterSpeedValue | 1/200 |
Software | Adobe Photoshop Lightroom 3.4.1 |
SplitToningBalance | 0 |
SplitToningHighlightHue | 0 |
SplitToningHighlightSaturation | 0 |
SplitToningShadowHue | 0 |
SplitToningShadowSaturation | 0 |
ToneCurve | 0, 0, 255, 255 |
ToneCurveName | Linear |
Version | 6.4.1 |
Vibrance | 0 |
VignetteAmount | 0 |
WhiteBalance (1) | As Shot |
WhiteBalance | Auto |