Felt | Verdi |
AlreadyApplied | True |
Aperture | 6.3 |
ApertureValue | 6.3 |
BitsPerSample | 8 |
BlueHue | 0 |
BlueSaturation | 0 |
Brightness | +86 |
CameraProfile | ACR 4.4 |
ChromaticAberrationB | 0 |
ChromaticAberrationR | 0 |
CircleOfConfusion | 0.030 mm |
Clarity | -43 |
ColorComponents | 1 |
ColorNoiseReduction | 25 |
ColorTemperature | 5050 |
Contrast | +25 |
ConvertToGrayscale | False |
CreateDate (1) | 2011:07:25 09:21:36+02:00 |
CreateDate | 2011:07:25 09:21:36 |
CreatorTool | Adobe Photoshop Lightroom |
CropAngle | 0.908008 |
CropBottom | 0.740309 |
CropHeight | 1111 |
CropLeft | 0.296336 |
CropRight | 0.701382 |
CropTop | 0.01871 |
CropUnit | pixels |
CropWidth | 966 |
CustomRendered | Normal |
DateTimeDigitized | 2011:07:25 09:21:36+02:00 |
DateTimeOriginal (1) | 2011:07:25 09:21:36+02:00 |
DateTimeOriginal | 2011:07:25 09:21:36 |
Defringe | 0 |
ExifImageHeight | 966 |
ExifImageWidth | 1111 |
Exposure | 0.00 |
ExposureCompensation | +1/3 |
ExposureMode | Auto |
ExposureProgram | Aperture-priority AE |
ExposureTime | 1/80 |
FillLight | 0 |
Firmware | 1.1.0 |
Flash | Off, Did not fire |
FlashCompensation | 0 |
FlashFired | False |
FlashFunction | False |
FlashMode | Off |
FlashRedEyeMode | False |
FlashReturn | No return detection |
FNumber | 6.3 |
FocalLength | 24.0 mm |
FocalLength35efl | 24.0 mm (35 mm equivalent: 24.0 mm) |
FOV | 73.6 deg |
GradientBasedCorrActive | true |
GradientBasedCorrAmount | 1.000000 |
GradientBasedCorrBrightness (1) | -0.576471 |
GradientBasedCorrBrightness (2) | -0.011765 |
GradientBasedCorrBrightness (3) | 0.082353 |
GradientBasedCorrBrightness (4) | 0.129412 |
GradientBasedCorrBrightness (5) | -0.223529 |
GradientBasedCorrBrightness (6) | -0.364706 |
GradientBasedCorrBrightness (8) | 0.105882 |
GradientBasedCorrBrightness (9) | 0.294118 |
GradientBasedCorrBrightness | 0.152941 |
GradientBasedCorrClarity (1) | 0.552941 |
GradientBasedCorrClarity (6) | 1.000000 |
GradientBasedCorrClarity | 0.082353 |
GradientBasedCorrContrast (1) | 0.811765 |
GradientBasedCorrContrast | 0.000000 |
GradientBasedCorrExposure (1) | 0.058824 |
GradientBasedCorrExposure (2) | -0.764706 |
GradientBasedCorrExposure (3) | -0.482353 |
GradientBasedCorrExposure | 0.000000 |
GradientBasedCorrHue | 240.000000 |
GradientBasedCorrMaskFullX (1) | 0.745629 |
GradientBasedCorrMaskFullX (2) | 0.190230 |
GradientBasedCorrMaskFullX (3) | 0.246386 |
GradientBasedCorrMaskFullX (4) | 0.279654 |
GradientBasedCorrMaskFullX (5) | 0.718917 |
GradientBasedCorrMaskFullX (6) | 0.688756 |
GradientBasedCorrMaskFullX (7) | 0.684839 |
GradientBasedCorrMaskFullX (8) | 0.281409 |
GradientBasedCorrMaskFullX (9) | 0.272752 |
GradientBasedCorrMaskFullX | 0.794946 |
GradientBasedCorrMaskFullY (1) | 0.317947 |
GradientBasedCorrMaskFullY (2) | 0.309919 |
GradientBasedCorrMaskFullY (3) | 0.702537 |
GradientBasedCorrMaskFullY (4) | 0.050278 |
GradientBasedCorrMaskFullY (5) | 0.054441 |
GradientBasedCorrMaskFullY (6) | 0.037417 |
GradientBasedCorrMaskFullY (7) | 0.030140 |
GradientBasedCorrMaskFullY (8) | 0.023129 |
GradientBasedCorrMaskFullY (9) | 0.944290 |
GradientBasedCorrMaskFullY | 0.395873 |
GradientBasedCorrMaskValue | 1.000000 |
GradientBasedCorrMaskWhat | Mask/Gradient |
GradientBasedCorrMaskZeroX (1) | 0.413490 |
GradientBasedCorrMaskZeroX (2) | 0.447395 |
GradientBasedCorrMaskZeroX (3) | 0.424858 |
GradientBasedCorrMaskZeroX (4) | 0.359613 |
GradientBasedCorrMaskZeroX (5) | 0.575890 |
GradientBasedCorrMaskZeroX (6) | 0.473576 |
GradientBasedCorrMaskZeroX (7) | 0.642731 |
GradientBasedCorrMaskZeroX (8) | 0.322684 |
GradientBasedCorrMaskZeroX (9) | 0.423802 |
GradientBasedCorrMaskZeroX | 0.613571 |
GradientBasedCorrMaskZeroY (1) | 0.388885 |
GradientBasedCorrMaskZeroY (2) | 0.435930 |
GradientBasedCorrMaskZeroY (3) | 0.610807 |
GradientBasedCorrMaskZeroY (4) | 0.125301 |
GradientBasedCorrMaskZeroY (5) | 0.161975 |
GradientBasedCorrMaskZeroY (6) | 0.217883 |
GradientBasedCorrMaskZeroY (7) | 0.084215 |
GradientBasedCorrMaskZeroY (8) | 0.078302 |
GradientBasedCorrMaskZeroY (9) | 0.812291 |
GradientBasedCorrMaskZeroY | 0.390464 |
GradientBasedCorrSaturation (3) | 0.058824 |
GradientBasedCorrSaturation | 0.000000 |
GradientBasedCorrSharpness | 0.058824 |
GradientBasedCorrWhat | Correction |
GreenHue | 0 |
GreenSaturation | 0 |
HasCrop | True |
HasSettings | True |
HighlightRecovery | 14 |
HueAdjustmentAqua | 0 |
HueAdjustmentBlue | 0 |
HueAdjustmentGreen | 0 |
HueAdjustmentMagenta | 0 |
HueAdjustmentOrange | 0 |
HueAdjustmentPurple | 0 |
HueAdjustmentRed | 0 |
HueAdjustmentYellow | 0 |
HyperfocalDistance | 3.05 m |
ImageHeight | 966 |
ImageNumber | 30 |
ImageSize | 1111x966 |
ImageWidth | 1111 |
ISO | 400 |
Lens | EF24-105mm f/4L IS USM |
LensInfo | 24-105mm f/? |
LightValue | 9.6 |
LuminanceAdjustmentAqua | 0 |
LuminanceAdjustmentBlue | 0 |
LuminanceAdjustmentGreen | 0 |
LuminanceAdjustmentMagenta | 0 |
LuminanceAdjustmentOrange | 0 |
LuminanceAdjustmentPurple | 0 |
LuminanceAdjustmentRed | 0 |
LuminanceAdjustmentYellow | 0 |
LuminanceSmoothing | 0 |
Make | Canon |
MaxApertureValue | 4.0 |
Megapixels | 1.1 |
MeteringMode | Partial |
Model | Canon EOS 5D |
ModifyDate (1) | 2011:08:07 22:06:33+02:00 |
ModifyDate | 2011:08:07 22:06:33 |
PaintCorrectionActive | true |
PaintCorrectionAmount | 1.000000 |
PaintCorrectionBrightness (1) | -0.505882 |
PaintCorrectionBrightness | -0.294118 |
PaintCorrectionClarity | 0.082353 |
PaintCorrectionContrast | 0.000000 |
PaintCorrectionExposure | 0.000000 |
PaintCorrectionHue | 240.000000 |
PaintCorrectionMaskCenterWeight | 0.000000 |
PaintCorrectionMaskFlow | 0.638941 |
PaintCorrectionMaskRadius (1) | 0.017288 |
PaintCorrectionMaskRadius | 0.039731 |
PaintCorrectionMaskValue | 1.000000 |
PaintCorrectionMaskWhat | Mask/Paint |
PaintCorrectionSaturation (3) | 0.058824 |
PaintCorrectionSaturation | 0.000000 |
PaintCorrectionSharpness | 0.058824 |
PaintCorrectionWhat | Correction |
ParametricDarks | -100 |
ParametricHighlights | 0 |
ParametricHighlightSplit | 75 |
ParametricLights | 0 |
ParametricMidtoneSplit | 50 |
ParametricShadows | 0 |
ParametricShadowSplit | 25 |
PostCropVignetteAmount | 0 |
ProfileDescription | Adobe RGB (1998) |
RedHue | 0 |
RedSaturation | 0 |
Saturation | -100 |
SaturationAdjustmentAqua | 0 |
SaturationAdjustmentBlue | 0 |
SaturationAdjustmentGreen | 0 |
SaturationAdjustmentMagenta | 0 |
SaturationAdjustmentOrange | 0 |
SaturationAdjustmentPurple | 0 |
SaturationAdjustmentRed | 0 |
SaturationAdjustmentYellow | 0 |
ScaleFactor35efl | 1.0 |
SceneCaptureType | Standard |
SerialNumber | 2721201972 |
Shadows | 0 |
ShadowTint | 0 |
SharpenDetail | 25 |
SharpenEdgeMasking | 0 |
SharpenRadius | +1.0 |
Sharpness | 25 |
ShutterSpeed | 1/80 |
ShutterSpeedValue | 1/80 |
SplitToningBalance | 0 |
SplitToningHighlightHue | 0 |
SplitToningHighlightSaturation | 0 |
SplitToningShadowHue | 0 |
SplitToningShadowSaturation | 0 |
Tint | +6 |
ToneCurve | 0, 0, 32, 22, 64, 56, 128, 128, 192, 196, 255, 255 |
ToneCurveName | Medium Contrast |
Version | 4.5 |
Vibrance | 0 |
VignetteAmount | 0 |
WhiteBalance (2) | As Shot |
WhiteBalance | Auto |