Felt | Verdi |
AlreadyApplied | True |
Aperture | 8.0 |
ApertureValue | 8.0 |
BitsPerSample | 8 |
BlueHue | 0 |
BlueSaturation | 0 |
Brightness | +50 |
CameraProfile | ACR 4.4 |
ChromaticAberrationB | 0 |
ChromaticAberrationR | 0 |
CircleOfConfusion | 0.030 mm |
Clarity | +23 |
ColorComponents | 1 |
ColorNoiseReduction | 25 |
ColorTemperature | 6362 |
Contrast | +25 |
ConvertToGrayscale | False |
CreateDate (1) | 2011:07:26 16:01:37+02:00 |
CreateDate | 2011:07:26 16:01:37 |
CreatorTool | Adobe Photoshop Lightroom |
CropAngle | 0.725285 |
CropBottom | 0.960913 |
CropHeight | 683 |
CropLeft | 0.013057 |
CropRight | 0.975393 |
CropTop | 0.04769 |
CropUnit | pixels |
CropWidth | 1111 |
CustomRendered | Normal |
DateTimeDigitized | 2011:07:26 16:01:37+02:00 |
DateTimeOriginal (1) | 2011:07:26 16:01:37+02:00 |
DateTimeOriginal | 2011:07:26 16:01:37 |
Defringe | 0 |
ExifImageHeight | 683 |
ExifImageWidth | 1111 |
Exposure | 0.00 |
ExposureCompensation | 0 |
ExposureMode | Manual |
ExposureProgram | Manual |
ExposureTime | 1/250 |
FillLight | 0 |
Firmware | 1.1.0 |
Flash | Off, Did not fire |
FlashCompensation | 0 |
FlashFired | False |
FlashFunction | False |
FlashMode | Off |
FlashRedEyeMode | False |
FlashReturn | No return detection |
FNumber | 8.0 |
FocalLength | 24.0 mm |
FocalLength35efl | 24.0 mm (35 mm equivalent: 24.0 mm) |
FOV | 73.6 deg |
GradientBasedCorrActive | true |
GradientBasedCorrAmount | 1.000000 |
GradientBasedCorrBrightness (1) | -0.317647 |
GradientBasedCorrBrightness (2) | -0.129412 |
GradientBasedCorrBrightness | 0.082353 |
GradientBasedCorrClarity | 0.082353 |
GradientBasedCorrContrast | 0.000000 |
GradientBasedCorrExposure | 0.000000 |
GradientBasedCorrHue | 240.000000 |
GradientBasedCorrMaskFullX (1) | 0.489451 |
GradientBasedCorrMaskFullX (2) | 0.545219 |
GradientBasedCorrMaskFullX (3) | 0.550872 |
GradientBasedCorrMaskFullX | 0.997093 |
GradientBasedCorrMaskFullY (1) | 0.000000 |
GradientBasedCorrMaskFullY (2) | -0.015968 |
GradientBasedCorrMaskFullY (3) | 0.995643 |
GradientBasedCorrMaskFullY | -0.002179 |
GradientBasedCorrMaskValue | 1.000000 |
GradientBasedCorrMaskWhat | Mask/Gradient |
GradientBasedCorrMaskZeroX (1) | 0.479958 |
GradientBasedCorrMaskZeroX (2) | 0.543889 |
GradientBasedCorrMaskZeroX (3) | 0.556686 |
GradientBasedCorrMaskZeroX | 0.895349 |
GradientBasedCorrMaskZeroY (1) | 0.950949 |
GradientBasedCorrMaskZeroY (2) | 0.542914 |
GradientBasedCorrMaskZeroY (3) | 0.586057 |
GradientBasedCorrMaskZeroY | 0.176471 |
GradientBasedCorrSaturation (5) | 0.058824 |
GradientBasedCorrSaturation | 0.000000 |
GradientBasedCorrSharpness | 0.058824 |
GradientBasedCorrWhat | Correction |
GreenHue | 0 |
GreenSaturation | 0 |
HasCrop | True |
HasSettings | True |
HighlightRecovery | 12 |
HueAdjustmentAqua | 0 |
HueAdjustmentBlue | 0 |
HueAdjustmentGreen | 0 |
HueAdjustmentMagenta | 0 |
HueAdjustmentOrange | 0 |
HueAdjustmentPurple | 0 |
HueAdjustmentRed | 0 |
HueAdjustmentYellow | 0 |
HyperfocalDistance | 2.40 m |
ImageHeight | 683 |
ImageNumber | 21 |
ImageSize | 1111x683 |
ImageWidth | 1111 |
ISO | 100 |
Lens | EF24-105mm f/4L IS USM |
LensInfo | 24-105mm f/? |
LightValue | 14.0 |
LuminanceAdjustmentAqua | 0 |
LuminanceAdjustmentBlue | 0 |
LuminanceAdjustmentGreen | 0 |
LuminanceAdjustmentMagenta | 0 |
LuminanceAdjustmentOrange | 0 |
LuminanceAdjustmentPurple | 0 |
LuminanceAdjustmentRed | 0 |
LuminanceAdjustmentYellow | 0 |
LuminanceSmoothing | 0 |
Make | Canon |
MaxApertureValue | 4.0 |
Megapixels | 0.759 |
MeteringMode | Partial |
Model | Canon EOS 5D |
ModifyDate (1) | 2011:08:17 10:29:02+02:00 |
ModifyDate | 2011:08:17 10:29:02 |
PaintCorrectionActive | true |
PaintCorrectionAmount | 1.000000 |
PaintCorrectionBrightness | 0.082353 |
PaintCorrectionClarity | 0.082353 |
PaintCorrectionContrast | 0.000000 |
PaintCorrectionExposure | 0.000000 |
PaintCorrectionHue | 240.000000 |
PaintCorrectionMaskCenterWeight | 0.009996 |
PaintCorrectionMaskFlow | 0.883529 |
PaintCorrectionMaskRadius (4) | 0.069001 |
PaintCorrectionMaskRadius | 0.067721 |
PaintCorrectionMaskValue | 1.000000 |
PaintCorrectionMaskWhat | Mask/Paint |
PaintCorrectionSaturation (1) | 0.058824 |
PaintCorrectionSaturation | 0.000000 |
PaintCorrectionSharpness | 0.058824 |
PaintCorrectionWhat | Correction |
ParametricDarks | -51 |
ParametricHighlights | +9 |
ParametricHighlightSplit | 75 |
ParametricLights | 0 |
ParametricMidtoneSplit | 50 |
ParametricShadows | +21 |
ParametricShadowSplit | 25 |
PostCropVignetteAmount | 0 |
ProfileDescription | Adobe RGB (1998) |
RedHue | 0 |
RedSaturation | 0 |
Saturation | -100 |
SaturationAdjustmentAqua | 0 |
SaturationAdjustmentBlue | 0 |
SaturationAdjustmentGreen | 0 |
SaturationAdjustmentMagenta | 0 |
SaturationAdjustmentOrange | 0 |
SaturationAdjustmentPurple | 0 |
SaturationAdjustmentRed | 0 |
SaturationAdjustmentYellow | 0 |
ScaleFactor35efl | 1.0 |
SceneCaptureType | Standard |
SerialNumber | 2721201972 |
Shadows | 0 |
ShadowTint | 0 |
SharpenDetail | 25 |
SharpenEdgeMasking | 0 |
SharpenRadius | +1.0 |
Sharpness | 25 |
ShutterSpeed | 1/250 |
ShutterSpeedValue | 1/250 |
SplitToningBalance | 0 |
SplitToningHighlightHue | 0 |
SplitToningHighlightSaturation | 0 |
SplitToningShadowHue | 0 |
SplitToningShadowSaturation | 0 |
Tint | +2 |
ToneCurve | 0, 0, 32, 22, 64, 56, 128, 128, 192, 196, 255, 255 |
ToneCurveName | Medium Contrast |
Version | 4.5 |
Vibrance | 0 |
VignetteAmount | +23 |
VignetteMidpoint | 100 |
WhiteBalance (2) | Custom |
WhiteBalance | Auto |