Felt | Verdi |
AlreadyApplied | True |
Aperture | 5.0 |
ApertureValue | 5.0 |
BitsPerSample | 8 |
BlueHue | 0 |
BlueSaturation | 0 |
Brightness | +50 |
CameraProfile | Embedded |
CFAPattern | [Blue,Green][Green,Red] |
ChromaticAberrationB | 0 |
ChromaticAberrationR | 0 |
CircleOfConfusion | 0.020 mm |
Clarity | +100 |
ColorComponents | 3 |
ColorNoiseReduction | 25 |
Contrast (2) | +25 |
Contrast | Normal |
ConvertToGrayscale | True |
CreateDate (1) | 2009:08:04 09:08:49.30+02:00 |
CreateDate | 2009:08:04 09:08:49 |
CreatorTool | Microsoft Windows Live Photo Gallery14.0.8117.416 |
Creatortool | Microsoft Windows Live Photo Gallery14.0.8117.416 |
CropAngle | 0 |
CropBottom | 1 |
CropHeight | 1820 |
CropLeft | 0.047535 |
CropRight | 0.97007 |
CropTop | 0.089947 |
CropUnit | pixels |
CropWidth | 2775 |
CustomRendered | Normal |
DateTimeDigitized | 2009:08:04 09:08:49.30+02:00 |
DateTimeOriginal (1) | 2009:08:04 09:08:49.30+02:00 |
DateTimeOriginal | 2009:08:04 09:08:49 |
Defringe | 0 |
DigitalZoomRatio | 1 |
ExifImageHeight | 2775 |
ExifImageWidth | 1820 |
Exposure | -1.33 |
ExposureCompensation | 0 |
ExposureMode | Auto |
ExposureProgram | Not Defined |
ExposureTime | 1/125 |
FillLight | 13 |
Flash | No Flash |
FlashFired | False |
FlashFunction | False |
FlashMode | Unknown |
FlashRedEyeMode | False |
FlashReturn | No return detection |
FNumber | 5.0 |
FocalLength | 86.0 mm |
FocalLength35efl | 86.0 mm (35 mm equivalent: 129.0 mm) |
FocalLengthIn35mmFormat | 129 mm |
FOV | 15.9 deg |
GainControl | Low gain up |
GrayMixerAqua | -10 |
GrayMixerBlue | +20 |
GrayMixerGreen | -19 |
GrayMixerMagenta | +28 |
GrayMixerOrange | +4 |
GrayMixerPurple | +25 |
GrayMixerRed | +29 |
GrayMixerYellow | -13 |
GreenHue | 0 |
GreenSaturation | 0 |
HasCrop | True |
HasSettings | True |
HighlightRecovery | 0 |
HyperfocalDistance | 73.85 m |
ImageHeight | 2775 |
ImageNumber | 9828 |
ImageSize | 1820x2775 |
ImageWidth | 1820 |
IncrementalTemperature | +8 |
IncrementalTint | -16 |
ISO | 400 |
Lens | 55.0-200.0 mm f/4.0-5.6 |
LensInfo | 55-200mm f/4-5.6 |
LightSource | Unknown |
LightValue | 9.6 |
LuminanceSmoothing | 0 |
Make | NIKON CORPORATION |
MaxApertureValue | 4.3 |
Megapixels | 5.1 |
MeteringMode | Multi-segment |
Model | NIKON D40 |
ModifyDate (1) | 2009:08:06 14:47:18+02:00 |
ModifyDate | 2011:08:23 18:22:26 |
Orientation | Horizontal (normal) |
PaintCorrectionActive | true |
PaintCorrectionAmount | 1.000000 |
PaintCorrectionBrightness | 0.000000 |
PaintCorrectionClarity | 0.000000 |
PaintCorrectionContrast | 0.000000 |
PaintCorrectionExposure | 0.000000 |
PaintCorrectionHue | 0.000000 |
PaintCorrectionMaskCenterWeight | 0.000000 |
PaintCorrectionMaskFlow | 1.000000 |
PaintCorrectionMaskRadius | 0.010106 |
PaintCorrectionMaskValue | 1.000000 |
PaintCorrectionMaskWhat | Mask/Paint |
PaintCorrectionSaturation | 0.000000 |
PaintCorrectionSharpness | 0.654000 |
PaintCorrectionWhat | Correction |
ParametricDarks | -17 |
ParametricHighlights | -76 |
ParametricHighlightSplit | 75 |
ParametricLights | -5 |
ParametricMidtoneSplit | 50 |
ParametricShadows | -86 |
ParametricShadowSplit | 25 |
PostCropVignetteAmount | 0 |
ProfileDescription | sRGB IEC61966-2.1 |
RedHue | 0 |
RedSaturation | 0 |
Saturation | Normal |
ScaleFactor35efl | 1.5 |
SceneCaptureType | Standard |
SceneType | Directly photographed |
SensingMethod | One-chip color area |
SerialNumber | 6084647 |
Shadows | 0 |
ShadowTint | 0 |
SharpenDetail | 37 |
SharpenEdgeMasking | 0 |
SharpenRadius | +1.0 |
Sharpness (2) | 25 |
Sharpness | Normal |
ShutterSpeed | 1/125 |
ShutterSpeedValue | 1/125 |
Software | Microsoft Windows Live Photo Gallery14.0.8117.416 |
SplitToningBalance | +19 |
SplitToningHighlightHue | 56 |
SplitToningHighlightSaturation | 75 |
SplitToningShadowHue | 37 |
SplitToningShadowSaturation | 22 |
SubjectDistanceRange | Unknown |
ToneCurve | 0, 0, 32, 22, 64, 56, 128, 128, 192, 196, 255, 255 |
ToneCurveName | Medium Contrast |
Version | 5.4 |
VignetteAmount | +100 |
VignetteMidpoint | 0 |
WhiteBalance (2) | Custom |
WhiteBalance | Auto |