Felt | Verdi |
AlreadyApplied | True |
Aperture | 8.0 |
ApertureValue | 8.0 |
ApproximateFocusDistance | 3.39 |
Artist | Eric Fagerheim |
BitsPerSample | 8 |
BlueHue | 0 |
BlueSaturation | 0 |
Brightness | +29 |
By-line | Eric Fagerheim |
CameraProfile | Embedded |
ChromaticAberrationB | 0 |
ChromaticAberrationR | 0 |
CircleOfConfusion | 0.031 mm |
Clarity | 0 |
ColorComponents | 3 |
ColorNoiseReduction | 0 |
Contrast | 0 |
ConvertToGrayscale | False |
Copyright | Copyright: www.fotofashion.no |
CopyrightNotice | Copyright: www.fotofashion.no |
CreateDate (1) | 2011:08:24 19:06:24.10 |
CreateDate | 2011:08:24 19:06:24 |
Creator | Eric Fagerheim |
CreatorTool | Adobe Photoshop Lightroom 3.4.1 |
CropAngle | -2.17273 |
CropBottom | 0.961112 |
CropConstrainToWarp | 0 |
CropHeight | 800 |
CropLeft | 0.002262 |
CropRight | 1 |
CropTop | 0.078632 |
CropUnit | pixels |
CropWidth | 557 |
CustomRendered | Normal |
DateCreated (1) | 2011:08:24 |
DateCreated | 2011:08:24 19:06:24.001 |
DateTimeOriginal | 2011:08:24 19:06:24 |
Defringe | 0 |
DOF | 1.99 m (2.67 - 4.65 m) |
Exposure | -1.33 |
ExposureCompensation | 0 |
ExposureMode | Manual |
ExposureProgram | Manual |
ExposureTime | 1/160 |
FillLight | 6 |
Firmware | 2.0.9 |
Flash | Off, Did not fire |
FlashCompensation | 0 |
FNumber | 8.0 |
FocalLength | 55.0 mm |
FocalLength35efl | 55.0 mm (35 mm equivalent: 53.7 mm) |
Format | application/vnd.adobe.photoshop |
FOV | 37.1 deg |
GradientBasedCorrActive | true |
GradientBasedCorrAmount | 1.000000 |
GradientBasedCorrBrightness | 0.000000 |
GradientBasedCorrClarity | 0.000000 |
GradientBasedCorrContrast | 0.000000 |
GradientBasedCorrExposure (1) | -0.415000 |
GradientBasedCorrExposure (2) | 0.073000 |
GradientBasedCorrExposure (3) | -0.268000 |
GradientBasedCorrExposure | 0.146000 |
GradientBasedCorrHue | 0.000000 |
GradientBasedCorrMaskFullX (1) | 0.859518 |
GradientBasedCorrMaskFullX (2) | 0.050843 |
GradientBasedCorrMaskFullX (3) | 0.039109 |
GradientBasedCorrMaskFullX (4) | 0.761194 |
GradientBasedCorrMaskFullX | 0.358749 |
GradientBasedCorrMaskFullY (1) | 0.732306 |
GradientBasedCorrMaskFullY (2) | 0.030507 |
GradientBasedCorrMaskFullY (3) | 0.389707 |
GradientBasedCorrMaskFullY (4) | 0.752841 |
GradientBasedCorrMaskFullY | 0.733722 |
GradientBasedCorrMaskValue | 1.000000 |
GradientBasedCorrMaskWhat | Mask/Gradient |
GradientBasedCorrMaskZeroX (1) | 0.549746 |
GradientBasedCorrMaskZeroX (2) | 0.175286 |
GradientBasedCorrMaskZeroX (3) | 0.289249 |
GradientBasedCorrMaskZeroX (4) | 0.579957 |
GradientBasedCorrMaskZeroX | 0.517310 |
GradientBasedCorrMaskZeroY (1) | 0.381481 |
GradientBasedCorrMaskZeroY (2) | 0.152271 |
GradientBasedCorrMaskZeroY (3) | 0.475351 |
GradientBasedCorrMaskZeroY (4) | 0.650568 |
GradientBasedCorrMaskZeroY | 0.679913 |
GradientBasedCorrSaturation | 0.000000 |
GradientBasedCorrSharpness | 0.000000 |
GradientBasedCorrWhat | Correction |
GrainAmount | 0 |
GreenHue | 0 |
GreenSaturation | 0 |
HasCrop | True |
HasSettings | True |
HighlightRecovery | 0 |
HueAdjustmentAqua | 0 |
HueAdjustmentBlue | 0 |
HueAdjustmentGreen | 0 |
HueAdjustmentMagenta | 0 |
HueAdjustmentOrange | 0 |
HueAdjustmentPurple | 0 |
HueAdjustmentRed | 0 |
HueAdjustmentYellow | 0 |
HyperfocalDistance | 12.28 m |
ImageHeight | 800 |
ImageNumber | 0 |
ImageSize | 557x800 |
ImageWidth | 557 |
IncrementalTemperature | -13 |
IncrementalTint | 0 |
ISO | 100 |
Keywords | contrast, light expressive, studio |
Lens | EF24-105mm f/4L IS USM |
LensID (1) | 237 |
LensID | Canon EF 24-105mm f/4L IS USM |
LensInfo | 24-105mm f/? |
LensManualDistortionAmount | 0 |
LensModel | EF24-105mm f/4L IS USM |
LensProfileEnable | 0 |
LensProfileSetup | LensDefaults |
LightValue | 13.3 |
LuminanceAdjustmentAqua | 0 |
LuminanceAdjustmentBlue | 0 |
LuminanceAdjustmentGreen | 0 |
LuminanceAdjustmentMagenta | 0 |
LuminanceAdjustmentOrange | 0 |
LuminanceAdjustmentPurple | 0 |
LuminanceAdjustmentRed | -16 |
LuminanceAdjustmentYellow | 0 |
LuminanceSmoothing | 0 |
Make | Canon |
MaxApertureValue | 4.0 |
Megapixels | 0.446 |
MeteringMode | Multi-segment |
Model | Canon EOS 5D Mark II |
ModifyDate (1) | 2011:08:24 22:45:48+02:00 |
ModifyDate | 2011:08:24 22:45:48 |
ParametricDarks | -1 |
ParametricHighlights | +16 |
ParametricHighlightSplit | 75 |
ParametricLights | +24 |
ParametricMidtoneSplit | 50 |
ParametricShadows | -9 |
ParametricShadowSplit | 25 |
PerspectiveHorizontal | 0 |
PerspectiveRotate | 0.0 |
PerspectiveScale | 100 |
PerspectiveVertical | 0 |
PostCropVignetteAmount | -46 |
PostCropVignetteFeather | 59 |
PostCropVignetteHighlightContrast | 0 |
PostCropVignetteMidpoint | 33 |
PostCropVignetteRoundness | -83 |
PostCropVignetteStyle | 1 |
ProcessVersion | 5.7 |
ProfileDescription | sRGB IEC61966-2.1 |
Rating | 1 |
RedHue | 0 |
RedSaturation | 0 |
Rights | Copyright: www.fotofashion.no |
Saturation | -31 |
SaturationAdjustmentAqua | 0 |
SaturationAdjustmentBlue | 0 |
SaturationAdjustmentGreen | 0 |
SaturationAdjustmentMagenta | 0 |
SaturationAdjustmentOrange | -5 |
SaturationAdjustmentPurple | 0 |
SaturationAdjustmentRed | +48 |
SaturationAdjustmentYellow | 0 |
ScaleFactor35efl | 1.0 |
SceneCaptureType | Standard |
SerialNumber | 1330823407 |
Shadows | 0 |
ShadowTint | 0 |
SharpenDetail | 25 |
SharpenEdgeMasking | 0 |
SharpenRadius | +1.0 |
Sharpness | 0 |
ShutterSpeed | 1/160 |
ShutterSpeedValue | 1/160 |
Software | Adobe Photoshop Lightroom 3.4.1 |
SplitToningBalance | +100 |
SplitToningHighlightHue | 204 |
SplitToningHighlightSaturation | 7 |
SplitToningShadowHue | 0 |
SplitToningShadowSaturation | 25 |
Subject | contrast, light expressive, studio |
SubjectDistance | 3.39 m |
ToneCurve | 0, 0, 255, 255 |
ToneCurveName | Linear |
Version | 6.4.1 |
Vibrance | 0 |
VignetteAmount | -33 |
VignetteMidpoint | 50 |
WhiteBalance (1) | Custom |
WhiteBalance | Auto |