Felt | Verdi |
AlreadyApplied | True |
Aperture | 5.6 |
ApertureValue | 5.6 |
BitsPerSample | 8 |
BlueHue | 0 |
BlueSaturation | 0 |
Brightness | +50 |
CameraProfile | Adobe Standard |
ChromaticAberrationB | 0 |
ChromaticAberrationR | 0 |
CircleOfConfusion | 0.030 mm |
Clarity | +63 |
ColorComponents | 1 |
ColorNoiseReduction | 25 |
ColorNoiseReductionDetail | 50 |
ColorTemperature | 5500 |
Contrast | +53 |
ConvertToGrayscale | True |
Copyright | Torstein Johansen |
CopyrightFlag | True |
CopyrightNotice | Torstein Johansen |
CreateDate (1) | 2011:08:25 07:39:33+02:00 |
CreateDate | 2011:08:25 07:39:33 |
CreatorTool | Adobe Photoshop Lightroom 3.3 |
CropAngle | 0 |
CropBottom | 0.97422 |
CropConstrainToWarp | 0 |
CropHeight | 700 |
CropLeft | 0.0217 |
CropRight | 0.948463 |
CropTop | 0.020353 |
CropUnit | pixels |
CropWidth | 1020 |
CustomRendered | Normal |
DateTimeDigitized | 2011:08:25 07:39:33+02:00 |
DateTimeOriginal (1) | 2011:08:25 07:39:33+02:00 |
DateTimeOriginal | 2011:08:25 07:39:33 |
Defringe | 0 |
ExifImageHeight | 700 |
ExifImageWidth | 1020 |
Exposure | +0.23 |
ExposureCompensation | +1/3 |
ExposureMode | Auto |
ExposureProgram | Aperture-priority AE |
ExposureTime | 1/1250 |
FillLight | 3 |
Firmware | 1.1.1 |
Flash | Off, Did not fire |
FlashCompensation | 0 |
FlashFired | False |
FlashFunction | False |
FlashMode | Off |
FlashRedEyeMode | False |
FlashReturn | No return detection |
FNumber | 5.6 |
FocalLength | 35.0 mm |
FocalLength35efl | 35.0 mm (35 mm equivalent: 35.1 mm) |
FOV | 54.3 deg |
GrainAmount | 0 |
GrayMixerAqua | -19 |
GrayMixerBlue | +7 |
GrayMixerGreen | -24 |
GrayMixerMagenta | +5 |
GrayMixerOrange | -14 |
GrayMixerPurple | +14 |
GrayMixerRed | -6 |
GrayMixerYellow | -18 |
GreenHue | 0 |
GreenSaturation | 0 |
HasCrop | True |
HasSettings | True |
HighlightRecovery | 38 |
HyperfocalDistance | 7.30 m |
ImageHeight | 700 |
ImageNumber | 1 |
ImageSize | 1020x700 |
ImageWidth | 1020 |
ISO | 200 |
Lens | EF20-35mm f/2.8L |
LensID (1) | 22 |
LensID | Canon EF 20-35mm f/2.8L |
LensInfo | 20-35mm f/? |
LensManualDistortionAmount | -8 |
LensModel | EF20-35mm f/2.8L |
LensProfileEnable | 0 |
LensProfileSetup | LensDefaults |
LightValue | 14.3 |
LuminanceNoiseReductionContrast | 9 |
LuminanceNoiseReductionDetail | 50 |
LuminanceSmoothing | 30 |
Make | Canon |
Marked | True |
MaxApertureValue | 2.8 |
Megapixels | 0.714 |
MeteringMode | Unknown |
Model | Canon EOS 5D |
ModifyDate (1) | 2011:08:28 16:33:33+02:00 |
ModifyDate | 2011:08:28 16:33:33 |
ParametricDarks | 0 |
ParametricHighlights | 0 |
ParametricHighlightSplit | 75 |
ParametricLights | 0 |
ParametricMidtoneSplit | 50 |
ParametricShadows | 0 |
ParametricShadowSplit | 25 |
PerspectiveHorizontal | 0 |
PerspectiveRotate | 0.0 |
PerspectiveScale | 100 |
PerspectiveVertical | -10 |
PostCropVignetteAmount | 0 |
ProcessVersion | 5.7 |
ProfileDescription | sRGB IEC61966-2.1 |
RedHue | 0 |
RedSaturation | 0 |
Rights | Torstein Johansen |
ScaleFactor35efl | 1.0 |
SceneCaptureType | Standard |
SensitivityType | Unknown |
SerialNumber | 3521300828 |
Shadows | 25 |
ShadowTint | 0 |
SharpenDetail | 30 |
SharpenEdgeMasking | 0 |
SharpenRadius | +1.0 |
Sharpness | 100 |
ShutterSpeed | 1/1250 |
ShutterSpeedValue | 1/1250 |
SplitToningBalance | 0 |
SplitToningHighlightHue | 0 |
SplitToningHighlightSaturation | 0 |
SplitToningShadowHue | 0 |
SplitToningShadowSaturation | 0 |
Tint | +9 |
ToneCurve | 0, 0, 32, 22, 64, 56, 128, 128, 192, 196, 255, 255 |
ToneCurveName | Medium Contrast |
Version | 6.3 |
VignetteAmount | 0 |
WhiteBalance (2) | As Shot |
WhiteBalance | Auto |