Felt | Verdi |
AlreadyApplied | True |
Aperture | 5.6 |
ApertureValue | 5.6 |
Artist | STINNI |
BitsPerSample | 8 |
BlueHue | 0 |
BlueSaturation | 0 |
Brightness | +74 |
By-line | STINNI |
CameraProfile | Adobe Standard |
ChromaticAberrationB | 0 |
ChromaticAberrationR | 0 |
CircleOfConfusion | 0.020 mm |
Clarity | 0 |
ColorComponents | 3 |
ColorMode | RGB |
ColorNoiseReduction | 25 |
ColorNoiseReductionDetail | 50 |
ColorSpace | Uncalibrated |
ColorTemperature | 9100 |
Contrast (1) | +25 |
Contrast | Normal |
ConvertToGrayscale | True |
Copyright | STINNI |
CopyrightNotice | STINNI |
CreateDate | 2011:05:18 16:51:15 |
Creator | STINNI |
CreatorTool | Adobe Photoshop Lightroom 3.4 |
CropAngle | 0 |
CropBottom | 0.890411 |
CropConstrainToWarp | 0 |
CropLeft | 0 |
CropRight | 0.847201 |
CropTop | 0 |
CustomRendered | Normal |
DateCreated (1) | 2011:05:18 |
DateCreated | 2011:05:18 15:51:15 |
DateTimeOriginal | 2011:05:18 16:51:15 |
Defringe | 0 |
ExifImageHeight | 4949 |
ExifImageWidth | 7109 |
Exposure | -1.89 |
ExposureCompensation | 0 |
ExposureMode | Auto |
ExposureProgram | Aperture-priority AE |
ExposureTime | 1/250 |
FillLight | 0 |
Flash | Off, Did not fire |
FNumber | 5.6 |
FocalLength | 230.0 mm |
FocalLength35efl | 230.0 mm (35 mm equivalent: 345.0 mm) |
FocalLengthIn35mmFormat | 345 mm |
Format | image/jpeg |
FOV | 6.0 deg |
GrainAmount | 0 |
GrayMixerAqua | -22 |
GrayMixerBlue | -2 |
GrayMixerGreen | -17 |
GrayMixerMagenta | +8 |
GrayMixerOrange | -2 |
GrayMixerPurple | +8 |
GrayMixerRed | +5 |
GrayMixerYellow | -6 |
GreenHue | 0 |
GreenSaturation | 0 |
HasCrop | True |
HasSettings | True |
HierarchicalSubject | paris |
HighlightRecovery | 25 |
HyperfocalDistance | 471.59 m |
ICCProfileName | ProPhoto RGB |
ImageHeight | 4949 |
ImageSize | 7109x4949 |
ImageWidth | 7109 |
ISO | 12800 |
Keywords | paris |
Label | |
Lens | Sigma Lens |
LensID (1) | 3 0 |
LensID | Sigma |
LensManualDistortionAmount | 0 |
LensModel | Sigma Lens |
LensProfileEnable | 0 |
LensProfileSetup | LensDefaults |
LightValue | 5.9 |
LuminanceNoiseReductionContrast | 0 |
LuminanceNoiseReductionDetail | 50 |
LuminanceSmoothing | 39 |
Make | PENTAX |
Megapixels | 35.2 |
MeteringMode | Spot |
Model | PENTAX K-5 |
ModifyDate (1) | 2011:05:23 22:25:22+02:00 |
ModifyDate | 2011:05:23 22:25:22 |
Orientation | Horizontal (normal) |
PaintCorrectionActive | true |
PaintCorrectionAmount | 1.000000 |
PaintCorrectionBrightness | 0.659000 |
PaintCorrectionClarity | 1.000000 |
PaintCorrectionContrast | -0.780000 |
PaintCorrectionExposure | -0.585000 |
PaintCorrectionHue | 0.000000 |
PaintCorrectionMaskCenterWeight | 0.091606 |
PaintCorrectionMaskFlow | 0.423000 |
PaintCorrectionMaskRadius | 0.030688 |
PaintCorrectionMaskValue | 1.000000 |
PaintCorrectionMaskWhat | Mask/Paint |
PaintCorrectionSaturation (1) | 0.049000 |
PaintCorrectionSaturation | 0.010000 |
PaintCorrectionSharpness | 0.000000 |
PaintCorrectionWhat | Correction |
ParametricDarks | 0 |
ParametricHighlights | 0 |
ParametricHighlightSplit | 75 |
ParametricLights | 0 |
ParametricMidtoneSplit | 50 |
ParametricShadows | 0 |
ParametricShadowSplit | 25 |
PerspectiveHorizontal | 0 |
PerspectiveRotate | 0.0 |
PerspectiveScale | 100 |
PerspectiveVertical | 0 |
PostCropVignetteAmount | 0 |
ProcessVersion | 5.7 |
ProfileDescription | ProPhoto RGB |
Rating | 0 |
RawFileName | _IGP2190.dng |
RedHue | 0 |
RedSaturation | 0 |
Rights | STINNI |
Saturation | Normal |
ScaleFactor35efl | 1.5 |
SceneCaptureType | Standard |
SensingMethod | One-chip color area |
Shadows | 0 |
ShadowTint | 0 |
SharpenDetail | 25 |
SharpenEdgeMasking | 0 |
SharpenRadius | +1.0 |
Sharpness (1) | 25 |
Sharpness | Normal |
ShutterSpeed | 1/250 |
ShutterSpeedValue | 1/250 |
Software | Adobe Photoshop CS5 Windows |
SplitToningBalance | 0 |
SplitToningHighlightHue | 0 |
SplitToningHighlightSaturation | 0 |
SplitToningShadowHue | 0 |
SplitToningShadowSaturation | 0 |
Subject | paris |
SubjectDistanceRange | Distant |
Tint | -2 |
ToneCurve | 0, 0, 32, 22, 64, 56, 128, 128, 192, 196, 255, 255 |
ToneCurveName | Medium Contrast |
URL_List | |
Version | 6.4 |
VignetteAmount | 0 |
WhiteBalance (1) | As Shot |
WhiteBalance | Manual |