Felt | Verdi |
AlreadyApplied | True |
Aperture | 8.0 |
ApertureValue | 8.0 |
BitsPerSample | 8 |
BlueHue | 0 |
BlueSaturation | 0 |
Brightness | +50 |
CameraProfile | Adobe Standard |
Caption-Abstract | OLYMPUS DIGITAL CAMERA |
CFAPattern | [Red,Green][Green,Blue] |
ChromaticAberrationB | 0 |
ChromaticAberrationR | 0 |
Clarity | 0 |
ColorComponents | 3 |
ColorMode | RGB |
ColorNoiseReduction | 25 |
ColorNoiseReductionDetail | 50 |
ColorSpace | Uncalibrated |
ColorTemperature | 5400 |
Contrast (1) | +25 |
Contrast | High |
ConvertToGrayscale | False |
CreateDate (1) | 2011:09:15 17:57:40+02:00 |
CreateDate | 2011:09:15 17:57:40 |
CreatorTool | Version 1.4 |
CropAngle | 0 |
CropBottom | 0.974642 |
CropLeft | 0.253929 |
CropRight | 0.938792 |
CropTop | 0.198456 |
CustomRendered | Normal |
DateCreated (1) | 2011:09:15 |
DateCreated | 2011:09:15 17:57:40 |
DateTimeOriginal | 2011:09:15 17:57:40 |
Defringe | 0 |
Description | OLYMPUS DIGITAL CAMERA |
DigitalZoomRatio | 1 |
ExifImageHeight | 2124 |
ExifImageWidth | 2498 |
Exposure | -2.10 |
ExposureCompensation | +0.3 |
ExposureMode | Auto bracket |
ExposureProgram | Aperture-priority AE |
ExposureTime | 1/60 |
FillLight | 100 |
Flash | Auto, Did not fire |
FlashCompensation | 0 |
FNumber | 8.0 |
FocalLength | 300.0 mm |
FocalLength35efl | 300.0 mm |
Format | image/jpeg |
GainControl | Low gain up |
GrainAmount | 0 |
GreenHue | 0 |
GreenSaturation | 0 |
HasCrop | True |
HasSettings | True |
HighlightRecovery | 0 |
HueAdjustmentAqua | 0 |
HueAdjustmentBlue | 0 |
HueAdjustmentGreen | 0 |
HueAdjustmentMagenta | 0 |
HueAdjustmentOrange | 0 |
HueAdjustmentPurple | 0 |
HueAdjustmentRed | 0 |
HueAdjustmentYellow | 0 |
ICCProfileName | Adobe RGB (1998) |
ImageDescription | OLYMPUS DIGITAL CAMERA |
ImageHeight | 2124 |
ImageSize | 2498x2124 |
ImageWidth | 2498 |
ISO | 200 |
Lens | 70.0-300.0 mm f/4.0-5.6 |
LensInfo | 70-300mm f/4-5.6 |
LensSerialNumber | 256064535 |
LightSource | Unknown |
LightValue | 10.9 |
LuminanceAdjustmentAqua | 0 |
LuminanceAdjustmentBlue | 0 |
LuminanceAdjustmentGreen | 0 |
LuminanceAdjustmentMagenta | 0 |
LuminanceAdjustmentOrange | 0 |
LuminanceAdjustmentPurple | 0 |
LuminanceAdjustmentRed | 0 |
LuminanceAdjustmentYellow | 0 |
LuminanceSmoothing | 0 |
Make | OLYMPUS IMAGING CORP. |
MaxApertureValue | 4.0 |
Megapixels | 5.3 |
MeteringMode | Center-weighted average |
Model | E-3 |
ModifyDate (1) | 2011:09:15 17:57:04+02:00 |
ModifyDate | 2011:09:15 17:57:04 |
Orientation | Horizontal (normal) |
ParametricDarks | 0 |
ParametricHighlights | 0 |
ParametricHighlightSplit | 75 |
ParametricLights | 0 |
ParametricMidtoneSplit | 50 |
ParametricShadows | 0 |
ParametricShadowSplit | 25 |
PostCropVignetteAmount | 0 |
ProcessVersion | 5.7 |
ProfileDescription | Adobe RGB (1998) |
Rating | 0 |
RawFileName | Friends 002.ORF |
RedHue | 0 |
RedSaturation | 0 |
Saturation (1) | +17 |
Saturation | High |
SaturationAdjustmentAqua | 0 |
SaturationAdjustmentBlue | 0 |
SaturationAdjustmentGreen | 0 |
SaturationAdjustmentMagenta | 0 |
SaturationAdjustmentOrange | 0 |
SaturationAdjustmentPurple | 0 |
SaturationAdjustmentRed | 0 |
SaturationAdjustmentYellow | 0 |
SceneCaptureType | Standard |
SerialNumber | D72501195 |
Shadows | 90 |
ShadowTint | 0 |
SharpenDetail | 25 |
SharpenEdgeMasking | 0 |
SharpenRadius | +1.0 |
Sharpness (1) | 25 |
Sharpness | Hard |
ShutterSpeed | 1/60 |
ShutterSpeedValue | 1/60 |
SidecarForExtension | ORF |
Software | Adobe Photoshop CS5 Windows |
SplitToningBalance | 0 |
SplitToningHighlightHue | 0 |
SplitToningHighlightSaturation | 0 |
SplitToningShadowHue | 0 |
SplitToningShadowSaturation | 0 |
Tint | +10 |
ToneCurve | 0, 0, 32, 22, 64, 56, 128, 128, 192, 196, 255, 255 |
ToneCurveName | Medium Contrast |
URL_List | |
Version | 6.0 |
Vibrance | 0 |
VignetteAmount | 0 |
WhiteBalance (1) | Custom |
WhiteBalance | Auto |