Felt | Verdi |
AlreadyApplied | True |
Aperture | 7.1 |
ApertureValue | 7.1 |
Artist | Birgitta Sjöstedt |
BitsPerSample | 8 |
BlueHue | 0 |
BlueSaturation | 0 |
Brightness | +50 |
By-line | Birgitta Sjöstedt |
CameraProfile | Adobe Standard |
Caption-Abstract | Braun yellow butterfly on a pink flower. |
ChromaticAberrationB | 0 |
ChromaticAberrationR | 0 |
CircleOfConfusion | 0.019 mm |
Clarity | +27 |
ColorComponents | 3 |
ColorMode | RGB |
ColorNoiseReduction | 25 |
ColorNoiseReductionDetail | 50 |
ColorSpace | sRGB |
ColorTemperature | 4900 |
Contrast | +25 |
ConvertToGrayscale | False |
Copyright | Copyright Birgitta Sjöstedt 2011 |
CopyrightFlag | True |
CopyrightNotice | Copyright Birgitta Sjöstedt 2011 |
CreateDate (1) | 2011:07:30 18:07:37.00+02:00 |
CreateDate | 2011:07:30 18:07:37 |
Creator | Birgitta Sjöstedt |
CreatorAddress | Smedvägen 4 |
CreatorCity | Handen |
CreatorCountry | Sverige |
CreatorPostalCode | 136 46 |
CreatorTool | Adobe Photoshop Lightroom |
CreatorWorkEmail | sjostedt.birgitta@telia.com |
CreatorWorkTelephone | 073-7071565 |
CropAngle | 0 |
CropBottom | 1 |
CropConstrainToWarp | 0 |
CropHeight | 3083 |
CropLeft | 0.156076 |
CropRight | 0.797101 |
CropTop | 0.026756 |
CropUnit | pixels |
CropWidth | 3046 |
CustomRendered | Normal |
DateTimeDigitized | 2011:07:30 18:07:37.00+02:00 |
DateTimeOriginal (1) | 2011:07:30 18:07:37.00+02:00 |
DateTimeOriginal | 2011:07:30 18:07:37 |
Defringe | 0 |
Description | Braun yellow butterfly on a pink flower. |
DOF | 0.006 m (0.527 - 0.533 m) |
ExifImageHeight | 776 |
ExifImageWidth | 800 |
Exposure | 0.00 |
ExposureCompensation | 0 |
ExposureMode | Auto |
ExposureProgram | Aperture-priority AE |
ExposureTime | 1/250 |
FillLight | 0 |
Firmware | 1.0.5 |
Flash | Off, Did not fire |
FlashCompensation | 0 |
FlashFired | False |
FlashFunction | False |
FlashMode | Off |
FlashRedEyeMode | False |
FlashReturn | No return detection |
FNumber | 7.1 |
FocalLength | 105.0 mm |
FocalLength35efl | 105.0 mm (35 mm equivalent: 166.4 mm) |
Format | image/jpeg |
FOV | 12.3 deg |
GrainAmount | 0 |
GreenHue | 0 |
GreenSaturation | 0 |
HasCrop | True |
HasSettings | True |
HighlightRecovery | 0 |
HueAdjustmentAqua | 0 |
HueAdjustmentBlue | 0 |
HueAdjustmentGreen | 0 |
HueAdjustmentMagenta | 0 |
HueAdjustmentOrange | 0 |
HueAdjustmentPurple | 0 |
HueAdjustmentRed | 0 |
HueAdjustmentYellow | 0 |
HyperfocalDistance | 81.89 m |
ICCProfileName | sRGB IEC61966-2.1 |
ImageDescription | Braun yellow butterfly on a pink flower. |
ImageHeight (1) | 3083 |
ImageHeight | 776 |
ImageNumber | 0 |
ImageSize | 800x776 |
ImageWidth (1) | 3046 |
ImageWidth | 800 |
ISO | 200 |
Keywords | animal, antenna, beautiful, beauty, blossom, bright, bugs, butterfly, color, colorful, delicate, ecology, environment, exoticism, feeding, flora, flower, flying, focus, foliage, foreground, garden, green, growth, insect, invertebrate, life, light, macro, metamorphosis, metaphors, migration, native, natural, nature, outdoor, petals, pink, plant, pollen, real, scent, season, spring, summer, tropic, vivid, wing, yellow, commonbrimstone |
Lens | EF24-105mm f/4L IS USM |
LensID (1) | 237 |
LensID | Canon EF 24-105mm f/4L IS USM |
LensInfo | 24-105mm f/? |
LensManualDistortionAmount | 0 |
LensProfileChromaticAberrationScale | 100 |
LensProfileDistortionScale | 100 |
LensProfileEnable | 1 |
LensProfileFilename | Canon EOS-1Ds Mark III (Canon EF 24-105mm f4 L IS USM) - RAW.lcp |
LensProfileName | Adobe (Canon EF 24-105mm f/4 L IS USM) |
LensProfileSetup | LensDefaults |
LensProfileVignettingScale | 100 |
LightValue | 12.6 |
LuminanceAdjustmentAqua | 0 |
LuminanceAdjustmentBlue | 0 |
LuminanceAdjustmentGreen | 0 |
LuminanceAdjustmentMagenta | 0 |
LuminanceAdjustmentOrange | 0 |
LuminanceAdjustmentPurple | 0 |
LuminanceAdjustmentRed | 0 |
LuminanceAdjustmentYellow | 0 |
LuminanceSmoothing | 0 |
Make | Canon |
Marked | True |
MaxApertureValue | 4.0 |
Megapixels | 0.621 |
MeteringMode | Multi-segment |
Model | Canon EOS 50D |
ModifyDate (1) | 2011:09:16 09:52:04+02:00 |
ModifyDate | 2011:09:16 09:52:04 |
ObjectName | Butterfly |
Orientation | Horizontal (normal) |
ParametricDarks | -9 |
ParametricHighlights | 0 |
ParametricHighlightSplit | 75 |
ParametricLights | +23 |
ParametricMidtoneSplit | 50 |
ParametricShadows | 0 |
ParametricShadowSplit | 25 |
PerspectiveHorizontal | 0 |
PerspectiveRotate | 0.0 |
PerspectiveScale | 100 |
PerspectiveVertical | 0 |
PostCropVignetteAmount | -31 |
PostCropVignetteFeather | 64 |
PostCropVignetteHighlightContrast | 0 |
PostCropVignetteMidpoint | 9 |
PostCropVignetteRoundness | +7 |
PostCropVignetteStyle | 1 |
ProcessVersion | 5.7 |
ProfileDescription | sRGB IEC61966-2.1 |
Rating | 5 |
RedHue | 0 |
RedSaturation | 0 |
Rights | Copyright Birgitta Sjöstedt 2011 |
Saturation | 0 |
SaturationAdjustmentAqua | 0 |
SaturationAdjustmentBlue | 0 |
SaturationAdjustmentGreen | 0 |
SaturationAdjustmentMagenta | 0 |
SaturationAdjustmentOrange | +8 |
SaturationAdjustmentPurple | 0 |
SaturationAdjustmentRed | 0 |
SaturationAdjustmentYellow | +10 |
ScaleFactor35efl | 1.6 |
SceneCaptureType | Standard |
SerialNumber | 730400804 |
Shadows | 13 |
ShadowTint | 0 |
SharpenDetail | 11 |
SharpenEdgeMasking | 39 |
SharpenRadius | +0.8 |
Sharpness | 43 |
ShutterSpeed | 1/250 |
ShutterSpeedValue | 1/250 |
Software | Adobe Photoshop Elements 8.0 Windows |
SplitToningBalance | 0 |
SplitToningHighlightHue | 0 |
SplitToningHighlightSaturation | 0 |
SplitToningShadowHue | 0 |
SplitToningShadowSaturation | 0 |
Subject | animal, antenna, beautiful, beauty, blossom, bright, bugs, butterfly, color, colorful, delicate, ecology, environment, exoticism, feeding, flora, flower, flying, focus, foliage, foreground, garden, green, growth, insect, invertebrate, life, light, macro, metamorphosis, metaphors, migration, native, natural, nature, outdoor, petals, pink, plant, pollen, real, scent, season, spring, summer, tropic, vivid, wing, yellow, commonbrimstone |
SubjectDistance | 0.53 m |
Tint | +40 |
Title | Butterfly |
ToneCurve | 0, 0, 32, 22, 64, 56, 128, 128, 192, 196, 255, 255 |
ToneCurveName | Medium Contrast |
URL_List | |
UsageTerms | Ingen användning av något slag utan tillstånd av upprättsinnehavaren |
Version | 6.1 |
Vibrance | +21 |
VignetteAmount | 0 |
WhiteBalance (2) | As Shot |
WhiteBalance | Auto |