Felt | Verdi |
AlreadyApplied | True |
Aperture | 4.0 |
ApertureValue | 4.0 |
ApproximateFocusDistance | 1.23 |
BitsPerSample | 8 |
BlueHue | 0 |
BlueSaturation | 0 |
Brightness | +50 |
CameraProfile | Adobe Standard |
ChromaticAberrationB | 0 |
ChromaticAberrationR | 0 |
CircleOfConfusion | 0.031 mm |
Clarity | +60 |
ColorComponents | 1 |
ColorMode | Grayscale |
ColorNoiseReduction | 25 |
ColorNoiseReductionDetail | 50 |
ColorSpace | Uncalibrated |
ColorTemperature | 5150 |
Contrast | +69 |
ConvertToGrayscale | True |
CreateDate (1) | 2011:09:17 03:28:18.38 |
CreateDate | 2011:09:17 03:28:18 |
CropAngle | 0 |
CropBottom | 1 |
CropConstrainToWarp | 1 |
CropLeft | 0.107949 |
CropRight | 0.819431 |
CropTop | 0.089838 |
CustomRendered | Normal |
DateCreated (1) | 2011:09:17 |
DateCreated | 2011:09:17 03:28:18.038 |
DateTimeOriginal | 2011:09:17 03:28:18 |
Defringe | 0 |
DOF | 0.18 m (1.15 - 1.33 m) |
ExifImageHeight | 3408 |
ExifImageWidth | 3996 |
Exposure | +0.45 |
ExposureCompensation | 0 |
ExposureMode | Manual |
ExposureProgram | Manual |
ExposureTime | 1/400 |
FillLight | 23 |
Firmware | 2.0.9 |
Flash | Off, Did not fire |
FlashCompensation | 0 |
FNumber | 4.0 |
FocalLength | 45.0 mm |
FocalLength35efl | 45.0 mm (35 mm equivalent: 43.9 mm) |
Format | image/jpeg |
FOV | 44.6 deg |
GrainAmount | 0 |
GrayMixerAqua | -15 |
GrayMixerBlue | -29 |
GrayMixerGreen | -6 |
GrayMixerMagenta | -31 |
GrayMixerOrange | -18 |
GrayMixerPurple | +28 |
GrayMixerRed | -19 |
GrayMixerYellow | -7 |
GreenHue | 0 |
GreenSaturation | 0 |
HasCrop | True |
HasSettings | True |
HighlightRecovery | 0 |
HyperfocalDistance | 16.44 m |
ICCProfileName | Gray Gamma 2.2 |
ImageHeight | 3408 |
ImageNumber | 0 |
ImageSize | 3996x3408 |
ImageWidth | 3996 |
ISO | 50 |
Lens | EF24-105mm f/4L IS USM |
LensID (1) | 237 |
LensID | Canon EF 24-105mm f/4L IS USM |
LensInfo | 24-105mm f/? |
LensManualDistortionAmount | 0 |
LensModel | EF24-105mm f/4L IS USM |
LensProfileEnable | 0 |
LensProfileSetup | LensDefaults |
LightValue | 13.6 |
LuminanceNoiseReductionContrast | 0 |
LuminanceNoiseReductionDetail | 50 |
LuminanceSmoothing | 73 |
Make | Canon |
MaxApertureValue | 4.0 |
Megapixels | 13.6 |
MeteringMode | Multi-segment |
Model | Canon EOS 5D Mark II |
ModifyDate (1) | 2011:09:20 17:44:53+02:00 |
ModifyDate | 2011:09:20 17:44:53 |
Orientation | Horizontal (normal) |
ParametricDarks | 0 |
ParametricHighlights | 0 |
ParametricHighlightSplit | 75 |
ParametricLights | 0 |
ParametricMidtoneSplit | 50 |
ParametricShadows | 0 |
ParametricShadowSplit | 25 |
PerspectiveHorizontal | 0 |
PerspectiveRotate | 0.0 |
PerspectiveScale | 100 |
PerspectiveVertical | 0 |
PostCropVignetteAmount | 0 |
ProcessVersion | 5.7 |
ProfileDescription | Gray Gamma 2.2 |
Rating | 0 |
RawFileName | IMG_0556.CR2 |
RedHue | 0 |
RedSaturation | 0 |
ScaleFactor35efl | 1.0 |
SceneCaptureType | Standard |
SerialNumber | 3421607846 |
Shadows | 16 |
ShadowTint | 0 |
SharpenDetail | 25 |
SharpenEdgeMasking | 0 |
SharpenRadius | +1.0 |
Sharpness | 127 |
ShutterSpeed | 1/400 |
ShutterSpeedValue | 1/400 |
Software | Adobe Photoshop CS5.1 Windows |
SplitToningBalance | 0 |
SplitToningHighlightHue | 0 |
SplitToningHighlightSaturation | 0 |
SplitToningShadowHue | 0 |
SplitToningShadowSaturation | 0 |
SubjectDistance | 1.23 m |
Tint | +1 |
ToneCurve | 0, 0, 32, 22, 64, 56, 128, 128, 192, 196, 255, 255 |
ToneCurveName | Medium Contrast |
URL_List | |
Version | 6.4.1 |
VignetteAmount | 0 |
WhiteBalance (1) | Custom |
WhiteBalance | Manual |