Felt | Verdi |
AlreadyApplied | True |
Aperture | 2.0 |
ApertureValue | 2.0 |
ApproximateFocusDistance | 0.16 |
BitsPerSample | 8 |
BlueHue | 0 |
BlueSaturation | 0 |
Brightness | +50 |
CameraProfile | Adobe Standard |
ChromaticAberrationB | 0 |
ChromaticAberrationR | 0 |
CircleOfConfusion | 0.006 mm |
Clarity | 0 |
ColorComponents | 3 |
ColorMode | RGB |
ColorNoiseReduction | 25 |
ColorNoiseReductionDetail | 50 |
ColorSpace | sRGB |
ColorTemperature | 4350 |
Contrast | +18 |
ConvertToGrayscale | True |
CreateDate | 2011:09:25 15:09:34 |
CropAngle | 0 |
CropBottom | 0.884861 |
CropConstrainToWarp | 1 |
CropLeft | 0.0672 |
CropRight | 0.9328 |
CropTop | 0.046908 |
CustomRendered | Normal |
DateCreated (1) | 2011:09:25 |
DateCreated | 2011:09:25 15:09:34 |
DateTimeOriginal | 2011:09:25 15:09:34 |
Defringe | 0 |
DigitalZoomRatio | 1 |
DOF | 0.018 m (0.152 - 0.169 m) |
ExifImageHeight | 3158 |
ExifImageWidth | 2293 |
Exposure | 0.00 |
ExposureCompensation | 0 |
ExposureMode | Manual |
ExposureTime | 1/100 |
FillLight | 0 |
Firmware | 1.00 |
Flash | Off, Did not fire |
FlashCompensation | 0 |
FNumber | 2.0 |
FocalLength | 6.0 mm |
FocalLength35efl | 6.0 mm (35 mm equivalent: 28.0 mm) |
Format | image/jpeg |
FOV | 65.5 deg |
GrainAmount | 0 |
GrayMixerAqua | -18 |
GrayMixerBlue | +10 |
GrayMixerGreen | -27 |
GrayMixerMagenta | +5 |
GrayMixerOrange | -19 |
GrayMixerPurple | +17 |
GrayMixerRed | -9 |
GrayMixerYellow | -23 |
GreenHue | 0 |
GreenSaturation | 0 |
HasCrop | True |
HasSettings | True |
HighlightRecovery | 0 |
HyperfocalDistance | 2.80 m |
ICCProfileName | sRGB IEC61966-2.1 |
ImageHeight | 3158 |
ImageSize | 2293x3158 |
ImageWidth | 2293 |
ISO | 200 |
Lens | 6.0-22.5 mm |
LensInfo | 6-22.5mm f/? |
LensManualDistortionAmount | 0 |
LensModel | 6.0-22.5 mm |
LensProfileEnable | 0 |
LensProfileSetup | LensDefaults |
LightValue | 7.6 |
LuminanceSmoothing | 0 |
Make | Canon |
MaxApertureValue | 2.0 |
Megapixels | 7.2 |
MeteringMode | Multi-segment |
Model | Canon PowerShot S95 |
ModifyDate (1) | 2011:09:25 22:45:28+02:00 |
ModifyDate | 2011:09:25 22:45:28 |
Orientation | Horizontal (normal) |
ParametricDarks | +18 |
ParametricHighlights | -32 |
ParametricHighlightSplit | 75 |
ParametricLights | -6 |
ParametricMidtoneSplit | 50 |
ParametricShadows | -14 |
ParametricShadowSplit | 25 |
PerspectiveHorizontal | 0 |
PerspectiveRotate | 0.0 |
PerspectiveScale | 100 |
PerspectiveVertical | 0 |
PostCropVignetteAmount | 0 |
ProcessVersion | 5.7 |
ProfileDescription | sRGB IEC61966-2.1 |
Rating | 0 |
RawFileName | IMG_0021.CR2 |
RedHue | 0 |
RedSaturation | 0 |
ScaleFactor35efl | 4.7 |
SceneCaptureType | Standard |
SensingMethod | One-chip color area |
SensitivityType | Standard Output Sensitivity and Recommended Exposure Index |
Shadows | 5 |
ShadowTint | 0 |
SharpenDetail | 54 |
SharpenEdgeMasking | 0 |
SharpenRadius | +1.2 |
Sharpness | 83 |
ShutterSpeed | 1/100 |
ShutterSpeedValue | 1/100 |
Software | Adobe Photoshop CS5.1 Windows |
SplitToningBalance | 0 |
SplitToningHighlightHue | 29 |
SplitToningHighlightSaturation | 14 |
SplitToningShadowHue | 42 |
SplitToningShadowSaturation | 7 |
SubjectDistance | 0.16 m |
Tint | +3 |
ToneCurve | 0, 0, 32, 22, 64, 56, 128, 128, 192, 196, 255, 255 |
ToneCurveName | Medium Contrast |
URL_List | |
Version | 6.4.1 |
VignetteAmount | 0 |
WhiteBalance (1) | Custom |
WhiteBalance | Auto |