Felt | Verdi |
AlreadyApplied | True |
Aperture | 2.8 |
ApertureValue | 2.8 |
BitsPerSample | 8 |
BlueHue | 0 |
BlueSaturation | 0 |
Brightness | +50 |
CameraProfile | Adobe Standard |
CFAPattern | [Red,Green][Green,Blue] |
ChromaticAberrationB | 0 |
ChromaticAberrationR | 0 |
CircleOfConfusion | 0.020 mm |
Clarity | +35 |
ColorComponents | 3 |
ColorNoiseReduction | 25 |
ColorNoiseReductionDetail | 50 |
ColorTemperature | 6583 |
Contrast (1) | +64 |
Contrast | Normal |
ConvertToGrayscale | False |
CreateDate (1) | 2011:09:13 18:04:22.25 |
CreateDate | 2011:09:13 18:04:22 |
CreatorTool | Adobe Photoshop Lightroom 3.4.1 |
CropAngle | 0 |
CropBottom | 1 |
CropConstrainToWarp | 0 |
CropHeight | 643 |
CropLeft | 0.069903 |
CropRight | 1 |
CropTop | 0.099415 |
CropUnit | pixels |
CropWidth | 1000 |
CustomRendered | Normal |
DateCreated (1) | 2011:09:13 |
DateCreated | 2011:09:13 18:04:22.25 |
DateTimeOriginal | 2011:09:13 18:04:22 |
Defringe | 0 |
DigitalZoomRatio | 1 |
Exposure | +0.25 |
ExposureCompensation | 0 |
ExposureMode | Auto |
ExposureProgram | Aperture-priority AE |
ExposureTime | 1/125 |
FillLight | 0 |
Flash | No Flash |
FNumber | 2.8 |
FocalLength | 21.0 mm |
FocalLength35efl | 21.0 mm (35 mm equivalent: 31.0 mm) |
FocalLengthIn35mmFormat | 31 mm |
FOV | 60.3 deg |
GainControl | Low gain up |
GrainAmount | 0 |
GreenHue | 0 |
GreenSaturation | 0 |
HasCrop | True |
HasSettings | True |
HighlightRecovery | 0 |
HueAdjustmentAqua | 0 |
HueAdjustmentBlue | 0 |
HueAdjustmentGreen | 0 |
HueAdjustmentMagenta | 0 |
HueAdjustmentOrange | 0 |
HueAdjustmentPurple | 0 |
HueAdjustmentRed | 0 |
HueAdjustmentYellow | 0 |
HyperfocalDistance | 7.74 m |
ImageHeight | 643 |
ImageNumber | 11204 |
ImageSize | 1000x643 |
ImageWidth | 1000 |
ISO | 400 |
Lens | Zeiss Distagon T* 2.8/21 ZF.2 |
LensInfo | 21mm f/2.8 |
LensManualDistortionAmount | 0 |
LensModel | Zeiss Distagon T* 2.8/21 ZF.2 |
LensProfileEnable | 0 |
LensProfileSetup | LensDefaults |
LightSource | Cloudy |
LightValue | 7.9 |
LuminanceAdjustmentAqua | +3 |
LuminanceAdjustmentBlue | +5 |
LuminanceAdjustmentGreen | -24 |
LuminanceAdjustmentMagenta | 0 |
LuminanceAdjustmentOrange | -15 |
LuminanceAdjustmentPurple | 0 |
LuminanceAdjustmentRed | +9 |
LuminanceAdjustmentYellow | -7 |
LuminanceSmoothing | 0 |
Make | NIKON CORPORATION |
MaxApertureValue | 2.8 |
Megapixels | 0.643 |
MeteringMode | Multi-segment |
Model | NIKON D300 |
ModifyDate (1) | 2011:09:14 06:30:37+02:00 |
ModifyDate | 2011:09:14 06:30:37 |
ParametricDarks | +8 |
ParametricHighlights | -4 |
ParametricHighlightSplit | 75 |
ParametricLights | -12 |
ParametricMidtoneSplit | 50 |
ParametricShadows | +29 |
ParametricShadowSplit | 25 |
PerspectiveHorizontal | 0 |
PerspectiveRotate | 0.0 |
PerspectiveScale | 105 |
PerspectiveVertical | 0 |
PostCropVignetteAmount | 0 |
ProcessVersion | 5.7 |
ProfileDescription | sRGB IEC61966-2.1 |
RedHue | 0 |
RedSaturation | 0 |
Saturation (1) | +15 |
Saturation | High |
SaturationAdjustmentAqua | 0 |
SaturationAdjustmentBlue | 0 |
SaturationAdjustmentGreen | +24 |
SaturationAdjustmentMagenta | 0 |
SaturationAdjustmentOrange | +26 |
SaturationAdjustmentPurple | 0 |
SaturationAdjustmentRed | +9 |
SaturationAdjustmentYellow | +28 |
ScaleFactor35efl | 1.5 |
SceneCaptureType | Standard |
SceneType | Directly photographed |
SensingMethod | One-chip color area |
SerialNumber | 4020049 |
Shadows | 5 |
ShadowTint | 0 |
SharpenDetail | 36 |
SharpenEdgeMasking | 0 |
SharpenRadius | +1.0 |
Sharpness (1) | 61 |
Sharpness | Hard |
ShutterSpeed | 1/125 |
ShutterSpeedValue | 1/125 |
Software | Adobe Photoshop Lightroom 3.4.1 |
SplitToningBalance | 0 |
SplitToningHighlightHue | 0 |
SplitToningHighlightSaturation | 0 |
SplitToningShadowHue | 0 |
SplitToningShadowSaturation | 0 |
SubjectDistanceRange | Unknown |
Tint | -6 |
ToneCurve | 0, 0, 32, 22, 64, 56, 128, 128, 192, 196, 255, 255 |
ToneCurveName | Medium Contrast |
Version | 6.4.1 |
Vibrance | +17 |
VignetteAmount | 0 |
WhiteBalance (1) | Custom |
WhiteBalance | Manual |