Felt | Verdi |
AlreadyApplied | True |
Aperture | 16.0 |
ApertureValue | 16.0 |
ApproximateFocusDistance | 4294967295 |
Artist | KARIN_SKEDSMO |
BitsPerSample | 8 |
BlueHue | 0 |
BlueSaturation | 0 |
Brightness | 0 |
By-line | KARIN_SKEDSMO |
CameraProfile | Embedded |
CFAPattern | [Red,Green][Green,Blue] |
ChromaticAberrationB | 0 |
ChromaticAberrationR | 0 |
CircleOfConfusion | 0.020 mm |
Clarity | +84 |
ColorComponents | 3 |
ColorMode | RGB |
ColorNoiseReduction | 39 |
ColorNoiseReductionDetail | 50 |
ColorSpace | sRGB |
Contrast (2) | +44 |
Contrast | Normal |
ConvertToGrayscale | False |
Copyright | COPORIGHT-TLF,004741766478 |
CopyrightNotice | COPORIGHT-TLF,004741766478 |
CreateDate (1) | 2011:10:01 13:19:11.34 |
CreateDate | 2011:10:01 13:19:11 |
Creator | KARIN_SKEDSMO |
CreatorTool | Ver.1.10 |
CustomRendered | Normal |
DateCreated | 2011:10:01 |
DateTimeDigitized | 2011:10:01 13:19:11+02:00 |
DateTimeOriginal (1) | 2011:10:01 13:19:11.34 |
DateTimeOriginal | 2011:10:01 13:19:11 |
Defringe | 0 |
DigitalZoomRatio | 1 |
DOF | inf (15.29 m - inf) |
ExifImageHeight | 2848 |
ExifImageWidth | 4288 |
Exposure | 0.00 |
ExposureCompensation | 0 |
ExposureMode | Auto |
ExposureProgram | Aperture-priority AE |
ExposureTime | 1/50 |
FillLight | 18 |
Flash | No Flash |
FlashFired | False |
FlashFunction | False |
FlashMode | Unknown |
FlashRedEyeMode | False |
FlashReturn | No return detection |
FNumber | 16.0 |
FocalLength | 70.0 mm |
FocalLength35efl | 70.0 mm (35 mm equivalent: 105.0 mm) |
FocalLengthIn35mmFormat | 105 mm |
Format | image/jpeg |
FOV | 19.5 deg |
GainControl | None |
GrainAmount | 0 |
GreenHue | 0 |
GreenSaturation | 0 |
HasCrop | False |
HasSettings | True |
HighlightRecovery | 50 |
HueAdjustmentAqua | 0 |
HueAdjustmentBlue | 0 |
HueAdjustmentGreen | 0 |
HueAdjustmentMagenta | 0 |
HueAdjustmentOrange | 0 |
HueAdjustmentPurple | 0 |
HueAdjustmentRed | 0 |
HueAdjustmentYellow | 0 |
HyperfocalDistance | 15.29 m |
ICCProfileName | sRGB IEC61966-2.1 |
ImageHeight | 2848 |
ImageNumber | 4129 |
ImageSize | 4288x2848 |
ImageWidth | 4288 |
IncrementalTemperature | 0 |
IncrementalTint | 0 |
ISO | 160 |
Lens | 28.0-70.0 mm f/3.5-4.5 |
LensID (1) | 38 |
LensID | AF Zoom-Nikkor 28-70mm f/3.5-4.5D |
LensInfo | 28-70mm f/3.5-4.5 |
LensManualDistortionAmount | 0 |
LensModel | 28.0-70.0 mm f/3.5-4.5 |
LensProfileEnable | 0 |
LensProfileSetup | LensDefaults |
LightSource | Unknown |
LightValue | 13.0 |
LuminanceAdjustmentAqua | 0 |
LuminanceAdjustmentBlue | 0 |
LuminanceAdjustmentGreen | 0 |
LuminanceAdjustmentMagenta | 0 |
LuminanceAdjustmentOrange | 0 |
LuminanceAdjustmentPurple | 0 |
LuminanceAdjustmentRed | 0 |
LuminanceAdjustmentYellow | 0 |
LuminanceNoiseReductionContrast | 0 |
LuminanceNoiseReductionDetail | 50 |
LuminanceSmoothing | 35 |
Make | NIKON CORPORATION |
MaxApertureValue | 4.4 |
Megapixels | 12.2 |
MeteringMode | Multi-segment |
Model | NIKON D300 |
ModifyDate (1) | 2011:10:02 14:52:51+02:00 |
ModifyDate | 2011:10:02 14:52:51 |
Orientation | Horizontal (normal) |
ParametricDarks | 0 |
ParametricHighlights | 0 |
ParametricHighlightSplit | 75 |
ParametricLights | 0 |
ParametricMidtoneSplit | 50 |
ParametricShadows | 0 |
ParametricShadowSplit | 25 |
PerspectiveHorizontal | 0 |
PerspectiveRotate | 0.0 |
PerspectiveScale | 100 |
PerspectiveVertical | 0 |
PostCropVignetteAmount | 0 |
ProcessVersion | 5.7 |
ProfileDescription | sRGB IEC61966-2.1 |
Rating | 0 |
RawFileName | DSC_4074.JPG |
RedHue | 0 |
RedSaturation | 0 |
Rights | COPORIGHT-TLF,004741766478 |
Saturation (2) | +49 |
Saturation | Normal |
SaturationAdjustmentAqua | 0 |
SaturationAdjustmentBlue | 0 |
SaturationAdjustmentGreen | 0 |
SaturationAdjustmentMagenta | 0 |
SaturationAdjustmentOrange | 0 |
SaturationAdjustmentPurple | 0 |
SaturationAdjustmentRed | 0 |
SaturationAdjustmentYellow | 0 |
ScaleFactor35efl | 1.5 |
SceneCaptureType | Standard |
SceneType | Directly photographed |
SensingMethod | One-chip color area |
SerialNumber | 4086478 |
Shadows | 21 |
ShadowTint | 0 |
SharpenDetail | 25 |
SharpenEdgeMasking | 0 |
SharpenRadius | +1.0 |
Sharpness (2) | 31 |
Sharpness | Normal |
ShutterSpeed | 1/50 |
ShutterSpeedValue | 1/50 |
Software | Adobe Photoshop Elements 9.0 Macintosh |
SplitToningBalance | 0 |
SplitToningHighlightHue | 0 |
SplitToningHighlightSaturation | 0 |
SplitToningShadowHue | 0 |
SplitToningShadowSaturation | 0 |
SubjectDistance | 4294967295 m |
SubjectDistanceRange | Unknown |
ToneCurve | 0, 0, 255, 255 |
ToneCurveName | Linear |
URL_List | |
Version | 6.4 |
Vibrance | +83 |
VignetteAmount | 0 |
WhiteBalance (2) | As Shot |
WhiteBalance | Auto |